BEGIN:VCALENDAR
VERSION:2.0
PRODID:-//Whole Washington - ECPv6.15.20//NONSGML v1.0//EN
CALSCALE:GREGORIAN
METHOD:PUBLISH
X-WR-CALNAME:Whole Washington
X-ORIGINAL-URL:https://wholewashington.org
X-WR-CALDESC:Events for Whole Washington
REFRESH-INTERVAL;VALUE=DURATION:PT1H
X-Robots-Tag:noindex
X-PUBLISHED-TTL:PT1H
BEGIN:VTIMEZONE
TZID:America/Los_Angeles
BEGIN:DAYLIGHT
TZOFFSETFROM:-0800
TZOFFSETTO:-0700
TZNAME:PDT
DTSTART:20250309T100000
END:DAYLIGHT
BEGIN:STANDARD
TZOFFSETFROM:-0700
TZOFFSETTO:-0800
TZNAME:PST
DTSTART:20251102T090000
END:STANDARD
BEGIN:DAYLIGHT
TZOFFSETFROM:-0800
TZOFFSETTO:-0700
TZNAME:PDT
DTSTART:20260308T100000
END:DAYLIGHT
BEGIN:STANDARD
TZOFFSETFROM:-0700
TZOFFSETTO:-0800
TZNAME:PST
DTSTART:20261101T090000
END:STANDARD
BEGIN:DAYLIGHT
TZOFFSETFROM:-0800
TZOFFSETTO:-0700
TZNAME:PDT
DTSTART:20270314T100000
END:DAYLIGHT
BEGIN:STANDARD
TZOFFSETFROM:-0700
TZOFFSETTO:-0800
TZNAME:PST
DTSTART:20271107T090000
END:STANDARD
END:VTIMEZONE
BEGIN:VEVENT
DTSTART;TZID=America/Los_Angeles:20260418T100000
DTEND;TZID=America/Los_Angeles:20260418T110000
DTSTAMP:20260420T014222
CREATED:20260324T202557Z
LAST-MODIFIED:20260401T215049Z
UID:10008266-1776506400-1776510000@wholewashington.org
SUMMARY:Snohomish County Meetup
DESCRIPTION:Whole WA Snohomish is doing our April meetup at the Marysville library! Let’s get together and make healthcare happen. \nWhen: Saturday\, April 18\, 10am \nWhere: 6120 Grove St\, Marysville\, WA 98270 \nRSVP to get the link to the Google Meet if you’re attending virtually: \n \n\n 
URL:https://wholewashington.org/event/snohomish-county-monthly-meeting/
LOCATION:Marysville Library\, 6120 Grove St.\, Marysville\, WA\, 98270\, United States
CATEGORIES:Snohomish,Team Meeting
ATTACH;FMTTYPE=image/png:https://wholewashington.org/wp-content/uploads/2026/03/Snohomish-County-e1774383880156.png
END:VEVENT
BEGIN:VEVENT
DTSTART;TZID=America/Los_Angeles:20260418T110000
DTEND;TZID=America/Los_Angeles:20260418T133000
DTSTAMP:20260420T014222
CREATED:20260331T185721Z
LAST-MODIFIED:20260401T214848Z
UID:10008270-1776510000-1776519000@wholewashington.org
SUMMARY:Pierce County Meetup
DESCRIPTION:The next Pierce County meeting will be on April 18th at the Fern Hill Branch Library 11am to 1:30pm.765 S 84th St\, Tacoma\, WA 98444 \nPlease bring your healthcare story! How would you like to volunteer?Ask questions about the recent Legislative session!If you want to bring a friend please do! \nRSVP below to let us know you’ll be there: \n \n\n 
URL:https://wholewashington.org/event/pierce-county-meeting/
LOCATION:Fern Hill Branch Library\, 765 S 84th St\, Tacoma\, 98444\, United States
CATEGORIES:Pierce,Team Meeting,Volunteer local meet up
ATTACH;FMTTYPE=image/png:https://wholewashington.org/wp-content/uploads/2026/03/Pierce-County-e1774983418288.png
END:VEVENT
END:VCALENDAR