BEGIN:VCALENDAR
VERSION:2.0
PRODID:-//Whole Washington - ECPv6.15.20//NONSGML v1.0//EN
CALSCALE:GREGORIAN
METHOD:PUBLISH
X-WR-CALNAME:Whole Washington
X-ORIGINAL-URL:https://wholewashington.org
X-WR-CALDESC:Events for Whole Washington
REFRESH-INTERVAL;VALUE=DURATION:PT1H
X-Robots-Tag:noindex
X-PUBLISHED-TTL:PT1H
BEGIN:VTIMEZONE
TZID:America/Los_Angeles
BEGIN:DAYLIGHT
TZOFFSETFROM:-0800
TZOFFSETTO:-0700
TZNAME:PDT
DTSTART:20250309T100000
END:DAYLIGHT
BEGIN:STANDARD
TZOFFSETFROM:-0700
TZOFFSETTO:-0800
TZNAME:PST
DTSTART:20251102T090000
END:STANDARD
BEGIN:DAYLIGHT
TZOFFSETFROM:-0800
TZOFFSETTO:-0700
TZNAME:PDT
DTSTART:20260308T100000
END:DAYLIGHT
BEGIN:STANDARD
TZOFFSETFROM:-0700
TZOFFSETTO:-0800
TZNAME:PST
DTSTART:20261101T090000
END:STANDARD
BEGIN:DAYLIGHT
TZOFFSETFROM:-0800
TZOFFSETTO:-0700
TZNAME:PDT
DTSTART:20270314T100000
END:DAYLIGHT
BEGIN:STANDARD
TZOFFSETFROM:-0700
TZOFFSETTO:-0800
TZNAME:PST
DTSTART:20271107T090000
END:STANDARD
END:VTIMEZONE
BEGIN:VEVENT
DTSTART;VALUE=DATE:20260422
DTEND;VALUE=DATE:20260423
DTSTAMP:20260422T224012
CREATED:20260119T045800Z
LAST-MODIFIED:20260119T045800Z
UID:10007498-1776816000-1776902399@wholewashington.org
SUMMARY:Holiday: Earth Day
DESCRIPTION:Whole Washington observes Earth Day! We encourage all volunteers and supporters to use the day as either a time to take action\, or as a day of rest and reflection. Whole Washington leadership\, organizers\, and staff should not be expected to hold meetings.
URL:https://wholewashington.org/event/holiday-earth-day/2026-04-22/
END:VEVENT
BEGIN:VEVENT
DTSTART;TZID=America/Los_Angeles:20260422T120000
DTEND;TZID=America/Los_Angeles:20260422T130000
DTSTAMP:20260422T224012
CREATED:20251108T195010Z
LAST-MODIFIED:20260422T054109Z
UID:10006546-1776859200-1776862800@wholewashington.org
SUMMARY:Social Media Team
DESCRIPTION:Help Whole Washington get its name out there and recruit new volunteers via social media. If you would like to learn about the team and get more involved\, please join this meeting!
URL:https://wholewashington.org/event/social-media-team-meeting/2026-04-22/
LOCATION:ZOOM
CATEGORIES:Online
ATTACH;FMTTYPE=image/png:https://wholewashington.org/wp-content/uploads/2025/11/Social-Media.png
ORGANIZER;CN="Thomas Kennedy":MAILTO:thomass.kennedy@gmail.com
END:VEVENT
BEGIN:VEVENT
DTSTART;TZID=America/Los_Angeles:20260422T173000
DTEND;TZID=America/Los_Angeles:20260422T183000
DTSTAMP:20260422T224012
CREATED:20260422T060405Z
LAST-MODIFIED:20260422T060406Z
UID:10008680-1776879000-1776882600@wholewashington.org
SUMMARY:[Cancelled] Initiative Team
DESCRIPTION:Initiative Team will skip this week in observance of Earth Day. Regular meeting schedule will resume next week.
URL:https://wholewashington.org/event/team-initiative-meeting-2/
CATEGORIES:Ballot Initiative,Online,Team Meeting
ATTACH;FMTTYPE=image/png:https://wholewashington.org/wp-content/uploads/2026/04/Initiative.png
END:VEVENT
END:VCALENDAR