BEGIN:VCALENDAR
VERSION:2.0
PRODID:-//Whole Washington - ECPv6.15.20//NONSGML v1.0//EN
CALSCALE:GREGORIAN
METHOD:PUBLISH
X-WR-CALNAME:Whole Washington
X-ORIGINAL-URL:https://wholewashington.org
X-WR-CALDESC:Events for Whole Washington
REFRESH-INTERVAL;VALUE=DURATION:PT1H
X-Robots-Tag:noindex
X-PUBLISHED-TTL:PT1H
BEGIN:VTIMEZONE
TZID:America/Los_Angeles
BEGIN:DAYLIGHT
TZOFFSETFROM:-0800
TZOFFSETTO:-0700
TZNAME:PDT
DTSTART:20250309T100000
END:DAYLIGHT
BEGIN:STANDARD
TZOFFSETFROM:-0700
TZOFFSETTO:-0800
TZNAME:PST
DTSTART:20251102T090000
END:STANDARD
BEGIN:DAYLIGHT
TZOFFSETFROM:-0800
TZOFFSETTO:-0700
TZNAME:PDT
DTSTART:20260308T100000
END:DAYLIGHT
BEGIN:STANDARD
TZOFFSETFROM:-0700
TZOFFSETTO:-0800
TZNAME:PST
DTSTART:20261101T090000
END:STANDARD
BEGIN:DAYLIGHT
TZOFFSETFROM:-0800
TZOFFSETTO:-0700
TZNAME:PDT
DTSTART:20270314T100000
END:DAYLIGHT
BEGIN:STANDARD
TZOFFSETFROM:-0700
TZOFFSETTO:-0800
TZNAME:PST
DTSTART:20271107T090000
END:STANDARD
END:VTIMEZONE
BEGIN:VEVENT
DTSTART;TZID=America/Los_Angeles:20260423T110000
DTEND;TZID=America/Los_Angeles:20260423T120000
DTSTAMP:20260423T021127
CREATED:20260227T070234Z
LAST-MODIFIED:20260422T053742Z
UID:10007728-1776942000-1776945600@wholewashington.org
SUMMARY:Legislative & Commission Advocacy Team
DESCRIPTION:Help Whole Washington become more powerful in the legislature and get universal healthcare signed into law. We will be developing our strategy for building support for the Washington Health Trust among legislators and members of the Universal Health Care Commission and applying political pressure where necessary to move things through the process. Some things you can do by working with this team: \n\nSet up a meeting with your Legislators to make tangible asks that support universal healthcare\nSubmit written comments that show support for our bills\nGive public testimony at committee hearings\, work sessions\, and commission meetings\nBuild a working relationship with your legislators and their staff\n\nYour actions are part of a legislative strategy that we build on this team! \nPlease RSVP below for the Zoom link: \n \n\nIf the embedded form does not load or work for any reason try this direct link:\nhttps://actionnetwork.org/forms/legislative-commission-advocacy-team-meeting?source=direct_link&
URL:https://wholewashington.org/event/legislative-commission-advocacy-team-meeting-4-3-2-3/2026-04-23/
CATEGORIES:Legislative
ATTACH;FMTTYPE=image/png:https://wholewashington.org/wp-content/uploads/2025/10/Legislative-e1774565264784.png
END:VEVENT
BEGIN:VEVENT
DTSTART;TZID=America/Los_Angeles:20260423T160000
DTEND;TZID=America/Los_Angeles:20260423T170000
DTSTAMP:20260423T021127
CREATED:20260106T020142Z
LAST-MODIFIED:20260422T054003Z
UID:10008285-1776960000-1776963600@wholewashington.org
SUMMARY:Gala Planning Committee
DESCRIPTION:It’s time to start planning for our 2026 gala! This is a recurring meeting for the 2026 Gala Committee currently scheduled for every other Thursday. \nRSVP using the form below for the link to the Zoom.
URL:https://wholewashington.org/event/2026-gala-committee-meeting-6/2026-04-23/
CATEGORIES:Online,Team Meeting
ATTACH;FMTTYPE=image/png:https://wholewashington.org/wp-content/uploads/2026/02/Gala-and-Events-e1773438771879.png
END:VEVENT
BEGIN:VEVENT
DTSTART;TZID=America/Los_Angeles:20260423T180000
DTEND;TZID=America/Los_Angeles:20260423T200000
DTSTAMP:20260423T021127
CREATED:20260414T041554Z
LAST-MODIFIED:20260422T054823Z
UID:10008995-1776967200-1776974400@wholewashington.org
SUMMARY:Campus Organizing Meeting
DESCRIPTION:Calling All Students\nLet’s bring the universal healthcare movement to your campus! No matter your year or academic program there are ways to connect with other students and to bring Whole Washington into campus life. Join to learn more about the social\, academic\, and professional opportunities! \nRSVP to receive Zoom Link
URL:https://wholewashington.org/event/organizing-for-universal-healthcare-on-campus-2/
CATEGORIES:Student Movement
ATTACH;FMTTYPE=image/png:https://wholewashington.org/wp-content/uploads/2026/03/Student-Movement.png
ORGANIZER;CN="Andre Stackhouse":MAILTO:andre@wholewashington.org
END:VEVENT
END:VCALENDAR