BEGIN:VCALENDAR
VERSION:2.0
PRODID:-//Whole Washington - ECPv6.15.20//NONSGML v1.0//EN
CALSCALE:GREGORIAN
METHOD:PUBLISH
X-WR-CALNAME:Whole Washington
X-ORIGINAL-URL:https://wholewashington.org
X-WR-CALDESC:Events for Whole Washington
REFRESH-INTERVAL;VALUE=DURATION:PT1H
X-Robots-Tag:noindex
X-PUBLISHED-TTL:PT1H
BEGIN:VTIMEZONE
TZID:America/Los_Angeles
BEGIN:DAYLIGHT
TZOFFSETFROM:-0800
TZOFFSETTO:-0700
TZNAME:PDT
DTSTART:20250309T100000
END:DAYLIGHT
BEGIN:STANDARD
TZOFFSETFROM:-0700
TZOFFSETTO:-0800
TZNAME:PST
DTSTART:20251102T090000
END:STANDARD
BEGIN:DAYLIGHT
TZOFFSETFROM:-0800
TZOFFSETTO:-0700
TZNAME:PDT
DTSTART:20260308T100000
END:DAYLIGHT
BEGIN:STANDARD
TZOFFSETFROM:-0700
TZOFFSETTO:-0800
TZNAME:PST
DTSTART:20261101T090000
END:STANDARD
BEGIN:DAYLIGHT
TZOFFSETFROM:-0800
TZOFFSETTO:-0700
TZNAME:PDT
DTSTART:20270314T100000
END:DAYLIGHT
BEGIN:STANDARD
TZOFFSETFROM:-0700
TZOFFSETTO:-0800
TZNAME:PST
DTSTART:20271107T090000
END:STANDARD
BEGIN:DAYLIGHT
TZOFFSETFROM:-0800
TZOFFSETTO:-0700
TZNAME:PDT
DTSTART:20280312T100000
END:DAYLIGHT
BEGIN:STANDARD
TZOFFSETFROM:-0700
TZOFFSETTO:-0800
TZNAME:PST
DTSTART:20281105T090000
END:STANDARD
END:VTIMEZONE
BEGIN:VEVENT
DTSTART;TZID=America/Los_Angeles:20260923T173000
DTEND;TZID=America/Los_Angeles:20260923T183000
DTSTAMP:20260420T050239
CREATED:20260401T223030Z
LAST-MODIFIED:20260413T170626Z
UID:10008702-1790184600-1790188200@wholewashington.org
SUMMARY:Team Initiative Meeting
DESCRIPTION:Join Whole Washington’s field organizers for regular planning meetings developing our next ballot initiative campaign! Help build public awareness\, trainings\, and signature gathering infrastructure to send universal healthcare to voters. \nRSVP below to receive the Zoom link:
URL:https://wholewashington.org/event/team-initiative-meeting/2026-09-23/
CATEGORIES:Ballot Initiative,Online,Team Meeting
ATTACH;FMTTYPE=image/png:https://wholewashington.org/wp-content/uploads/2026/04/Initiative.png
END:VEVENT
BEGIN:VEVENT
DTSTART;TZID=America/Los_Angeles:20260930T173000
DTEND;TZID=America/Los_Angeles:20260930T183000
DTSTAMP:20260420T050239
CREATED:20260401T223030Z
LAST-MODIFIED:20260413T170626Z
UID:10008703-1790789400-1790793000@wholewashington.org
SUMMARY:Team Initiative Meeting
DESCRIPTION:Join Whole Washington’s field organizers for regular planning meetings developing our next ballot initiative campaign! Help build public awareness\, trainings\, and signature gathering infrastructure to send universal healthcare to voters. \nRSVP below to receive the Zoom link:
URL:https://wholewashington.org/event/team-initiative-meeting/2026-09-30/
CATEGORIES:Ballot Initiative,Online,Team Meeting
ATTACH;FMTTYPE=image/png:https://wholewashington.org/wp-content/uploads/2026/04/Initiative.png
END:VEVENT
BEGIN:VEVENT
DTSTART;TZID=America/Los_Angeles:20261007T173000
DTEND;TZID=America/Los_Angeles:20261007T183000
DTSTAMP:20260420T050239
CREATED:20260401T223030Z
LAST-MODIFIED:20260413T170626Z
UID:10008704-1791394200-1791397800@wholewashington.org
SUMMARY:Team Initiative Meeting
DESCRIPTION:Join Whole Washington’s field organizers for regular planning meetings developing our next ballot initiative campaign! Help build public awareness\, trainings\, and signature gathering infrastructure to send universal healthcare to voters. \nRSVP below to receive the Zoom link:
URL:https://wholewashington.org/event/team-initiative-meeting/2026-10-07/
CATEGORIES:Ballot Initiative,Online,Team Meeting
ATTACH;FMTTYPE=image/png:https://wholewashington.org/wp-content/uploads/2026/04/Initiative.png
END:VEVENT
BEGIN:VEVENT
DTSTART;TZID=America/Los_Angeles:20261014T173000
DTEND;TZID=America/Los_Angeles:20261014T183000
DTSTAMP:20260420T050239
CREATED:20260401T223030Z
LAST-MODIFIED:20260413T170626Z
UID:10008705-1791999000-1792002600@wholewashington.org
SUMMARY:Team Initiative Meeting
DESCRIPTION:Join Whole Washington’s field organizers for regular planning meetings developing our next ballot initiative campaign! Help build public awareness\, trainings\, and signature gathering infrastructure to send universal healthcare to voters. \nRSVP below to receive the Zoom link:
URL:https://wholewashington.org/event/team-initiative-meeting/2026-10-14/
CATEGORIES:Ballot Initiative,Online,Team Meeting
ATTACH;FMTTYPE=image/png:https://wholewashington.org/wp-content/uploads/2026/04/Initiative.png
END:VEVENT
BEGIN:VEVENT
DTSTART;TZID=America/Los_Angeles:20261021T173000
DTEND;TZID=America/Los_Angeles:20261021T183000
DTSTAMP:20260420T050239
CREATED:20260401T223030Z
LAST-MODIFIED:20260413T170626Z
UID:10008706-1792603800-1792607400@wholewashington.org
SUMMARY:Team Initiative Meeting
DESCRIPTION:Join Whole Washington’s field organizers for regular planning meetings developing our next ballot initiative campaign! Help build public awareness\, trainings\, and signature gathering infrastructure to send universal healthcare to voters. \nRSVP below to receive the Zoom link:
URL:https://wholewashington.org/event/team-initiative-meeting/2026-10-21/
CATEGORIES:Ballot Initiative,Online,Team Meeting
ATTACH;FMTTYPE=image/png:https://wholewashington.org/wp-content/uploads/2026/04/Initiative.png
END:VEVENT
BEGIN:VEVENT
DTSTART;TZID=America/Los_Angeles:20261028T173000
DTEND;TZID=America/Los_Angeles:20261028T183000
DTSTAMP:20260420T050239
CREATED:20260401T223030Z
LAST-MODIFIED:20260413T170626Z
UID:10008707-1793208600-1793212200@wholewashington.org
SUMMARY:Team Initiative Meeting
DESCRIPTION:Join Whole Washington’s field organizers for regular planning meetings developing our next ballot initiative campaign! Help build public awareness\, trainings\, and signature gathering infrastructure to send universal healthcare to voters. \nRSVP below to receive the Zoom link:
URL:https://wholewashington.org/event/team-initiative-meeting/2026-10-28/
CATEGORIES:Ballot Initiative,Online,Team Meeting
ATTACH;FMTTYPE=image/png:https://wholewashington.org/wp-content/uploads/2026/04/Initiative.png
END:VEVENT
BEGIN:VEVENT
DTSTART;TZID=America/Los_Angeles:20261104T173000
DTEND;TZID=America/Los_Angeles:20261104T183000
DTSTAMP:20260420T050239
CREATED:20260401T223030Z
LAST-MODIFIED:20260413T170626Z
UID:10008708-1793813400-1793817000@wholewashington.org
SUMMARY:Team Initiative Meeting
DESCRIPTION:Join Whole Washington’s field organizers for regular planning meetings developing our next ballot initiative campaign! Help build public awareness\, trainings\, and signature gathering infrastructure to send universal healthcare to voters. \nRSVP below to receive the Zoom link:
URL:https://wholewashington.org/event/team-initiative-meeting/2026-11-04/
CATEGORIES:Ballot Initiative,Online,Team Meeting
ATTACH;FMTTYPE=image/png:https://wholewashington.org/wp-content/uploads/2026/04/Initiative.png
END:VEVENT
BEGIN:VEVENT
DTSTART;TZID=America/Los_Angeles:20261111T173000
DTEND;TZID=America/Los_Angeles:20261111T183000
DTSTAMP:20260420T050239
CREATED:20260401T223030Z
LAST-MODIFIED:20260413T170626Z
UID:10008709-1794418200-1794421800@wholewashington.org
SUMMARY:Team Initiative Meeting
DESCRIPTION:Join Whole Washington’s field organizers for regular planning meetings developing our next ballot initiative campaign! Help build public awareness\, trainings\, and signature gathering infrastructure to send universal healthcare to voters. \nRSVP below to receive the Zoom link:
URL:https://wholewashington.org/event/team-initiative-meeting/2026-11-11/
CATEGORIES:Ballot Initiative,Online,Team Meeting
ATTACH;FMTTYPE=image/png:https://wholewashington.org/wp-content/uploads/2026/04/Initiative.png
END:VEVENT
BEGIN:VEVENT
DTSTART;TZID=America/Los_Angeles:20261118T173000
DTEND;TZID=America/Los_Angeles:20261118T183000
DTSTAMP:20260420T050239
CREATED:20260401T223030Z
LAST-MODIFIED:20260413T170626Z
UID:10008710-1795023000-1795026600@wholewashington.org
SUMMARY:Team Initiative Meeting
DESCRIPTION:Join Whole Washington’s field organizers for regular planning meetings developing our next ballot initiative campaign! Help build public awareness\, trainings\, and signature gathering infrastructure to send universal healthcare to voters. \nRSVP below to receive the Zoom link:
URL:https://wholewashington.org/event/team-initiative-meeting/2026-11-18/
CATEGORIES:Ballot Initiative,Online,Team Meeting
ATTACH;FMTTYPE=image/png:https://wholewashington.org/wp-content/uploads/2026/04/Initiative.png
END:VEVENT
BEGIN:VEVENT
DTSTART;TZID=America/Los_Angeles:20261125T173000
DTEND;TZID=America/Los_Angeles:20261125T183000
DTSTAMP:20260420T050239
CREATED:20260401T223030Z
LAST-MODIFIED:20260413T170626Z
UID:10008711-1795627800-1795631400@wholewashington.org
SUMMARY:Team Initiative Meeting
DESCRIPTION:Join Whole Washington’s field organizers for regular planning meetings developing our next ballot initiative campaign! Help build public awareness\, trainings\, and signature gathering infrastructure to send universal healthcare to voters. \nRSVP below to receive the Zoom link:
URL:https://wholewashington.org/event/team-initiative-meeting/2026-11-25/
CATEGORIES:Ballot Initiative,Online,Team Meeting
ATTACH;FMTTYPE=image/png:https://wholewashington.org/wp-content/uploads/2026/04/Initiative.png
END:VEVENT
BEGIN:VEVENT
DTSTART;TZID=America/Los_Angeles:20261202T173000
DTEND;TZID=America/Los_Angeles:20261202T183000
DTSTAMP:20260420T050239
CREATED:20260401T223030Z
LAST-MODIFIED:20260413T170626Z
UID:10008712-1796232600-1796236200@wholewashington.org
SUMMARY:Team Initiative Meeting
DESCRIPTION:Join Whole Washington’s field organizers for regular planning meetings developing our next ballot initiative campaign! Help build public awareness\, trainings\, and signature gathering infrastructure to send universal healthcare to voters. \nRSVP below to receive the Zoom link:
URL:https://wholewashington.org/event/team-initiative-meeting/2026-12-02/
CATEGORIES:Ballot Initiative,Online,Team Meeting
ATTACH;FMTTYPE=image/png:https://wholewashington.org/wp-content/uploads/2026/04/Initiative.png
END:VEVENT
BEGIN:VEVENT
DTSTART;TZID=America/Los_Angeles:20261209T173000
DTEND;TZID=America/Los_Angeles:20261209T183000
DTSTAMP:20260420T050239
CREATED:20260401T223030Z
LAST-MODIFIED:20260413T170626Z
UID:10008713-1796837400-1796841000@wholewashington.org
SUMMARY:Team Initiative Meeting
DESCRIPTION:Join Whole Washington’s field organizers for regular planning meetings developing our next ballot initiative campaign! Help build public awareness\, trainings\, and signature gathering infrastructure to send universal healthcare to voters. \nRSVP below to receive the Zoom link:
URL:https://wholewashington.org/event/team-initiative-meeting/2026-12-09/
CATEGORIES:Ballot Initiative,Online,Team Meeting
ATTACH;FMTTYPE=image/png:https://wholewashington.org/wp-content/uploads/2026/04/Initiative.png
END:VEVENT
BEGIN:VEVENT
DTSTART;TZID=America/Los_Angeles:20261216T173000
DTEND;TZID=America/Los_Angeles:20261216T183000
DTSTAMP:20260420T050239
CREATED:20260401T223030Z
LAST-MODIFIED:20260413T170626Z
UID:10008714-1797442200-1797445800@wholewashington.org
SUMMARY:Team Initiative Meeting
DESCRIPTION:Join Whole Washington’s field organizers for regular planning meetings developing our next ballot initiative campaign! Help build public awareness\, trainings\, and signature gathering infrastructure to send universal healthcare to voters. \nRSVP below to receive the Zoom link:
URL:https://wholewashington.org/event/team-initiative-meeting/2026-12-16/
CATEGORIES:Ballot Initiative,Online,Team Meeting
ATTACH;FMTTYPE=image/png:https://wholewashington.org/wp-content/uploads/2026/04/Initiative.png
END:VEVENT
BEGIN:VEVENT
DTSTART;TZID=America/Los_Angeles:20261223T173000
DTEND;TZID=America/Los_Angeles:20261223T183000
DTSTAMP:20260420T050239
CREATED:20260401T223030Z
LAST-MODIFIED:20260413T170626Z
UID:10008715-1798047000-1798050600@wholewashington.org
SUMMARY:Team Initiative Meeting
DESCRIPTION:Join Whole Washington’s field organizers for regular planning meetings developing our next ballot initiative campaign! Help build public awareness\, trainings\, and signature gathering infrastructure to send universal healthcare to voters. \nRSVP below to receive the Zoom link:
URL:https://wholewashington.org/event/team-initiative-meeting/2026-12-23/
CATEGORIES:Ballot Initiative,Online,Team Meeting
ATTACH;FMTTYPE=image/png:https://wholewashington.org/wp-content/uploads/2026/04/Initiative.png
END:VEVENT
BEGIN:VEVENT
DTSTART;TZID=America/Los_Angeles:20261230T173000
DTEND;TZID=America/Los_Angeles:20261230T183000
DTSTAMP:20260420T050239
CREATED:20260401T223030Z
LAST-MODIFIED:20260413T170626Z
UID:10008716-1798651800-1798655400@wholewashington.org
SUMMARY:Team Initiative Meeting
DESCRIPTION:Join Whole Washington’s field organizers for regular planning meetings developing our next ballot initiative campaign! Help build public awareness\, trainings\, and signature gathering infrastructure to send universal healthcare to voters. \nRSVP below to receive the Zoom link:
URL:https://wholewashington.org/event/team-initiative-meeting/2026-12-30/
CATEGORIES:Ballot Initiative,Online,Team Meeting
ATTACH;FMTTYPE=image/png:https://wholewashington.org/wp-content/uploads/2026/04/Initiative.png
END:VEVENT
BEGIN:VEVENT
DTSTART;TZID=America/Los_Angeles:20270106T173000
DTEND;TZID=America/Los_Angeles:20270106T183000
DTSTAMP:20260420T050239
CREATED:20260401T223030Z
LAST-MODIFIED:20260413T170626Z
UID:10008717-1799256600-1799260200@wholewashington.org
SUMMARY:Team Initiative Meeting
DESCRIPTION:Join Whole Washington’s field organizers for regular planning meetings developing our next ballot initiative campaign! Help build public awareness\, trainings\, and signature gathering infrastructure to send universal healthcare to voters. \nRSVP below to receive the Zoom link:
URL:https://wholewashington.org/event/team-initiative-meeting/2027-01-06/
CATEGORIES:Ballot Initiative,Online,Team Meeting
ATTACH;FMTTYPE=image/png:https://wholewashington.org/wp-content/uploads/2026/04/Initiative.png
END:VEVENT
BEGIN:VEVENT
DTSTART;TZID=America/Los_Angeles:20270113T173000
DTEND;TZID=America/Los_Angeles:20270113T183000
DTSTAMP:20260420T050239
CREATED:20260401T223030Z
LAST-MODIFIED:20260413T170626Z
UID:10008718-1799861400-1799865000@wholewashington.org
SUMMARY:Team Initiative Meeting
DESCRIPTION:Join Whole Washington’s field organizers for regular planning meetings developing our next ballot initiative campaign! Help build public awareness\, trainings\, and signature gathering infrastructure to send universal healthcare to voters. \nRSVP below to receive the Zoom link:
URL:https://wholewashington.org/event/team-initiative-meeting/2027-01-13/
CATEGORIES:Ballot Initiative,Online,Team Meeting
ATTACH;FMTTYPE=image/png:https://wholewashington.org/wp-content/uploads/2026/04/Initiative.png
END:VEVENT
BEGIN:VEVENT
DTSTART;TZID=America/Los_Angeles:20270120T173000
DTEND;TZID=America/Los_Angeles:20270120T183000
DTSTAMP:20260420T050239
CREATED:20260401T223030Z
LAST-MODIFIED:20260413T170626Z
UID:10008719-1800466200-1800469800@wholewashington.org
SUMMARY:Team Initiative Meeting
DESCRIPTION:Join Whole Washington’s field organizers for regular planning meetings developing our next ballot initiative campaign! Help build public awareness\, trainings\, and signature gathering infrastructure to send universal healthcare to voters. \nRSVP below to receive the Zoom link:
URL:https://wholewashington.org/event/team-initiative-meeting/2027-01-20/
CATEGORIES:Ballot Initiative,Online,Team Meeting
ATTACH;FMTTYPE=image/png:https://wholewashington.org/wp-content/uploads/2026/04/Initiative.png
END:VEVENT
BEGIN:VEVENT
DTSTART;TZID=America/Los_Angeles:20270127T173000
DTEND;TZID=America/Los_Angeles:20270127T183000
DTSTAMP:20260420T050239
CREATED:20260401T223030Z
LAST-MODIFIED:20260413T170626Z
UID:10008720-1801071000-1801074600@wholewashington.org
SUMMARY:Team Initiative Meeting
DESCRIPTION:Join Whole Washington’s field organizers for regular planning meetings developing our next ballot initiative campaign! Help build public awareness\, trainings\, and signature gathering infrastructure to send universal healthcare to voters. \nRSVP below to receive the Zoom link:
URL:https://wholewashington.org/event/team-initiative-meeting/2027-01-27/
CATEGORIES:Ballot Initiative,Online,Team Meeting
ATTACH;FMTTYPE=image/png:https://wholewashington.org/wp-content/uploads/2026/04/Initiative.png
END:VEVENT
BEGIN:VEVENT
DTSTART;TZID=America/Los_Angeles:20270203T173000
DTEND;TZID=America/Los_Angeles:20270203T183000
DTSTAMP:20260420T050239
CREATED:20260401T223030Z
LAST-MODIFIED:20260413T170626Z
UID:10008721-1801675800-1801679400@wholewashington.org
SUMMARY:Team Initiative Meeting
DESCRIPTION:Join Whole Washington’s field organizers for regular planning meetings developing our next ballot initiative campaign! Help build public awareness\, trainings\, and signature gathering infrastructure to send universal healthcare to voters. \nRSVP below to receive the Zoom link:
URL:https://wholewashington.org/event/team-initiative-meeting/2027-02-03/
CATEGORIES:Ballot Initiative,Online,Team Meeting
ATTACH;FMTTYPE=image/png:https://wholewashington.org/wp-content/uploads/2026/04/Initiative.png
END:VEVENT
BEGIN:VEVENT
DTSTART;TZID=America/Los_Angeles:20270210T173000
DTEND;TZID=America/Los_Angeles:20270210T183000
DTSTAMP:20260420T050239
CREATED:20260401T223030Z
LAST-MODIFIED:20260413T170626Z
UID:10008722-1802280600-1802284200@wholewashington.org
SUMMARY:Team Initiative Meeting
DESCRIPTION:Join Whole Washington’s field organizers for regular planning meetings developing our next ballot initiative campaign! Help build public awareness\, trainings\, and signature gathering infrastructure to send universal healthcare to voters. \nRSVP below to receive the Zoom link:
URL:https://wholewashington.org/event/team-initiative-meeting/2027-02-10/
CATEGORIES:Ballot Initiative,Online,Team Meeting
ATTACH;FMTTYPE=image/png:https://wholewashington.org/wp-content/uploads/2026/04/Initiative.png
END:VEVENT
BEGIN:VEVENT
DTSTART;TZID=America/Los_Angeles:20270217T173000
DTEND;TZID=America/Los_Angeles:20270217T183000
DTSTAMP:20260420T050239
CREATED:20260401T223030Z
LAST-MODIFIED:20260413T170626Z
UID:10008723-1802885400-1802889000@wholewashington.org
SUMMARY:Team Initiative Meeting
DESCRIPTION:Join Whole Washington’s field organizers for regular planning meetings developing our next ballot initiative campaign! Help build public awareness\, trainings\, and signature gathering infrastructure to send universal healthcare to voters. \nRSVP below to receive the Zoom link:
URL:https://wholewashington.org/event/team-initiative-meeting/2027-02-17/
CATEGORIES:Ballot Initiative,Online,Team Meeting
ATTACH;FMTTYPE=image/png:https://wholewashington.org/wp-content/uploads/2026/04/Initiative.png
END:VEVENT
BEGIN:VEVENT
DTSTART;TZID=America/Los_Angeles:20270224T173000
DTEND;TZID=America/Los_Angeles:20270224T183000
DTSTAMP:20260420T050239
CREATED:20260401T223030Z
LAST-MODIFIED:20260413T170626Z
UID:10008724-1803490200-1803493800@wholewashington.org
SUMMARY:Team Initiative Meeting
DESCRIPTION:Join Whole Washington’s field organizers for regular planning meetings developing our next ballot initiative campaign! Help build public awareness\, trainings\, and signature gathering infrastructure to send universal healthcare to voters. \nRSVP below to receive the Zoom link:
URL:https://wholewashington.org/event/team-initiative-meeting/2027-02-24/
CATEGORIES:Ballot Initiative,Online,Team Meeting
ATTACH;FMTTYPE=image/png:https://wholewashington.org/wp-content/uploads/2026/04/Initiative.png
END:VEVENT
BEGIN:VEVENT
DTSTART;TZID=America/Los_Angeles:20270303T173000
DTEND;TZID=America/Los_Angeles:20270303T183000
DTSTAMP:20260420T050239
CREATED:20260401T223030Z
LAST-MODIFIED:20260413T170626Z
UID:10008725-1804095000-1804098600@wholewashington.org
SUMMARY:Team Initiative Meeting
DESCRIPTION:Join Whole Washington’s field organizers for regular planning meetings developing our next ballot initiative campaign! Help build public awareness\, trainings\, and signature gathering infrastructure to send universal healthcare to voters. \nRSVP below to receive the Zoom link:
URL:https://wholewashington.org/event/team-initiative-meeting/2027-03-03/
CATEGORIES:Ballot Initiative,Online,Team Meeting
ATTACH;FMTTYPE=image/png:https://wholewashington.org/wp-content/uploads/2026/04/Initiative.png
END:VEVENT
BEGIN:VEVENT
DTSTART;TZID=America/Los_Angeles:20270310T173000
DTEND;TZID=America/Los_Angeles:20270310T183000
DTSTAMP:20260420T050239
CREATED:20260401T223030Z
LAST-MODIFIED:20260413T170626Z
UID:10008726-1804699800-1804703400@wholewashington.org
SUMMARY:Team Initiative Meeting
DESCRIPTION:Join Whole Washington’s field organizers for regular planning meetings developing our next ballot initiative campaign! Help build public awareness\, trainings\, and signature gathering infrastructure to send universal healthcare to voters. \nRSVP below to receive the Zoom link:
URL:https://wholewashington.org/event/team-initiative-meeting/2027-03-10/
CATEGORIES:Ballot Initiative,Online,Team Meeting
ATTACH;FMTTYPE=image/png:https://wholewashington.org/wp-content/uploads/2026/04/Initiative.png
END:VEVENT
BEGIN:VEVENT
DTSTART;TZID=America/Los_Angeles:20270317T173000
DTEND;TZID=America/Los_Angeles:20270317T183000
DTSTAMP:20260420T050239
CREATED:20260401T223030Z
LAST-MODIFIED:20260413T170626Z
UID:10008727-1805304600-1805308200@wholewashington.org
SUMMARY:Team Initiative Meeting
DESCRIPTION:Join Whole Washington’s field organizers for regular planning meetings developing our next ballot initiative campaign! Help build public awareness\, trainings\, and signature gathering infrastructure to send universal healthcare to voters. \nRSVP below to receive the Zoom link:
URL:https://wholewashington.org/event/team-initiative-meeting/2027-03-17/
CATEGORIES:Ballot Initiative,Online,Team Meeting
ATTACH;FMTTYPE=image/png:https://wholewashington.org/wp-content/uploads/2026/04/Initiative.png
END:VEVENT
BEGIN:VEVENT
DTSTART;TZID=America/Los_Angeles:20270324T173000
DTEND;TZID=America/Los_Angeles:20270324T183000
DTSTAMP:20260420T050239
CREATED:20260401T223030Z
LAST-MODIFIED:20260413T170626Z
UID:10008728-1805909400-1805913000@wholewashington.org
SUMMARY:Team Initiative Meeting
DESCRIPTION:Join Whole Washington’s field organizers for regular planning meetings developing our next ballot initiative campaign! Help build public awareness\, trainings\, and signature gathering infrastructure to send universal healthcare to voters. \nRSVP below to receive the Zoom link:
URL:https://wholewashington.org/event/team-initiative-meeting/2027-03-24/
CATEGORIES:Ballot Initiative,Online,Team Meeting
ATTACH;FMTTYPE=image/png:https://wholewashington.org/wp-content/uploads/2026/04/Initiative.png
END:VEVENT
BEGIN:VEVENT
DTSTART;TZID=America/Los_Angeles:20270331T173000
DTEND;TZID=America/Los_Angeles:20270331T183000
DTSTAMP:20260420T050239
CREATED:20260401T223030Z
LAST-MODIFIED:20260413T170626Z
UID:10008729-1806514200-1806517800@wholewashington.org
SUMMARY:Team Initiative Meeting
DESCRIPTION:Join Whole Washington’s field organizers for regular planning meetings developing our next ballot initiative campaign! Help build public awareness\, trainings\, and signature gathering infrastructure to send universal healthcare to voters. \nRSVP below to receive the Zoom link:
URL:https://wholewashington.org/event/team-initiative-meeting/2027-03-31/
CATEGORIES:Ballot Initiative,Online,Team Meeting
ATTACH;FMTTYPE=image/png:https://wholewashington.org/wp-content/uploads/2026/04/Initiative.png
END:VEVENT
BEGIN:VEVENT
DTSTART;TZID=America/Los_Angeles:20270407T173000
DTEND;TZID=America/Los_Angeles:20270407T183000
DTSTAMP:20260420T050239
CREATED:20260401T223030Z
LAST-MODIFIED:20260413T170626Z
UID:10008730-1807119000-1807122600@wholewashington.org
SUMMARY:Team Initiative Meeting
DESCRIPTION:Join Whole Washington’s field organizers for regular planning meetings developing our next ballot initiative campaign! Help build public awareness\, trainings\, and signature gathering infrastructure to send universal healthcare to voters. \nRSVP below to receive the Zoom link:
URL:https://wholewashington.org/event/team-initiative-meeting/2027-04-07/
CATEGORIES:Ballot Initiative,Online,Team Meeting
ATTACH;FMTTYPE=image/png:https://wholewashington.org/wp-content/uploads/2026/04/Initiative.png
END:VEVENT
BEGIN:VEVENT
DTSTART;TZID=America/Los_Angeles:20270414T173000
DTEND;TZID=America/Los_Angeles:20270414T183000
DTSTAMP:20260420T050239
CREATED:20260401T223030Z
LAST-MODIFIED:20260413T170626Z
UID:10008731-1807723800-1807727400@wholewashington.org
SUMMARY:Team Initiative Meeting
DESCRIPTION:Join Whole Washington’s field organizers for regular planning meetings developing our next ballot initiative campaign! Help build public awareness\, trainings\, and signature gathering infrastructure to send universal healthcare to voters. \nRSVP below to receive the Zoom link:
URL:https://wholewashington.org/event/team-initiative-meeting/2027-04-14/
CATEGORIES:Ballot Initiative,Online,Team Meeting
ATTACH;FMTTYPE=image/png:https://wholewashington.org/wp-content/uploads/2026/04/Initiative.png
END:VEVENT
END:VCALENDAR