BEGIN:VCALENDAR
VERSION:2.0
PRODID:-//Whole Washington - ECPv6.15.20//NONSGML v1.0//EN
CALSCALE:GREGORIAN
METHOD:PUBLISH
X-WR-CALNAME:Whole Washington
X-ORIGINAL-URL:https://wholewashington.org
X-WR-CALDESC:Events for Whole Washington
REFRESH-INTERVAL;VALUE=DURATION:PT1H
X-Robots-Tag:noindex
X-PUBLISHED-TTL:PT1H
BEGIN:VTIMEZONE
TZID:America/Los_Angeles
BEGIN:DAYLIGHT
TZOFFSETFROM:-0800
TZOFFSETTO:-0700
TZNAME:PDT
DTSTART:20250309T100000
END:DAYLIGHT
BEGIN:STANDARD
TZOFFSETFROM:-0700
TZOFFSETTO:-0800
TZNAME:PST
DTSTART:20251102T090000
END:STANDARD
BEGIN:DAYLIGHT
TZOFFSETFROM:-0800
TZOFFSETTO:-0700
TZNAME:PDT
DTSTART:20260308T100000
END:DAYLIGHT
BEGIN:STANDARD
TZOFFSETFROM:-0700
TZOFFSETTO:-0800
TZNAME:PST
DTSTART:20261101T090000
END:STANDARD
BEGIN:DAYLIGHT
TZOFFSETFROM:-0800
TZOFFSETTO:-0700
TZNAME:PDT
DTSTART:20270314T100000
END:DAYLIGHT
BEGIN:STANDARD
TZOFFSETFROM:-0700
TZOFFSETTO:-0800
TZNAME:PST
DTSTART:20271107T090000
END:STANDARD
END:VTIMEZONE
BEGIN:VEVENT
DTSTART;TZID=America/Los_Angeles:20260301T100000
DTEND;TZID=America/Los_Angeles:20260301T113000
DTSTAMP:20260422T225843
CREATED:20260213T034706Z
LAST-MODIFIED:20260213T034706Z
UID:10007649-1772359200-1772364600@wholewashington.org
SUMMARY:VANCOUVER\, Clark County Team Meetup
DESCRIPTION:Clark County Monthly Meetup\nFacilitated by co-leads Alanna and Leah\n\nCome for updates and action items\nWe’re working on projects\, building coalitions\, and planning events\nSpread the word of the universal healthcare campaign\n\nRSVP Below:
URL:https://wholewashington.org/event/vancouver-clark-county-team-meetup/
LOCATION:New Seasons Market -Fisher’s Landing (East Vancouver)\, 2100 SE 164th Ave\, Vancouver\, WA\, 98683
CATEGORIES:Clark,Team Meeting
ATTACH;FMTTYPE=image/png:https://wholewashington.org/wp-content/uploads/2026/02/Clark-County-e1774403692618.png
END:VEVENT
BEGIN:VEVENT
DTSTART;TZID=America/Los_Angeles:20260314T100000
DTEND;TZID=America/Los_Angeles:20260314T140000
DTSTAMP:20260422T225843
CREATED:20260113T195919Z
LAST-MODIFIED:20260128T035341Z
UID:10007570-1773482400-1773496800@wholewashington.org
SUMMARY:Tabling at Esther Short Park
DESCRIPTION:We will have a table at Esther Short Park in Vancouver\, Washington\, to engage in conversation and get people to sign our pledge to support the initiative for Universal Healthcare. \nRSVP:
URL:https://wholewashington.org/event/tabeling-at-esther-short-park/2026-03-14/
LOCATION:Esther Short Park – Vancouver\, 605 Esther St\, Vancouver\, WA\, 98660\, United States
CATEGORIES:Clark,Tabling Events
ATTACH;FMTTYPE=image/jpeg:https://wholewashington.org/wp-content/uploads/2025/11/IMG_4407-scaled-e1768334343621.jpg
ORGANIZER;CN="Leah Perkel":MAILTO:Leahperkel@gmail.com
GEO:45.626055;-122.6757269
X-APPLE-STRUCTURED-LOCATION;VALUE=URI;X-ADDRESS=Esther Short Park – Vancouver 605 Esther St Vancouver WA 98660 United States;X-APPLE-RADIUS=500;X-TITLE=605 Esther St:geo:-122.6757269,45.626055
END:VEVENT
BEGIN:VEVENT
DTSTART;TZID=America/Los_Angeles:20260328T090000
DTEND;TZID=America/Los_Angeles:20260328T150000
DTSTAMP:20260422T225843
CREATED:20260310T235202Z
LAST-MODIFIED:20260326T211852Z
UID:10007911-1774688400-1774710000@wholewashington.org
SUMMARY:Whole Washington at No Kings
DESCRIPTION:Bring Universal Healthcare to the Streets\nWhether it’s staffing a table or handing out literature to people in the crowd\, March 28th will be a big opportunity! Thousands of people will participate in events all over the state. \nEach location will have its own start/end time and meetup details. \n\nLead at your local No Kings event\n\n(not on the map yet) under WANT TO HOST AN EVENT? Click the teal  Click to Host button\n\n\nHelp out at an event\, click the View Event button of the event \, then RSVP from there.\n\nWatch the No Kings Event Training:\n \nQuestions? email jen@wholewashington.org
URL:https://wholewashington.org/event/whole-washington-at-no-kings/
CATEGORIES:Clark,King,Pierce,Snohomish,Spokane,Tabling Events,Thurston,Whatcom,Yakima
ATTACH;FMTTYPE=image/png:https://wholewashington.org/wp-content/uploads/2026/03/NK-Full-Logo-e1773344630323.png
END:VEVENT
BEGIN:VEVENT
DTSTART;TZID=America/Los_Angeles:20260329T143000
DTEND;TZID=America/Los_Angeles:20260329T163000
DTSTAMP:20260422T225843
CREATED:20260313T224842Z
LAST-MODIFIED:20260314T013719Z
UID:10007910-1774794600-1774801800@wholewashington.org
SUMMARY:Volunteer Training - Vancouver
DESCRIPTION:Are you wanting to be better prepared to talk about the Washington Health Trust? Are you interested in speaking to/at local groups about why they should #jointhemovement to WIN universal healthcare #ByBillOrByBallot? \nJoin us Sunday March 29th for a volunteer training at Fourth Plain Commons\, 2:30pm. \nRSVP using the form below to let us know you’ll be there!
URL:https://wholewashington.org/event/volunteer-training-vancouver/
LOCATION:4th Plain Commons\, 2200 Norris Rd\, Vancouver\, Washington\, 98661
CATEGORIES:Clark,Volunteer Training
ORGANIZER;CN="Leah Perkel":MAILTO:Leahperkel@gmail.com
END:VEVENT
END:VCALENDAR