BEGIN:VCALENDAR
VERSION:2.0
PRODID:-//Whole Washington - ECPv6.15.20//NONSGML v1.0//EN
CALSCALE:GREGORIAN
METHOD:PUBLISH
X-ORIGINAL-URL:https://wholewashington.org
X-WR-CALDESC:Events for Whole Washington
REFRESH-INTERVAL;VALUE=DURATION:PT1H
X-Robots-Tag:noindex
X-PUBLISHED-TTL:PT1H
BEGIN:VTIMEZONE
TZID:America/Los_Angeles
BEGIN:DAYLIGHT
TZOFFSETFROM:-0800
TZOFFSETTO:-0700
TZNAME:PDT
DTSTART:20250309T100000
END:DAYLIGHT
BEGIN:STANDARD
TZOFFSETFROM:-0700
TZOFFSETTO:-0800
TZNAME:PST
DTSTART:20251102T090000
END:STANDARD
BEGIN:DAYLIGHT
TZOFFSETFROM:-0800
TZOFFSETTO:-0700
TZNAME:PDT
DTSTART:20260308T100000
END:DAYLIGHT
BEGIN:STANDARD
TZOFFSETFROM:-0700
TZOFFSETTO:-0800
TZNAME:PST
DTSTART:20261101T090000
END:STANDARD
BEGIN:DAYLIGHT
TZOFFSETFROM:-0800
TZOFFSETTO:-0700
TZNAME:PDT
DTSTART:20270314T100000
END:DAYLIGHT
BEGIN:STANDARD
TZOFFSETFROM:-0700
TZOFFSETTO:-0800
TZNAME:PST
DTSTART:20271107T090000
END:STANDARD
END:VTIMEZONE
BEGIN:VEVENT
DTSTART;TZID=America/Los_Angeles:20260109T183000
DTEND;TZID=America/Los_Angeles:20260109T203000
DTSTAMP:20260420T104457
CREATED:20260105T223753Z
LAST-MODIFIED:20260105T224408Z
UID:10006902-1767983400-1767990600@wholewashington.org
SUMMARY:Meaningful Movies Spokane - "Healing Us" screening
DESCRIPTION:Meaningful Movies Spokane has invited Spokane for Whole Washington to screen “Healing Us” and discuss with their members and attendees how they can get involved in the effort to bring Universal Healthcare to Washington State.
URL:https://wholewashington.org/event/meaningful-movies-spokane-healing-us-screening/
LOCATION:Unitarian Universalist Church of Spokane\, 4340 W Whistalks Way\, Spokane\, WA\, 99224\, United States
CATEGORIES:Dinner and a Movie,Spokane
ATTACH;FMTTYPE=image/png:https://wholewashington.org/wp-content/uploads/2022/07/Healing-US-1200-×-630-px.png
ORGANIZER;CN="Michael Doyle":MAILTO:WholeWashingtonSpokane@gmail.com
END:VEVENT
BEGIN:VEVENT
DTSTART;TZID=America/Los_Angeles:20260119T183000
DTEND;TZID=America/Los_Angeles:20260119T200000
DTSTAMP:20260420T104457
CREATED:20251218T215356Z
LAST-MODIFIED:20260108T062319Z
UID:10006821-1768847400-1768852800@wholewashington.org
SUMMARY:Whole Washington Dinner and a Movie!
DESCRIPTION:Whole Washington is hosting our Dinner and a Movie with a screening of the documentary “Power to Heal” on January 19th in celebration of Martin Luther King’s Birthday at 6:30 PM! \nThis is a powerful documentary that covers how through the civil rights movement and then along with the introduction of Medicare\, the United States was able to desegregate all of our nation’s hospitals! We will warn you up front\, there are a lot of hard truths in this movie that have never been taught to the generations following the civil rights movement. We hope that you can join us for the movie and for the discussion afterwards. \nSee trailer https://vimeo.com/296048519 \nRegistration for Power to Heal Q & A \n\n\n 
URL:https://wholewashington.org/event/whole-washington-dinner-and-a-movie/
CATEGORIES:Community Events,Dinner and a Movie,Film Festival
ATTACH;FMTTYPE=image/jpeg:https://wholewashington.org/wp-content/uploads/2024/09/411751666_1044772473312088_4478788112736186028_n-1.jpg
ORGANIZER;CN="Whole Washington":MAILTO:skyranch12805@gmail.com
LOCATION:
END:VEVENT
END:VCALENDAR