BEGIN:VCALENDAR
VERSION:2.0
PRODID:-//Whole Washington - ECPv6.15.20//NONSGML v1.0//EN
CALSCALE:GREGORIAN
METHOD:PUBLISH
X-WR-CALNAME:Whole Washington
X-ORIGINAL-URL:https://wholewashington.org
X-WR-CALDESC:Events for Whole Washington
REFRESH-INTERVAL;VALUE=DURATION:PT1H
X-Robots-Tag:noindex
X-PUBLISHED-TTL:PT1H
BEGIN:VTIMEZONE
TZID:America/Los_Angeles
BEGIN:DAYLIGHT
TZOFFSETFROM:-0800
TZOFFSETTO:-0700
TZNAME:PDT
DTSTART:20250309T100000
END:DAYLIGHT
BEGIN:STANDARD
TZOFFSETFROM:-0700
TZOFFSETTO:-0800
TZNAME:PST
DTSTART:20251102T090000
END:STANDARD
BEGIN:DAYLIGHT
TZOFFSETFROM:-0800
TZOFFSETTO:-0700
TZNAME:PDT
DTSTART:20260308T100000
END:DAYLIGHT
BEGIN:STANDARD
TZOFFSETFROM:-0700
TZOFFSETTO:-0800
TZNAME:PST
DTSTART:20261101T090000
END:STANDARD
BEGIN:DAYLIGHT
TZOFFSETFROM:-0800
TZOFFSETTO:-0700
TZNAME:PDT
DTSTART:20270314T100000
END:DAYLIGHT
BEGIN:STANDARD
TZOFFSETFROM:-0700
TZOFFSETTO:-0800
TZNAME:PST
DTSTART:20271107T090000
END:STANDARD
END:VTIMEZONE
BEGIN:VEVENT
DTSTART;TZID=America/Los_Angeles:20260217T183000
DTEND;TZID=America/Los_Angeles:20260217T200000
DTSTAMP:20260420T104522
CREATED:20251218T220054Z
LAST-MODIFIED:20260212T214131Z
UID:10006822-1771353000-1771358400@wholewashington.org
SUMMARY:Whole Washington Dinner and a Movie!
DESCRIPTION:Whole Washington is hosting our Dinner and a Movie with a screening of the documentary Power to Heal on February 17th in celebration of Black History Month at 6:30 PM! \nThis is a powerful documentary that covers how through the civil rights movement and then along with the introduction of Medicare\, the United States was able to desegregate all of our nation’s hospitals! We will warn you up front\, there are a lot of hard truths in this movie that have never been taught to the generations following the civil rights movement. We hope that you can join us for the movie and for the discussion afterwards. \nSee trailer https://vimeo.com/296048519 \nRSVP to receive the Zoom link to watch the movie with us and for the Q&A afterwards.
URL:https://wholewashington.org/event/whole-washington-dinner-and-a-movie-2/
CATEGORIES:Community Events,Dinner and a Movie,Film Festival
ATTACH;FMTTYPE=image/jpeg:https://wholewashington.org/wp-content/uploads/2024/09/411751666_1044772473312088_4478788112736186028_n-1.jpg
ORGANIZER;CN="Whole Washington":MAILTO:skyranch12805@gmail.com
LOCATION:
END:VEVENT
BEGIN:VEVENT
DTSTART;TZID=America/Los_Angeles:20260317T180000
DTEND;TZID=America/Los_Angeles:20260317T200000
DTSTAMP:20260420T104522
CREATED:20260217T011424Z
LAST-MODIFIED:20260314T014318Z
UID:10007663-1773770400-1773777600@wholewashington.org
SUMMARY:Beer & Blarney St. Paddy's Day Movie Night
DESCRIPTION:Sit back\, relax at home\, and join Whole Washington with your favorite brew for our screening of The Great NHS Heist\, scheduled from 6-8 pm PT on Tuesday\, March 17th! Don’t forget to wear your green. \nThis is the story of how powerful American Corporations set out to take over the UK National Health System. This movie is 1 hour/35 minutes and includes some of our favorite activists! \n\nMovie from 6:00 to 7:30\nDiscussion 7:30 to 8:00\n\nSuggested donation: $20.26\, but pitch in what feels right for you. \nAll are welcome\, donation or not. \nRSVP to get the Zoom link:
URL:https://wholewashington.org/event/beer-blarney-st-paddys-day-movie-night/
LOCATION:Online
CATEGORIES:Dinner and a Movie,Online
ATTACH;FMTTYPE=image/jpeg:https://wholewashington.org/wp-content/uploads/2026/02/Great-NHS-Heist.jpg
END:VEVENT
END:VCALENDAR