BEGIN:VCALENDAR
VERSION:2.0
PRODID:-//Whole Washington - ECPv6.15.20//NONSGML v1.0//EN
CALSCALE:GREGORIAN
METHOD:PUBLISH
X-ORIGINAL-URL:https://wholewashington.org
X-WR-CALDESC:Events for Whole Washington
REFRESH-INTERVAL;VALUE=DURATION:PT1H
X-Robots-Tag:noindex
X-PUBLISHED-TTL:PT1H
BEGIN:VTIMEZONE
TZID:America/Los_Angeles
BEGIN:DAYLIGHT
TZOFFSETFROM:-0800
TZOFFSETTO:-0700
TZNAME:PDT
DTSTART:20240310T100000
END:DAYLIGHT
BEGIN:STANDARD
TZOFFSETFROM:-0700
TZOFFSETTO:-0800
TZNAME:PST
DTSTART:20241103T090000
END:STANDARD
BEGIN:DAYLIGHT
TZOFFSETFROM:-0800
TZOFFSETTO:-0700
TZNAME:PDT
DTSTART:20250309T100000
END:DAYLIGHT
BEGIN:STANDARD
TZOFFSETFROM:-0700
TZOFFSETTO:-0800
TZNAME:PST
DTSTART:20251102T090000
END:STANDARD
BEGIN:DAYLIGHT
TZOFFSETFROM:-0800
TZOFFSETTO:-0700
TZNAME:PDT
DTSTART:20260308T100000
END:DAYLIGHT
BEGIN:STANDARD
TZOFFSETFROM:-0700
TZOFFSETTO:-0800
TZNAME:PST
DTSTART:20261101T090000
END:STANDARD
END:VTIMEZONE
BEGIN:VEVENT
DTSTART;TZID=America/Los_Angeles:20251228T150000
DTEND;TZID=America/Los_Angeles:20251228T170000
DTSTAMP:20260420T053240
CREATED:20251215T005723Z
LAST-MODIFIED:20251219T032702Z
UID:10006467-1766934000-1766941200@wholewashington.org
SUMMARY:King County Monthly Meetup
DESCRIPTION:Join Whole Washington for a special meetup for Healthcare as we ramp up for the 2026 Legislative season! \n📅 Date: 12/28/2025 \n📍 NEW Location: Beacon Hill Library meeting room\, 2821 Beacon Ave. S.\, Seattle\, WA 98144\n⏰ Time: 3 – 5pm \nThis is a fantastic opportunity to meet like-minded supporters\, chat with Whole Washington organizers\, and learn how you can take action to make healthcare a human right.
URL:https://wholewashington.org/event/king-county-monthly-meetup-3/
LOCATION:Beacon Hill Library\, 2821 Beacon Ave. S.\, Seattle\, 98144\, United States
CATEGORIES:Community Events,King,Volunteer local meet up
ATTACH;FMTTYPE=image/jpeg:https://wholewashington.org/wp-content/uploads/2025/12/Beacon-Hill-Library.jpg
ORGANIZER;CN="Thomas Kennedy":MAILTO:thomass.kennedy@gmail.com
END:VEVENT
END:VCALENDAR