BEGIN:VCALENDAR
VERSION:2.0
PRODID:-//Whole Washington - ECPv6.15.20//NONSGML v1.0//EN
CALSCALE:GREGORIAN
METHOD:PUBLISH
X-ORIGINAL-URL:https://wholewashington.org
X-WR-CALDESC:Events for Whole Washington
REFRESH-INTERVAL;VALUE=DURATION:PT1H
X-Robots-Tag:noindex
X-PUBLISHED-TTL:PT1H
BEGIN:VTIMEZONE
TZID:America/Los_Angeles
BEGIN:DAYLIGHT
TZOFFSETFROM:-0800
TZOFFSETTO:-0700
TZNAME:PDT
DTSTART:20290311T100000
END:DAYLIGHT
BEGIN:STANDARD
TZOFFSETFROM:-0700
TZOFFSETTO:-0800
TZNAME:PST
DTSTART:20291104T090000
END:STANDARD
BEGIN:DAYLIGHT
TZOFFSETFROM:-0800
TZOFFSETTO:-0700
TZNAME:PDT
DTSTART:20300310T100000
END:DAYLIGHT
BEGIN:STANDARD
TZOFFSETFROM:-0700
TZOFFSETTO:-0800
TZNAME:PST
DTSTART:20301103T090000
END:STANDARD
BEGIN:DAYLIGHT
TZOFFSETFROM:-0800
TZOFFSETTO:-0700
TZNAME:PDT
DTSTART:20310309T100000
END:DAYLIGHT
BEGIN:STANDARD
TZOFFSETFROM:-0700
TZOFFSETTO:-0800
TZNAME:PST
DTSTART:20311102T090000
END:STANDARD
BEGIN:DAYLIGHT
TZOFFSETFROM:-0800
TZOFFSETTO:-0700
TZNAME:PDT
DTSTART:20320314T100000
END:DAYLIGHT
BEGIN:STANDARD
TZOFFSETFROM:-0700
TZOFFSETTO:-0800
TZNAME:PST
DTSTART:20321107T090000
END:STANDARD
END:VTIMEZONE
BEGIN:VEVENT
DTSTART;TZID=America/Los_Angeles:20300623T150000
DTEND;TZID=America/Los_Angeles:20300623T170000
DTSTAMP:20260420T102953
CREATED:20251105T023540Z
LAST-MODIFIED:20260222T044703Z
UID:10006521-1908457200-1908464400@wholewashington.org
SUMMARY:King County Monthly Meetup
DESCRIPTION:Join Whole Washington for a special meetup for Healthcare\, where we’ll gather to enjoy great drinks\, connect with fellow advocates\, and support the fight for universal healthcare in Washington state! \n📅 Date: 2/22/2026 \n📍 Location: Stoup Brewing Capitol Hill 1158 Broadway\, Seattle\, WA 98122\n⏰ Time: 3 – 5pm \nThis is a fantastic opportunity to meet like-minded supporters\, chat with Whole Washington organizers\, and learn how you can take action to make healthcare a human right. \nCome raise a glass for healthcare justice—because everyone deserves care. \nPlease RSVP using the form below so we know how many people to expect and if we should make a table reservation.
URL:https://wholewashington.org/event/king-county-monthly-meetup/2030-06-23/
LOCATION:Stoup Brewing Capitol Hill\, 1158 Broadway\, Seattle\, WA\, 98122\, United States
CATEGORIES:Community Events,King,Volunteer local meet up
ATTACH;FMTTYPE=image/png:https://wholewashington.org/wp-content/uploads/2025/11/King-County-e1773439758246.png
ORGANIZER;CN="Thomas Kennedy":MAILTO:thomass.kennedy@gmail.com
END:VEVENT
BEGIN:VEVENT
DTSTART;TZID=America/Los_Angeles:20300728T150000
DTEND;TZID=America/Los_Angeles:20300728T170000
DTSTAMP:20260420T102953
CREATED:20251105T023540Z
LAST-MODIFIED:20260222T044703Z
UID:10006522-1911481200-1911488400@wholewashington.org
SUMMARY:King County Monthly Meetup
DESCRIPTION:Join Whole Washington for a special meetup for Healthcare\, where we’ll gather to enjoy great drinks\, connect with fellow advocates\, and support the fight for universal healthcare in Washington state! \n📅 Date: 2/22/2026 \n📍 Location: Stoup Brewing Capitol Hill 1158 Broadway\, Seattle\, WA 98122\n⏰ Time: 3 – 5pm \nThis is a fantastic opportunity to meet like-minded supporters\, chat with Whole Washington organizers\, and learn how you can take action to make healthcare a human right. \nCome raise a glass for healthcare justice—because everyone deserves care. \nPlease RSVP using the form below so we know how many people to expect and if we should make a table reservation.
URL:https://wholewashington.org/event/king-county-monthly-meetup/2030-07-28/
LOCATION:Stoup Brewing Capitol Hill\, 1158 Broadway\, Seattle\, WA\, 98122\, United States
CATEGORIES:Community Events,King,Volunteer local meet up
ATTACH;FMTTYPE=image/png:https://wholewashington.org/wp-content/uploads/2025/11/King-County-e1773439758246.png
ORGANIZER;CN="Thomas Kennedy":MAILTO:thomass.kennedy@gmail.com
END:VEVENT
BEGIN:VEVENT
DTSTART;TZID=America/Los_Angeles:20300825T150000
DTEND;TZID=America/Los_Angeles:20300825T170000
DTSTAMP:20260420T102953
CREATED:20251105T023540Z
LAST-MODIFIED:20260222T044703Z
UID:10006523-1913900400-1913907600@wholewashington.org
SUMMARY:King County Monthly Meetup
DESCRIPTION:Join Whole Washington for a special meetup for Healthcare\, where we’ll gather to enjoy great drinks\, connect with fellow advocates\, and support the fight for universal healthcare in Washington state! \n📅 Date: 2/22/2026 \n📍 Location: Stoup Brewing Capitol Hill 1158 Broadway\, Seattle\, WA 98122\n⏰ Time: 3 – 5pm \nThis is a fantastic opportunity to meet like-minded supporters\, chat with Whole Washington organizers\, and learn how you can take action to make healthcare a human right. \nCome raise a glass for healthcare justice—because everyone deserves care. \nPlease RSVP using the form below so we know how many people to expect and if we should make a table reservation.
URL:https://wholewashington.org/event/king-county-monthly-meetup/2030-08-25/
LOCATION:Stoup Brewing Capitol Hill\, 1158 Broadway\, Seattle\, WA\, 98122\, United States
CATEGORIES:Community Events,King,Volunteer local meet up
ATTACH;FMTTYPE=image/png:https://wholewashington.org/wp-content/uploads/2025/11/King-County-e1773439758246.png
ORGANIZER;CN="Thomas Kennedy":MAILTO:thomass.kennedy@gmail.com
END:VEVENT
BEGIN:VEVENT
DTSTART;TZID=America/Los_Angeles:20300922T150000
DTEND;TZID=America/Los_Angeles:20300922T170000
DTSTAMP:20260420T102953
CREATED:20251105T023540Z
LAST-MODIFIED:20260222T044703Z
UID:10006524-1916319600-1916326800@wholewashington.org
SUMMARY:King County Monthly Meetup
DESCRIPTION:Join Whole Washington for a special meetup for Healthcare\, where we’ll gather to enjoy great drinks\, connect with fellow advocates\, and support the fight for universal healthcare in Washington state! \n📅 Date: 2/22/2026 \n📍 Location: Stoup Brewing Capitol Hill 1158 Broadway\, Seattle\, WA 98122\n⏰ Time: 3 – 5pm \nThis is a fantastic opportunity to meet like-minded supporters\, chat with Whole Washington organizers\, and learn how you can take action to make healthcare a human right. \nCome raise a glass for healthcare justice—because everyone deserves care. \nPlease RSVP using the form below so we know how many people to expect and if we should make a table reservation.
URL:https://wholewashington.org/event/king-county-monthly-meetup/2030-09-22/
LOCATION:Stoup Brewing Capitol Hill\, 1158 Broadway\, Seattle\, WA\, 98122\, United States
CATEGORIES:Community Events,King,Volunteer local meet up
ATTACH;FMTTYPE=image/png:https://wholewashington.org/wp-content/uploads/2025/11/King-County-e1773439758246.png
ORGANIZER;CN="Thomas Kennedy":MAILTO:thomass.kennedy@gmail.com
END:VEVENT
BEGIN:VEVENT
DTSTART;TZID=America/Los_Angeles:20301027T150000
DTEND;TZID=America/Los_Angeles:20301027T170000
DTSTAMP:20260420T102953
CREATED:20251105T023540Z
LAST-MODIFIED:20260222T044703Z
UID:10006525-1919343600-1919350800@wholewashington.org
SUMMARY:King County Monthly Meetup
DESCRIPTION:Join Whole Washington for a special meetup for Healthcare\, where we’ll gather to enjoy great drinks\, connect with fellow advocates\, and support the fight for universal healthcare in Washington state! \n📅 Date: 2/22/2026 \n📍 Location: Stoup Brewing Capitol Hill 1158 Broadway\, Seattle\, WA 98122\n⏰ Time: 3 – 5pm \nThis is a fantastic opportunity to meet like-minded supporters\, chat with Whole Washington organizers\, and learn how you can take action to make healthcare a human right. \nCome raise a glass for healthcare justice—because everyone deserves care. \nPlease RSVP using the form below so we know how many people to expect and if we should make a table reservation.
URL:https://wholewashington.org/event/king-county-monthly-meetup/2030-10-27/
LOCATION:Stoup Brewing Capitol Hill\, 1158 Broadway\, Seattle\, WA\, 98122\, United States
CATEGORIES:Community Events,King,Volunteer local meet up
ATTACH;FMTTYPE=image/png:https://wholewashington.org/wp-content/uploads/2025/11/King-County-e1773439758246.png
ORGANIZER;CN="Thomas Kennedy":MAILTO:thomass.kennedy@gmail.com
END:VEVENT
BEGIN:VEVENT
DTSTART;TZID=America/Los_Angeles:20301124T150000
DTEND;TZID=America/Los_Angeles:20301124T170000
DTSTAMP:20260420T102953
CREATED:20251105T023540Z
LAST-MODIFIED:20260222T044703Z
UID:10006686-1921762800-1921770000@wholewashington.org
SUMMARY:King County Monthly Meetup
DESCRIPTION:Join Whole Washington for a special meetup for Healthcare\, where we’ll gather to enjoy great drinks\, connect with fellow advocates\, and support the fight for universal healthcare in Washington state! \n📅 Date: 2/22/2026 \n📍 Location: Stoup Brewing Capitol Hill 1158 Broadway\, Seattle\, WA 98122\n⏰ Time: 3 – 5pm \nThis is a fantastic opportunity to meet like-minded supporters\, chat with Whole Washington organizers\, and learn how you can take action to make healthcare a human right. \nCome raise a glass for healthcare justice—because everyone deserves care. \nPlease RSVP using the form below so we know how many people to expect and if we should make a table reservation.
URL:https://wholewashington.org/event/king-county-monthly-meetup/2030-11-24/
LOCATION:Stoup Brewing Capitol Hill\, 1158 Broadway\, Seattle\, WA\, 98122\, United States
CATEGORIES:Community Events,King,Volunteer local meet up
ATTACH;FMTTYPE=image/png:https://wholewashington.org/wp-content/uploads/2025/11/King-County-e1773439758246.png
ORGANIZER;CN="Thomas Kennedy":MAILTO:thomass.kennedy@gmail.com
END:VEVENT
BEGIN:VEVENT
DTSTART;TZID=America/Los_Angeles:20301222T150000
DTEND;TZID=America/Los_Angeles:20301222T170000
DTSTAMP:20260420T102953
CREATED:20251105T023540Z
LAST-MODIFIED:20260222T044703Z
UID:10007565-1924182000-1924189200@wholewashington.org
SUMMARY:King County Monthly Meetup
DESCRIPTION:Join Whole Washington for a special meetup for Healthcare\, where we’ll gather to enjoy great drinks\, connect with fellow advocates\, and support the fight for universal healthcare in Washington state! \n📅 Date: 2/22/2026 \n📍 Location: Stoup Brewing Capitol Hill 1158 Broadway\, Seattle\, WA 98122\n⏰ Time: 3 – 5pm \nThis is a fantastic opportunity to meet like-minded supporters\, chat with Whole Washington organizers\, and learn how you can take action to make healthcare a human right. \nCome raise a glass for healthcare justice—because everyone deserves care. \nPlease RSVP using the form below so we know how many people to expect and if we should make a table reservation.
URL:https://wholewashington.org/event/king-county-monthly-meetup/2030-12-22/
LOCATION:Stoup Brewing Capitol Hill\, 1158 Broadway\, Seattle\, WA\, 98122\, United States
CATEGORIES:Community Events,King,Volunteer local meet up
ATTACH;FMTTYPE=image/png:https://wholewashington.org/wp-content/uploads/2025/11/King-County-e1773439758246.png
ORGANIZER;CN="Thomas Kennedy":MAILTO:thomass.kennedy@gmail.com
END:VEVENT
BEGIN:VEVENT
DTSTART;TZID=America/Los_Angeles:20310126T150000
DTEND;TZID=America/Los_Angeles:20310126T170000
DTSTAMP:20260420T102953
CREATED:20251105T023540Z
LAST-MODIFIED:20260222T044703Z
UID:10007662-1927206000-1927213200@wholewashington.org
SUMMARY:King County Monthly Meetup
DESCRIPTION:Join Whole Washington for a special meetup for Healthcare\, where we’ll gather to enjoy great drinks\, connect with fellow advocates\, and support the fight for universal healthcare in Washington state! \n📅 Date: 2/22/2026 \n📍 Location: Stoup Brewing Capitol Hill 1158 Broadway\, Seattle\, WA 98122\n⏰ Time: 3 – 5pm \nThis is a fantastic opportunity to meet like-minded supporters\, chat with Whole Washington organizers\, and learn how you can take action to make healthcare a human right. \nCome raise a glass for healthcare justice—because everyone deserves care. \nPlease RSVP using the form below so we know how many people to expect and if we should make a table reservation.
URL:https://wholewashington.org/event/king-county-monthly-meetup/2031-01-26/
LOCATION:Stoup Brewing Capitol Hill\, 1158 Broadway\, Seattle\, WA\, 98122\, United States
CATEGORIES:Community Events,King,Volunteer local meet up
ATTACH;FMTTYPE=image/png:https://wholewashington.org/wp-content/uploads/2025/11/King-County-e1773439758246.png
ORGANIZER;CN="Thomas Kennedy":MAILTO:thomass.kennedy@gmail.com
END:VEVENT
BEGIN:VEVENT
DTSTART;TZID=America/Los_Angeles:20310223T150000
DTEND;TZID=America/Los_Angeles:20310223T170000
DTSTAMP:20260420T102953
CREATED:20251105T023540Z
LAST-MODIFIED:20260222T044703Z
UID:10008188-1929625200-1929632400@wholewashington.org
SUMMARY:King County Monthly Meetup
DESCRIPTION:Join Whole Washington for a special meetup for Healthcare\, where we’ll gather to enjoy great drinks\, connect with fellow advocates\, and support the fight for universal healthcare in Washington state! \n📅 Date: 2/22/2026 \n📍 Location: Stoup Brewing Capitol Hill 1158 Broadway\, Seattle\, WA 98122\n⏰ Time: 3 – 5pm \nThis is a fantastic opportunity to meet like-minded supporters\, chat with Whole Washington organizers\, and learn how you can take action to make healthcare a human right. \nCome raise a glass for healthcare justice—because everyone deserves care. \nPlease RSVP using the form below so we know how many people to expect and if we should make a table reservation.
URL:https://wholewashington.org/event/king-county-monthly-meetup/2031-02-23/
LOCATION:Stoup Brewing Capitol Hill\, 1158 Broadway\, Seattle\, WA\, 98122\, United States
CATEGORIES:Community Events,King,Volunteer local meet up
ATTACH;FMTTYPE=image/png:https://wholewashington.org/wp-content/uploads/2025/11/King-County-e1773439758246.png
ORGANIZER;CN="Thomas Kennedy":MAILTO:thomass.kennedy@gmail.com
END:VEVENT
END:VCALENDAR