BEGIN:VCALENDAR
VERSION:2.0
PRODID:-//Whole Washington - ECPv6.15.20//NONSGML v1.0//EN
CALSCALE:GREGORIAN
METHOD:PUBLISH
X-WR-CALNAME:Whole Washington
X-ORIGINAL-URL:https://wholewashington.org
X-WR-CALDESC:Events for Whole Washington
REFRESH-INTERVAL;VALUE=DURATION:PT1H
X-Robots-Tag:noindex
X-PUBLISHED-TTL:PT1H
BEGIN:VTIMEZONE
TZID:America/Los_Angeles
BEGIN:DAYLIGHT
TZOFFSETFROM:-0800
TZOFFSETTO:-0700
TZNAME:PDT
DTSTART:20250309T100000
END:DAYLIGHT
BEGIN:STANDARD
TZOFFSETFROM:-0700
TZOFFSETTO:-0800
TZNAME:PST
DTSTART:20251102T090000
END:STANDARD
BEGIN:DAYLIGHT
TZOFFSETFROM:-0800
TZOFFSETTO:-0700
TZNAME:PDT
DTSTART:20260308T100000
END:DAYLIGHT
BEGIN:STANDARD
TZOFFSETFROM:-0700
TZOFFSETTO:-0800
TZNAME:PST
DTSTART:20261101T090000
END:STANDARD
BEGIN:DAYLIGHT
TZOFFSETFROM:-0800
TZOFFSETTO:-0700
TZNAME:PDT
DTSTART:20270314T100000
END:DAYLIGHT
BEGIN:STANDARD
TZOFFSETFROM:-0700
TZOFFSETTO:-0800
TZNAME:PST
DTSTART:20271107T090000
END:STANDARD
END:VTIMEZONE
BEGIN:VEVENT
DTSTART;TZID=America/Los_Angeles:20260329T180000
DTEND;TZID=America/Los_Angeles:20260329T193000
DTSTAMP:20260420T032857
CREATED:20260305T033121Z
LAST-MODIFIED:20260324T212432Z
UID:10007908-1774807200-1774812600@wholewashington.org
SUMMARY:OMAK: Okanogan County Team Meeting with Healing US screening
DESCRIPTION:It’s the March Monthly Meeting\nWith a free screening of the documentary Healing US! \nSunday\, March 29 6pm – 7:30pm \nEveryone welcome! Bring a friend! \nIn person:\nCommunity Foundation of NCW 715A Okoma Dr.\, Omak\n(Find us in the Evergreen Mortgage building across from Mid Valley Hospital) \nVirtually on Zoom: \nRSVP to receive the Zoom Link
URL:https://wholewashington.org/event/okanogan-healing-us/
LOCATION:Community Foundation of NCW\, 715A Okoma Dr\, Omak\, wa\, 98841
CATEGORIES:Okanogan,Team Meeting
ATTACH;FMTTYPE=image/png:https://wholewashington.org/wp-content/uploads/2026/03/Healing-US-1200-×-630-px.png
END:VEVENT
END:VCALENDAR