BEGIN:VCALENDAR
VERSION:2.0
PRODID:-//Whole Washington - ECPv6.15.20//NONSGML v1.0//EN
CALSCALE:GREGORIAN
METHOD:PUBLISH
X-ORIGINAL-URL:https://wholewashington.org
X-WR-CALDESC:Events for Whole Washington
REFRESH-INTERVAL;VALUE=DURATION:PT1H
X-Robots-Tag:noindex
X-PUBLISHED-TTL:PT1H
BEGIN:VTIMEZONE
TZID:America/Los_Angeles
BEGIN:DAYLIGHT
TZOFFSETFROM:-0800
TZOFFSETTO:-0700
TZNAME:PDT
DTSTART:20240310T100000
END:DAYLIGHT
BEGIN:STANDARD
TZOFFSETFROM:-0700
TZOFFSETTO:-0800
TZNAME:PST
DTSTART:20241103T090000
END:STANDARD
BEGIN:DAYLIGHT
TZOFFSETFROM:-0800
TZOFFSETTO:-0700
TZNAME:PDT
DTSTART:20250309T100000
END:DAYLIGHT
BEGIN:STANDARD
TZOFFSETFROM:-0700
TZOFFSETTO:-0800
TZNAME:PST
DTSTART:20251102T090000
END:STANDARD
BEGIN:DAYLIGHT
TZOFFSETFROM:-0800
TZOFFSETTO:-0700
TZNAME:PDT
DTSTART:20260308T100000
END:DAYLIGHT
BEGIN:STANDARD
TZOFFSETFROM:-0700
TZOFFSETTO:-0800
TZNAME:PST
DTSTART:20261101T090000
END:STANDARD
END:VTIMEZONE
BEGIN:VEVENT
DTSTART;TZID=America/Los_Angeles:20251116T100000
DTEND;TZID=America/Los_Angeles:20251116T120000
DTSTAMP:20260420T042812
CREATED:20251106T044305Z
LAST-MODIFIED:20251114T204500Z
UID:10006532-1763287200-1763294400@wholewashington.org
SUMMARY:Pierce County Meet Up
DESCRIPTION:The Pierce County Team is having a meet-up with a free showing of Healing US! \nWatch a great healthcare documentary (that features Whole Washington and Red Berets for Medicare for All!). Meet Laura Fielding\, who’s featured in the film\, and other local volunteers! \nLet’s build our community and learn more about the universal healthcare movement.
URL:https://wholewashington.org/event/pierce-county-meet-up/
LOCATION:University Place Pierce County Library\, 3609 Market Place W.\, Suite 100\, University Place\, WA\, 98466
CATEGORIES:Pierce,Team Meeting
ATTACH;FMTTYPE=image/png:https://wholewashington.org/wp-content/uploads/2025/11/Healing-US-Pierce-County-1.png
ORGANIZER;CN="Pam Ketzner":MAILTO:pamk30@comcast.net
END:VEVENT
BEGIN:VEVENT
DTSTART;TZID=America/Los_Angeles:20251119T180000
DTEND;TZID=America/Los_Angeles:20251119T193000
DTSTAMP:20260420T042812
CREATED:20251107T175650Z
LAST-MODIFIED:20251112T180831Z
UID:10006534-1763575200-1763580600@wholewashington.org
SUMMARY:Pierce County - Patty Kuderer in Tacoma
DESCRIPTION:This will be an important and informative discussion. Please bring a friend and join other Whole Washington volunteers at the Tahoma Unitarian church for an info session with Washington State’s Insurance Commissioner. \nHealthcare Crises Under Trump: What Washington Can and Can’t Do.\nPatty Kuderer is a supporter of Universal Healthcare. This is a great opportunity to bring questions and get insider information on what we can do right now.
URL:https://wholewashington.org/event/pierce-county-patty-kuderer-in-tacoma/
LOCATION:Tahoma Unitarian Universalist Congregation\, 1115 S 56th St\, Tacoma\, wa\, 98408
CATEGORIES:Pierce,Speaking Event
ATTACH;FMTTYPE=image/png:https://wholewashington.org/wp-content/uploads/2025/11/KudererTac.png
ORGANIZER;CN="Pam Ketzner":MAILTO:pamk30@comcast.net
END:VEVENT
END:VCALENDAR