BEGIN:VCALENDAR
VERSION:2.0
PRODID:-//Whole Washington - ECPv6.15.20//NONSGML v1.0//EN
CALSCALE:GREGORIAN
METHOD:PUBLISH
X-ORIGINAL-URL:https://wholewashington.org
X-WR-CALDESC:Events for Whole Washington
REFRESH-INTERVAL;VALUE=DURATION:PT1H
X-Robots-Tag:noindex
X-PUBLISHED-TTL:PT1H
BEGIN:VTIMEZONE
TZID:America/Los_Angeles
BEGIN:DAYLIGHT
TZOFFSETFROM:-0800
TZOFFSETTO:-0700
TZNAME:PDT
DTSTART:20250309T100000
END:DAYLIGHT
BEGIN:STANDARD
TZOFFSETFROM:-0700
TZOFFSETTO:-0800
TZNAME:PST
DTSTART:20251102T090000
END:STANDARD
BEGIN:DAYLIGHT
TZOFFSETFROM:-0800
TZOFFSETTO:-0700
TZNAME:PDT
DTSTART:20260308T100000
END:DAYLIGHT
BEGIN:STANDARD
TZOFFSETFROM:-0700
TZOFFSETTO:-0800
TZNAME:PST
DTSTART:20261101T090000
END:STANDARD
BEGIN:DAYLIGHT
TZOFFSETFROM:-0800
TZOFFSETTO:-0700
TZNAME:PDT
DTSTART:20270314T100000
END:DAYLIGHT
BEGIN:STANDARD
TZOFFSETFROM:-0700
TZOFFSETTO:-0800
TZNAME:PST
DTSTART:20271107T090000
END:STANDARD
END:VTIMEZONE
BEGIN:VEVENT
DTSTART;TZID=America/Los_Angeles:20260110T100000
DTEND;TZID=America/Los_Angeles:20260110T110000
DTSTAMP:20260420T073747
CREATED:20251216T202135Z
LAST-MODIFIED:20260106T001240Z
UID:10006688-1768039200-1768042800@wholewashington.org
SUMMARY:Lacey: Thurston County Meet & Greet
DESCRIPTION:Volunteers are gathering for a casual in-person meet & greet. We’re hoping to get to know each other a little better and plan to take some action during the 2026 legislative session. #ByBillOrByBallot  we can win state-based universal single-payer healthcare here in Washington. Join us!
URL:https://wholewashington.org/event/whole-washington-thurston-county-meet-greet/
LOCATION:Fog & Fern Coffee House\, 4219 6th Ave SE\, Lacey\, WA\, 98503\, United States
CATEGORIES:Thurston,Volunteer local meet up
ATTACH;FMTTYPE=image/jpeg:https://wholewashington.org/wp-content/uploads/2025/12/Fog-and-Fern.jpg
END:VEVENT
BEGIN:VEVENT
DTSTART;TZID=America/Los_Angeles:20260207T120000
DTEND;TZID=America/Los_Angeles:20260207T150000
DTSTAMP:20260420T073747
CREATED:20260113T195153Z
LAST-MODIFIED:20260206T220732Z
UID:10007427-1770465600-1770476400@wholewashington.org
SUMMARY:OLYMPIA Resist\, Persist\, Repeat! Rally
DESCRIPTION:Whole Washington volunteers will be tabling at this event!\nStop by and meet the team. Make connections with other organizations. Spread the news about universal healthcare! \n 
URL:https://wholewashington.org/event/resist-persist-repeat-rally/
LOCATION:Heritage Park\, 701 Water St SW\, Olympia\, WA\, 98501\, United States
CATEGORIES:Rallies, Protests and Marches,Tabling Events,Thurston
ATTACH;FMTTYPE=image/png:https://wholewashington.org/wp-content/uploads/2026/01/Heritage-Park-Event.png
GEO:47.0416122;-122.9043336
X-APPLE-STRUCTURED-LOCATION;VALUE=URI;X-ADDRESS=Heritage Park 701 Water St SW Olympia WA 98501 United States;X-APPLE-RADIUS=500;X-TITLE=701 Water St SW:geo:-122.9043336,47.0416122
END:VEVENT
BEGIN:VEVENT
DTSTART;TZID=America/Los_Angeles:20260328T090000
DTEND;TZID=America/Los_Angeles:20260328T150000
DTSTAMP:20260420T073747
CREATED:20260310T235202Z
LAST-MODIFIED:20260326T211852Z
UID:10007911-1774688400-1774710000@wholewashington.org
SUMMARY:Whole Washington at No Kings
DESCRIPTION:Bring Universal Healthcare to the Streets\nWhether it’s staffing a table or handing out literature to people in the crowd\, March 28th will be a big opportunity! Thousands of people will participate in events all over the state. \nEach location will have its own start/end time and meetup details. \n\nLead at your local No Kings event\n\n(not on the map yet) under WANT TO HOST AN EVENT? Click the teal  Click to Host button\n\n\nHelp out at an event\, click the View Event button of the event \, then RSVP from there.\n\nWatch the No Kings Event Training:\n \nQuestions? email jen@wholewashington.org
URL:https://wholewashington.org/event/whole-washington-at-no-kings/
LOCATION:WA
CATEGORIES:Clark,King,Pierce,Snohomish,Spokane,Tabling Events,Thurston,Whatcom,Yakima
ATTACH;FMTTYPE=image/png:https://wholewashington.org/wp-content/uploads/2026/03/NK-Full-Logo-e1773344630323.png
END:VEVENT
BEGIN:VEVENT
DTSTART;TZID=America/Los_Angeles:20260401T180000
DTEND;TZID=America/Los_Angeles:20260401T193000
DTSTAMP:20260420T073747
CREATED:20260224T024149Z
LAST-MODIFIED:20260227T024935Z
UID:10007666-1775066400-1775071800@wholewashington.org
SUMMARY:Town Hall - Olympia
DESCRIPTION:Whole Washington volunteers were invited to host a town hall at Endless Sound Cellars in Olympia. We’ll be there Wednesday April 1st at 6pm for this event. Open to the public. \nJoin us to learn more about the Washington Health Trust and our #ByBillOrByBallot strategy. \nOutside food/beverages are allowed  with some amazing local restaurants nearby. Hope to see you there! \nRSVP using the form below:
URL:https://wholewashington.org/event/town-hall-olympia/
LOCATION:Endless Sound Cellars\, 222 Capitol Way N #107\, OLYMPIA\, WA\, 98611\, United States
CATEGORIES:Thurston,Town Halls
ATTACH;FMTTYPE=image/png:https://wholewashington.org/wp-content/uploads/2026/02/Olympia-Town-Hall-4-1.png
END:VEVENT
BEGIN:VEVENT
DTSTART;TZID=America/Los_Angeles:20260426T130000
DTEND;TZID=America/Los_Angeles:20260426T140000
DTSTAMP:20260420T073747
CREATED:20260417T215225Z
LAST-MODIFIED:20260419T025832Z
UID:10009022-1777208400-1777212000@wholewashington.org
SUMMARY:Thurston County Meetup
DESCRIPTION:Meet up with the Thurston County Volunteer Team\nWe’ll be in the cafe space of Haggen’s Olympia \nNew people most welcome!\nThis month\, we’ll be talking about the Universal Health Care Commission Meeting coming up on the 30th. It’s an in-person field trip! \nWe’ll look ahead to Juneteenth and Pride and how we want to show up. \nIt’s also time to start seriously prepping for the ballot initiative campaign! We’re one year out. \nRSVP in the form below
URL:https://wholewashington.org/event/thurston-county-meetup/
LOCATION:Haggens Olympia\, 1313 Cooper Point Rd SW\, Olympia\, WA\, 98502\, United States
CATEGORIES:Thurston,Volunteer local meet up
ATTACH;FMTTYPE=image/png:https://wholewashington.org/wp-content/uploads/2026/04/Thurston-County.png
END:VEVENT
BEGIN:VEVENT
DTSTART;TZID=America/Los_Angeles:20260430T140000
DTEND;TZID=America/Los_Angeles:20260430T170000
DTSTAMP:20260420T073747
CREATED:20260326T224758Z
LAST-MODIFIED:20260419T041545Z
UID:10008269-1777557600-1777568400@wholewashington.org
SUMMARY:UHCC Meeting Field Trip
DESCRIPTION:Field Trip!\nFor the next Universal Health Care Commission meeting\, Whole Washington is taking a field trip to the Capitol!  \nLet’s make a united front in support. Join us in showing up for universal healthcare. \nRSVP below to let us know you’ll be there! \nWashington State Health Care Authority\nCherry Street Plaza\nSue Crystal Center\, Conference Rooms 106A and 106B\n626 8th Ave. SE\nOlympia\, WA 98501 \nIf you can’t attend in-person\, you can always join the meeting via Zoom. Learn more here.
URL:https://wholewashington.org/event/uhcc-meeting-field-trip/
LOCATION:Cherry Street Plaza\, 626 8th Ave. SE\, Olympia\, WA\, 98501\, United States
CATEGORIES:Thurston
ATTACH;FMTTYPE=image/png:https://wholewashington.org/wp-content/uploads/2026/03/UHCC-Field-Trip.png
END:VEVENT
END:VCALENDAR