BEGIN:VCALENDAR
VERSION:2.0
PRODID:-//Whole Washington - ECPv6.15.20//NONSGML v1.0//EN
CALSCALE:GREGORIAN
METHOD:PUBLISH
X-ORIGINAL-URL:https://wholewashington.org
X-WR-CALDESC:Events for Whole Washington
REFRESH-INTERVAL;VALUE=DURATION:PT1H
X-Robots-Tag:noindex
X-PUBLISHED-TTL:PT1H
BEGIN:VTIMEZONE
TZID:America/Los_Angeles
BEGIN:DAYLIGHT
TZOFFSETFROM:-0800
TZOFFSETTO:-0700
TZNAME:PDT
DTSTART:20250309T100000
END:DAYLIGHT
BEGIN:STANDARD
TZOFFSETFROM:-0700
TZOFFSETTO:-0800
TZNAME:PST
DTSTART:20251102T090000
END:STANDARD
BEGIN:DAYLIGHT
TZOFFSETFROM:-0800
TZOFFSETTO:-0700
TZNAME:PDT
DTSTART:20260308T100000
END:DAYLIGHT
BEGIN:STANDARD
TZOFFSETFROM:-0700
TZOFFSETTO:-0800
TZNAME:PST
DTSTART:20261101T090000
END:STANDARD
BEGIN:DAYLIGHT
TZOFFSETFROM:-0800
TZOFFSETTO:-0700
TZNAME:PDT
DTSTART:20270314T100000
END:DAYLIGHT
BEGIN:STANDARD
TZOFFSETFROM:-0700
TZOFFSETTO:-0800
TZNAME:PST
DTSTART:20271107T090000
END:STANDARD
END:VTIMEZONE
BEGIN:VEVENT
DTSTART;TZID=America/Los_Angeles:20260401T180000
DTEND;TZID=America/Los_Angeles:20260401T193000
DTSTAMP:20260420T033420
CREATED:20260224T024149Z
LAST-MODIFIED:20260227T024935Z
UID:10007666-1775066400-1775071800@wholewashington.org
SUMMARY:Town Hall - Olympia
DESCRIPTION:Whole Washington volunteers were invited to host a town hall at Endless Sound Cellars in Olympia. We’ll be there Wednesday April 1st at 6pm for this event. Open to the public. \nJoin us to learn more about the Washington Health Trust and our #ByBillOrByBallot strategy. \nOutside food/beverages are allowed  with some amazing local restaurants nearby. Hope to see you there! \nRSVP using the form below:
URL:https://wholewashington.org/event/town-hall-olympia/
LOCATION:Endless Sound Cellars\, 222 Capitol Way N #107\, OLYMPIA\, WA\, 98611\, United States
CATEGORIES:Thurston,Town Halls
ATTACH;FMTTYPE=image/png:https://wholewashington.org/wp-content/uploads/2026/02/Olympia-Town-Hall-4-1.png
END:VEVENT
BEGIN:VEVENT
DTSTART;TZID=America/Los_Angeles:20260402T110000
DTEND;TZID=America/Los_Angeles:20260402T120000
DTSTAMP:20260420T033420
CREATED:20260227T070234Z
LAST-MODIFIED:20260411T222503Z
UID:10007725-1775127600-1775131200@wholewashington.org
SUMMARY:Legislative & Commission Advocacy Team Meeting
DESCRIPTION:Help Whole Washington become more powerful in the legislature and get universal healthcare signed into law. We will be developing our strategy for building support for the Washington Health Trust among legislators and members of the Universal Health Care Commission and applying political pressure where necessary to move things through the process. Some things you can do by working with this team: \n\nSet up a meeting with your Legislators to make tangible asks that support universal healthcare\nSubmit written comments that show support for our bills\nGive public testimony at committee hearings\, work sessions\, and commission meetings\nBuild a working relationship with your legislators and their staff\n\nYour actions are part of a legislative strategy that we build on this team! \nPlease RSVP below for the Zoom link: \n \n\nIf the embedded form does not load or work for any reason try this direct link:\nhttps://actionnetwork.org/forms/legislative-commission-advocacy-team-meeting?source=direct_link&
URL:https://wholewashington.org/event/legislative-commission-advocacy-team-meeting-4-3-2-3/2026-04-02/
CATEGORIES:Legislative
ATTACH;FMTTYPE=image/png:https://wholewashington.org/wp-content/uploads/2025/10/Legislative-e1774565264784.png
END:VEVENT
BEGIN:VEVENT
DTSTART;TZID=America/Los_Angeles:20260402T160000
DTEND;TZID=America/Los_Angeles:20260402T170000
DTSTAMP:20260420T033420
CREATED:20260301T233335Z
LAST-MODIFIED:20260313T215357Z
UID:10007768-1775145600-1775149200@wholewashington.org
SUMMARY:2026 Gala Committee Meeting
DESCRIPTION:It’s time to start planning for our 2026 gala! This is a recurring meeting for the 2026 Gala Committee currently scheduled for every other Thursday.t \nRSVP using the form below for the link to the Zoom.
URL:https://wholewashington.org/event/2026-gala-committee-meeting-6-3/
CATEGORIES:Online,Team Meeting
ATTACH;FMTTYPE=image/png:https://wholewashington.org/wp-content/uploads/2026/02/Gala-and-Events-e1773438771879.png
END:VEVENT
BEGIN:VEVENT
DTSTART;TZID=America/Los_Angeles:20260403T103000
DTEND;TZID=America/Los_Angeles:20260403T113000
DTSTAMP:20260420T033420
CREATED:20251217T202900Z
LAST-MODIFIED:20260401T212854Z
UID:10006750-1775212200-1775215800@wholewashington.org
SUMMARY:Data & Tech Team Meeting
DESCRIPTION:Whole Washington’s Data & Tech Team meets monthly on the first Friday of the month. Help Whole Washington develop a cutting edge digital infrastructure that can win a grassroots statewide campaign. \nPlease RSVP below for the Zoom link: \n \nIf the embedded form does not load or work for any reason try this direct link:\nhttps://actionnetwork.org/forms/data-tech-team-meeting?source=direct_link&
URL:https://wholewashington.org/event/data-tech-team-meeting-2-2-2/2026-04-03/
ATTACH;FMTTYPE=image/png:https://wholewashington.org/wp-content/uploads/2025/07/Data-e1768335646989.png
END:VEVENT
BEGIN:VEVENT
DTSTART;TZID=America/Los_Angeles:20260406T120000
DTEND;TZID=America/Los_Angeles:20260406T130000
DTSTAMP:20260420T033420
CREATED:20260312T192908Z
LAST-MODIFIED:20260312T192910Z
UID:10007926-1775476800-1775480400@wholewashington.org
SUMMARY:Fundraising Meeting
DESCRIPTION:Political movements are sustained by grassroots donations! In order to put universal healthcare on the ballot we need money to print petition sheets\, pay for website hosting\, and much more. Join us for our fundraising meeting where we get into how much money we have\, how much we’re bringing in\, how much we need to succeed\, and where we’re going to get it! \nFundraising meetings are open to anyone and are a great way to get involved with Whole Washington. \nPlease RSVP below for the Zoom link: \n \nIf the embedded form does not load or work for any reason try this direct link:\nhttps://actionnetwork.org/forms/fundraising-meeting?source=direct_link&
URL:https://wholewashington.org/event/fundraising-meeting-3-2-2/2026-04-06/
CATEGORIES:Team Meeting
ATTACH;FMTTYPE=image/png:https://wholewashington.org/wp-content/uploads/2024/12/Fundraising.png
END:VEVENT
BEGIN:VEVENT
DTSTART;TZID=America/Los_Angeles:20260407T100000
DTEND;TZID=America/Los_Angeles:20260407T113000
DTSTAMP:20260420T033420
CREATED:20251003T194550Z
LAST-MODIFIED:20251005T210131Z
UID:10006144-1775556000-1775561400@wholewashington.org
SUMMARY:Communications & Social Media Team
DESCRIPTION:Help Whole Washington build a successful campaign through communications and social media. If you’re passionate about messaging and advocating for universal healthcare\, please join this team. \nPlease RSVP below for the Zoom link: \n \n\nIf the form doesn’t load\, use this direct link \nhttps://actionnetwork.org/forms/communications-and-social-media-team?source=direct_link&
URL:https://wholewashington.org/event/communications-and-social-media-team-3-2-2/2026-04-07/
LOCATION:ZOOM
CATEGORIES:Online,Team Meeting
ATTACH;FMTTYPE=image/png:https://wholewashington.org/wp-content/uploads/2025/10/Comms.png
END:VEVENT
BEGIN:VEVENT
DTSTART;TZID=America/Los_Angeles:20260408T120000
DTEND;TZID=America/Los_Angeles:20260408T130000
DTSTAMP:20260420T033420
CREATED:20251108T195010Z
LAST-MODIFIED:20251118T162835Z
UID:10006545-1775649600-1775653200@wholewashington.org
SUMMARY:Social Media Team Meeting
DESCRIPTION:Help Whole Washington get its name out there and recruit new volunteers via social media. If you would like to learn about the team and get more involved\, please join this meeting!
URL:https://wholewashington.org/event/social-media-team-meeting/2026-04-08/
LOCATION:ZOOM
CATEGORIES:Online
ATTACH;FMTTYPE=image/png:https://wholewashington.org/wp-content/uploads/2025/11/Social-Media.png
ORGANIZER;CN="Thomas Kennedy":MAILTO:thomass.kennedy@gmail.com
END:VEVENT
BEGIN:VEVENT
DTSTART;TZID=America/Los_Angeles:20260408T173000
DTEND;TZID=America/Los_Angeles:20260408T183000
DTSTAMP:20260420T033420
CREATED:20260401T223030Z
LAST-MODIFIED:20260413T170626Z
UID:10008278-1775669400-1775673000@wholewashington.org
SUMMARY:Team Initiative Meeting
DESCRIPTION:Join Whole Washington’s field organizers for regular planning meetings developing our next ballot initiative campaign! Help build public awareness\, trainings\, and signature gathering infrastructure to send universal healthcare to voters. \nRSVP below to receive the Zoom link:
URL:https://wholewashington.org/event/team-initiative-meeting/2026-04-08/
CATEGORIES:Ballot Initiative,Online,Team Meeting
ATTACH;FMTTYPE=image/png:https://wholewashington.org/wp-content/uploads/2026/04/Initiative.png
END:VEVENT
BEGIN:VEVENT
DTSTART;TZID=America/Los_Angeles:20260409T110000
DTEND;TZID=America/Los_Angeles:20260409T120000
DTSTAMP:20260420T033420
CREATED:20260227T070234Z
LAST-MODIFIED:20260411T222503Z
UID:10007726-1775732400-1775736000@wholewashington.org
SUMMARY:Legislative & Commission Advocacy Team Meeting
DESCRIPTION:Help Whole Washington become more powerful in the legislature and get universal healthcare signed into law. We will be developing our strategy for building support for the Washington Health Trust among legislators and members of the Universal Health Care Commission and applying political pressure where necessary to move things through the process. Some things you can do by working with this team: \n\nSet up a meeting with your Legislators to make tangible asks that support universal healthcare\nSubmit written comments that show support for our bills\nGive public testimony at committee hearings\, work sessions\, and commission meetings\nBuild a working relationship with your legislators and their staff\n\nYour actions are part of a legislative strategy that we build on this team! \nPlease RSVP below for the Zoom link: \n \n\nIf the embedded form does not load or work for any reason try this direct link:\nhttps://actionnetwork.org/forms/legislative-commission-advocacy-team-meeting?source=direct_link&
URL:https://wholewashington.org/event/legislative-commission-advocacy-team-meeting-4-3-2-3/2026-04-09/
CATEGORIES:Legislative
ATTACH;FMTTYPE=image/png:https://wholewashington.org/wp-content/uploads/2025/10/Legislative-e1774565264784.png
END:VEVENT
BEGIN:VEVENT
DTSTART;TZID=America/Los_Angeles:20260409T160000
DTEND;TZID=America/Los_Angeles:20260409T170000
DTSTAMP:20260420T033420
CREATED:20260106T020142Z
LAST-MODIFIED:20260402T233742Z
UID:10008284-1775750400-1775754000@wholewashington.org
SUMMARY:2026 Gala Committee Meeting
DESCRIPTION:It’s time to start planning for our 2026 gala! This is a recurring meeting for the 2026 Gala Committee currently scheduled for every other Thursday. \nRSVP using the form below for the link to the Zoom.
URL:https://wholewashington.org/event/2026-gala-committee-meeting-6/2026-04-09/
CATEGORIES:Online,Team Meeting
ATTACH;FMTTYPE=image/png:https://wholewashington.org/wp-content/uploads/2026/02/Gala-and-Events-e1773438771879.png
END:VEVENT
BEGIN:VEVENT
DTSTART;TZID=America/Los_Angeles:20260409T180000
DTEND;TZID=America/Los_Angeles:20260409T200000
DTSTAMP:20260420T033420
CREATED:20260401T222515Z
LAST-MODIFIED:20260401T222515Z
UID:10008277-1775757600-1775764800@wholewashington.org
SUMMARY:Organizing for Universal Healthcare on Campus
DESCRIPTION:Calling All Students\nLet’s organize on campus for universal healthcare! \nThis meeting is an introduction to building a student movement commited to winning. We can’t wait to hear your ideas! \nRSVP to receive Zoom Link
URL:https://wholewashington.org/event/organizing-for-universal-healthcare-on-campus/
CATEGORIES:Student Movement
ATTACH;FMTTYPE=image/png:https://wholewashington.org/wp-content/uploads/2026/03/Student-Movement.png
ORGANIZER;CN="Andre Stackhouse":MAILTO:andre@wholewashington.org
END:VEVENT
BEGIN:VEVENT
DTSTART;TZID=America/Los_Angeles:20260410T150000
DTEND;TZID=America/Los_Angeles:20260410T170000
DTSTAMP:20260420T033420
CREATED:20260409T232907Z
LAST-MODIFIED:20260409T232922Z
UID:10008418-1775833200-1775840400@wholewashington.org
SUMMARY:Phonebank for Universal Healthcare
DESCRIPTION:Whole Washington hosts weekly phone banking events on Wednesdays from 3-5pm. Whole Washington phone banking events are hosted via Zoom so the facilitator is available to support you as you make calls. These will be super easy calls\, targeting our supporters\, asking them to attend local events or otherwise get involved – so we can win.  Please join us if you can! \nRSVP for Zoom link:
URL:https://wholewashington.org/event/phonebank-for-universal-healthcare-7/2026-04-10/
LOCATION:ZOOM
CATEGORIES:Phonebank
ATTACH;FMTTYPE=image/png:https://wholewashington.org/wp-content/uploads/2025/07/Phonebanking-e1775683114646.png
END:VEVENT
BEGIN:VEVENT
DTSTART;TZID=America/Los_Angeles:20260411T100000
DTEND;TZID=America/Los_Angeles:20260411T140000
DTSTAMP:20260420T033420
CREATED:20260324T201134Z
LAST-MODIFIED:20260401T213024Z
UID:10007571-1775901600-1775916000@wholewashington.org
SUMMARY:Tabling at Esther Short Park
DESCRIPTION:We will have a table at Esther Short Park in Vancouver\, Washington\, to engage in conversation and get people to sign our pledge to support the initiative for Universal Healthcare. \nRSVP:
URL:https://wholewashington.org/event/tabeling-at-esther-short-park-3/
LOCATION:Esther Short Park – Vancouver\, 605 Esther St\, Vancouver\, WA\, 98660\, United States
CATEGORIES:Clark,Tabling Events
ATTACH;FMTTYPE=image/jpeg:https://wholewashington.org/wp-content/uploads/2025/11/IMG_4407-scaled-e1768334343621.jpg
ORGANIZER;CN="Leah Perkel":MAILTO:Leahperkel@gmail.com
GEO:45.626055;-122.6757269
X-APPLE-STRUCTURED-LOCATION;VALUE=URI;X-ADDRESS=Esther Short Park – Vancouver 605 Esther St Vancouver WA 98660 United States;X-APPLE-RADIUS=500;X-TITLE=605 Esther St:geo:-122.6757269,45.626055
END:VEVENT
BEGIN:VEVENT
DTSTART;TZID=America/Los_Angeles:20260411T110000
DTEND;TZID=America/Los_Angeles:20260411T120000
DTSTAMP:20260420T033420
CREATED:20260324T210847Z
LAST-MODIFIED:20260409T010935Z
UID:10008267-1775905200-1775908800@wholewashington.org
SUMMARY:Spokane County Monthly Meetup
DESCRIPTION:Join local Whole Washington supporters on the second Saturday every month. Meet new people\, learn about the universal healthcare work we’re doing\, and help spread the word! \nRSVP to receive the Zoom link
URL:https://wholewashington.org/event/spokane-monthly-meetup/
CATEGORIES:Spokane
ATTACH;FMTTYPE=image/png:https://wholewashington.org/wp-content/uploads/2026/03/Spokane-County-e1775080643328.png
END:VEVENT
BEGIN:VEVENT
DTSTART;TZID=America/Los_Angeles:20260411T180000
DTEND;TZID=America/Los_Angeles:20260411T193000
DTSTAMP:20260420T033420
CREATED:20260401T214758Z
LAST-MODIFIED:20260401T214759Z
UID:10008271-1775930400-1775935800@wholewashington.org
SUMMARY:Virtual New Volunteer Orientation
DESCRIPTION:Join us Saturday April 11th at 6pm for a virtual new volunteer orientation. Learn about how you can help the movement to get universal healthcare to Washington state! \nIf Saturday doesn’t work for you\, watch a previously recorded version on YouTube! \n \nRSVP for Zoom link. \n 
URL:https://wholewashington.org/event/virtual-new-volunteer-orientation-8/
LOCATION:ZOOM
CATEGORIES:Volunteer Orientation
ATTACH;FMTTYPE=image/png:https://wholewashington.org/wp-content/uploads/2025/10/Volunteer-Orientation-e1775080031275.png
END:VEVENT
BEGIN:VEVENT
DTSTART;TZID=America/Los_Angeles:20260412T100000
DTEND;TZID=America/Los_Angeles:20260412T120000
DTSTAMP:20260420T033420
CREATED:20260325T015555Z
LAST-MODIFIED:20260401T215131Z
UID:10008268-1775988000-1775995200@wholewashington.org
SUMMARY:Clark County Meetup
DESCRIPTION:Meeting for coffee and discussing opportunities on how to get involved\, and help put together events for this summer. Also learn more about our healthcare goals. \nRSVP:
URL:https://wholewashington.org/event/clark-county-meet-up/
LOCATION:Latte Da Coffee House\, 205 E 39th St\, Vancouver\, WA\, 98663\, United States
CATEGORIES:Clark,Team Meeting
ATTACH;FMTTYPE=image/png:https://wholewashington.org/wp-content/uploads/2026/02/Clark-County-e1774403692618.png
ORGANIZER;CN="Leah Perkel":MAILTO:Leahperkel@gmail.com
END:VEVENT
BEGIN:VEVENT
DTSTART;TZID=America/Los_Angeles:20260412T140000
DTEND;TZID=America/Los_Angeles:20260412T153000
DTSTAMP:20260420T033420
CREATED:20260404T001302Z
LAST-MODIFIED:20260405T221936Z
UID:10007431-1776002400-1776007800@wholewashington.org
SUMMARY:Whatcom County Monthly Meetup
DESCRIPTION:Join your fellow Whatcom County Whole Washington volunteers for our monthly in-person meet-up. Let’s talk policy\, action\, and how to get universal healthcare to Washington state.
URL:https://wholewashington.org/event/whatcom-county-monthly-meetup-04-12-26/
LOCATION:Stone’s Throw Brewery\, 1009 Larrabee Ave\, Bellingham\, WA\, 98225\, United States
CATEGORIES:Volunteer local meet up,Whatcom
ATTACH;FMTTYPE=image/png:https://wholewashington.org/wp-content/uploads/2026/01/Whatcom-County-1.png
END:VEVENT
BEGIN:VEVENT
DTSTART;TZID=America/Los_Angeles:20260414T100000
DTEND;TZID=America/Los_Angeles:20260414T113000
DTSTAMP:20260420T033420
CREATED:20251003T194550Z
LAST-MODIFIED:20251005T210131Z
UID:10006145-1776160800-1776166200@wholewashington.org
SUMMARY:Communications & Social Media Team
DESCRIPTION:Help Whole Washington build a successful campaign through communications and social media. If you’re passionate about messaging and advocating for universal healthcare\, please join this team. \nPlease RSVP below for the Zoom link: \n \n\nIf the form doesn’t load\, use this direct link \nhttps://actionnetwork.org/forms/communications-and-social-media-team?source=direct_link&
URL:https://wholewashington.org/event/communications-and-social-media-team-3-2-2/2026-04-14/
LOCATION:ZOOM
CATEGORIES:Online,Team Meeting
ATTACH;FMTTYPE=image/png:https://wholewashington.org/wp-content/uploads/2025/10/Comms.png
END:VEVENT
BEGIN:VEVENT
DTSTART;TZID=America/Los_Angeles:20260415T173000
DTEND;TZID=America/Los_Angeles:20260415T183000
DTSTAMP:20260420T033420
CREATED:20260401T223030Z
LAST-MODIFIED:20260413T170626Z
UID:10008679-1776274200-1776277800@wholewashington.org
SUMMARY:Team Initiative Meeting
DESCRIPTION:Join Whole Washington’s field organizers for regular planning meetings developing our next ballot initiative campaign! Help build public awareness\, trainings\, and signature gathering infrastructure to send universal healthcare to voters. \nRSVP below to receive the Zoom link:
URL:https://wholewashington.org/event/team-initiative-meeting/2026-04-15/
CATEGORIES:Ballot Initiative,Online,Team Meeting
ATTACH;FMTTYPE=image/png:https://wholewashington.org/wp-content/uploads/2026/04/Initiative.png
END:VEVENT
BEGIN:VEVENT
DTSTART;TZID=America/Los_Angeles:20260415T190000
DTEND;TZID=America/Los_Angeles:20260415T200000
DTSTAMP:20260420T033420
CREATED:20260316T230059Z
LAST-MODIFIED:20260316T230101Z
UID:10006912-1776279600-1776283200@wholewashington.org
SUMMARY:Regional and County Leads Meeting
DESCRIPTION:This is a monthly meeting on the 3rd Wednesday of each month for the Regional and County Leads to share best practices. \nFeel free to join this meeting if you’re interested in taking on a role like this.
URL:https://wholewashington.org/event/regional-and-county-leads-meeting-3-3/2026-04-15/
CATEGORIES:Team Meeting
ATTACH;FMTTYPE=image/png:https://wholewashington.org/wp-content/uploads/2025/09/Regional-County-e1773702003598.png
END:VEVENT
BEGIN:VEVENT
DTSTART;TZID=America/Los_Angeles:20260415T190000
DTEND;TZID=America/Los_Angeles:20260415T200000
DTSTAMP:20260420T033420
CREATED:20260405T191553Z
LAST-MODIFIED:20260405T191624Z
UID:10008415-1776279600-1776283200@wholewashington.org
SUMMARY:PNHP-WA Meeting
DESCRIPTION:Physicians for a National Health Program – Washington is having their next meeting on April 15th and our very own Carey Wallace will be the guest speaker! \nLearn more about PNHP Washington here and register for the meeting here.
URL:https://wholewashington.org/event/pnhp-wa-meeting/
LOCATION:ZOOM
CATEGORIES:Collaborative Organization Event,Online,Speaking Event
ATTACH;FMTTYPE=image/png:https://wholewashington.org/wp-content/uploads/2024/04/BoardChair.png
END:VEVENT
BEGIN:VEVENT
DTSTART;TZID=America/Los_Angeles:20260416T110000
DTEND;TZID=America/Los_Angeles:20260416T120000
DTSTAMP:20260420T033420
CREATED:20260227T070234Z
LAST-MODIFIED:20260411T222503Z
UID:10007727-1776337200-1776340800@wholewashington.org
SUMMARY:Legislative & Commission Advocacy Team Meeting
DESCRIPTION:Help Whole Washington become more powerful in the legislature and get universal healthcare signed into law. We will be developing our strategy for building support for the Washington Health Trust among legislators and members of the Universal Health Care Commission and applying political pressure where necessary to move things through the process. Some things you can do by working with this team: \n\nSet up a meeting with your Legislators to make tangible asks that support universal healthcare\nSubmit written comments that show support for our bills\nGive public testimony at committee hearings\, work sessions\, and commission meetings\nBuild a working relationship with your legislators and their staff\n\nYour actions are part of a legislative strategy that we build on this team! \nPlease RSVP below for the Zoom link: \n \n\nIf the embedded form does not load or work for any reason try this direct link:\nhttps://actionnetwork.org/forms/legislative-commission-advocacy-team-meeting?source=direct_link&
URL:https://wholewashington.org/event/legislative-commission-advocacy-team-meeting-4-3-2-3/2026-04-16/
CATEGORIES:Legislative
ATTACH;FMTTYPE=image/png:https://wholewashington.org/wp-content/uploads/2025/10/Legislative-e1774565264784.png
END:VEVENT
BEGIN:VEVENT
DTSTART;TZID=America/Los_Angeles:20260416T120000
DTEND;TZID=America/Los_Angeles:20260416T140000
DTSTAMP:20260420T033420
CREATED:20260108T040337Z
LAST-MODIFIED:20260108T040337Z
UID:10007108-1776340800-1776348000@wholewashington.org
SUMMARY:Board of Directors Meeting
DESCRIPTION:Monthly Board Meeting of Whole Washington \nJoin Whole Washington’s Board of Directors and other members of leadership to get a first-hand look at Whole Washington’s governance\, strategic development\, and decision-making. \nPlease RSVP below for the Zoom link: \n \n\nIf the embedded form does not load or work for any reason try this direct link:\nhttps://actionnetwork.org/forms/board-meeting?source=direct_link&
URL:https://wholewashington.org/event/board-of-directors-meeting/2026-04-16/
CATEGORIES:Online
ATTACH;FMTTYPE=image/png:https://wholewashington.org/wp-content/uploads/2025/01/Board.png
END:VEVENT
BEGIN:VEVENT
DTSTART;TZID=America/Los_Angeles:20260416T160000
DTEND;TZID=America/Los_Angeles:20260416T170000
DTSTAMP:20260420T033420
CREATED:20260106T020142Z
LAST-MODIFIED:20260402T233742Z
UID:10008059-1776355200-1776358800@wholewashington.org
SUMMARY:2026 Gala Committee Meeting
DESCRIPTION:It’s time to start planning for our 2026 gala! This is a recurring meeting for the 2026 Gala Committee currently scheduled for every other Thursday. \nRSVP using the form below for the link to the Zoom.
URL:https://wholewashington.org/event/2026-gala-committee-meeting-6/2026-04-16/
CATEGORIES:Online,Team Meeting
ATTACH;FMTTYPE=image/png:https://wholewashington.org/wp-content/uploads/2026/02/Gala-and-Events-e1773438771879.png
END:VEVENT
BEGIN:VEVENT
DTSTART;TZID=America/Los_Angeles:20260416T180000
DTEND;TZID=America/Los_Angeles:20260416T193000
DTSTAMP:20260420T033420
CREATED:20260407T212326Z
LAST-MODIFIED:20260407T225518Z
UID:10008416-1776362400-1776367800@wholewashington.org
SUMMARY:Yakima County Meetup
DESCRIPTION:Join Yakima County for our next in-person meeting! Join the fight for universal healthcare in Washington state. \nRSVP:
URL:https://wholewashington.org/event/yakima-county-meetup/
LOCATION:Summitview Starbucks\, 5906 Summitview Ave\, Yakima\, WA\, 98908\, United States
CATEGORIES:Team Meeting,Yakima
ATTACH;FMTTYPE=image/png:https://wholewashington.org/wp-content/uploads/2026/04/Yakima-County-e1775594361511.png
END:VEVENT
BEGIN:VEVENT
DTSTART;TZID=America/Los_Angeles:20260417T103000
DTEND;TZID=America/Los_Angeles:20260417T113000
DTSTAMP:20260420T033420
CREATED:20260414T221313Z
LAST-MODIFIED:20260414T221315Z
UID:10007179-1776421800-1776425400@wholewashington.org
SUMMARY:Weekly Standup and Task Review - Tech and Data
DESCRIPTION:Weekly Meeting where the Tech and Data team support each other\, review tasks\, schedules\, and look at our project boards for planning and clarity. Please come if you have any questions. Open to all. \nRSVP:
URL:https://wholewashington.org/event/weekly-standup-and-task-review-tech-and-data-4/2026-04-17/
LOCATION:Virtual
CATEGORIES:Team Meeting
ATTACH;FMTTYPE=image/png:https://wholewashington.org/wp-content/uploads/2025/07/Data-e1768335646989.png
ORGANIZER;CN="Andy Harding":MAILTO:andrewcharding@gmail.com
END:VEVENT
BEGIN:VEVENT
DTSTART;TZID=America/Los_Angeles:20260417T120000
DTEND;TZID=America/Los_Angeles:20260417T130000
DTSTAMP:20260420T033420
CREATED:20260413T031641Z
LAST-MODIFIED:20260413T031641Z
UID:10008940-1776427200-1776430800@wholewashington.org
SUMMARY:Alliance for Equitable Healthcare Training
DESCRIPTION:The Alliance for Equitable Healthcare is working on establishing a Public Hospital District in Kitsap County! Join them for their open house style Zoom training on how to get involved\, every Friday at noon for the month of April. Learn more about the alliance here and check out their facebook page\, which has some great videos on the initiative. \nRSVP below to get the link to the Zoom: \n 
URL:https://wholewashington.org/event/alliance-for-equitable-healthcare-training/2026-04-17/
LOCATION:ZOOM
CATEGORIES:Kitsap,Online,Volunteer Training
ATTACH;FMTTYPE=image/png:https://wholewashington.org/wp-content/uploads/2026/04/Screenshot-2026-04-12-at-8.15.10-PM.png
END:VEVENT
BEGIN:VEVENT
DTSTART;TZID=America/Los_Angeles:20260417T150000
DTEND;TZID=America/Los_Angeles:20260417T170000
DTSTAMP:20260420T033420
CREATED:20260409T232907Z
LAST-MODIFIED:20260409T232922Z
UID:10008419-1776438000-1776445200@wholewashington.org
SUMMARY:Phonebank for Universal Healthcare
DESCRIPTION:Whole Washington hosts weekly phone banking events on Wednesdays from 3-5pm. Whole Washington phone banking events are hosted via Zoom so the facilitator is available to support you as you make calls. These will be super easy calls\, targeting our supporters\, asking them to attend local events or otherwise get involved – so we can win.  Please join us if you can! \nRSVP for Zoom link:
URL:https://wholewashington.org/event/phonebank-for-universal-healthcare-7/2026-04-17/
LOCATION:ZOOM
CATEGORIES:Phonebank
ATTACH;FMTTYPE=image/png:https://wholewashington.org/wp-content/uploads/2025/07/Phonebanking-e1775683114646.png
END:VEVENT
BEGIN:VEVENT
DTSTART;TZID=America/Los_Angeles:20260418T100000
DTEND;TZID=America/Los_Angeles:20260418T110000
DTSTAMP:20260420T033420
CREATED:20260324T202557Z
LAST-MODIFIED:20260401T215049Z
UID:10008266-1776506400-1776510000@wholewashington.org
SUMMARY:Snohomish County Meetup
DESCRIPTION:Whole WA Snohomish is doing our April meetup at the Marysville library! Let’s get together and make healthcare happen. \nWhen: Saturday\, April 18\, 10am \nWhere: 6120 Grove St\, Marysville\, WA 98270 \nRSVP to get the link to the Google Meet if you’re attending virtually: \n \n\n 
URL:https://wholewashington.org/event/snohomish-county-monthly-meeting/
LOCATION:Marysville Library\, 6120 Grove St.\, Marysville\, WA\, 98270\, United States
CATEGORIES:Snohomish,Team Meeting
ATTACH;FMTTYPE=image/png:https://wholewashington.org/wp-content/uploads/2026/03/Snohomish-County-e1774383880156.png
END:VEVENT
BEGIN:VEVENT
DTSTART;TZID=America/Los_Angeles:20260418T110000
DTEND;TZID=America/Los_Angeles:20260418T133000
DTSTAMP:20260420T033420
CREATED:20260331T185721Z
LAST-MODIFIED:20260401T214848Z
UID:10008270-1776510000-1776519000@wholewashington.org
SUMMARY:Pierce County Meetup
DESCRIPTION:The next Pierce County meeting will be on April 18th at the Fern Hill Branch Library 11am to 1:30pm.765 S 84th St\, Tacoma\, WA 98444 \nPlease bring your healthcare story! How would you like to volunteer?Ask questions about the recent Legislative session!If you want to bring a friend please do! \nRSVP below to let us know you’ll be there: \n \n\n 
URL:https://wholewashington.org/event/pierce-county-meeting/
LOCATION:Fern Hill Branch Library\, 765 S 84th St\, Tacoma\, 98444\, United States
CATEGORIES:Pierce,Team Meeting,Volunteer local meet up
ATTACH;FMTTYPE=image/png:https://wholewashington.org/wp-content/uploads/2026/03/Pierce-County-e1774983418288.png
END:VEVENT
END:VCALENDAR