BEGIN:VCALENDAR
VERSION:2.0
PRODID:-//Whole Washington - ECPv6.15.20//NONSGML v1.0//EN
CALSCALE:GREGORIAN
METHOD:PUBLISH
X-WR-CALNAME:Whole Washington
X-ORIGINAL-URL:https://wholewashington.org
X-WR-CALDESC:Events for Whole Washington
REFRESH-INTERVAL;VALUE=DURATION:PT1H
X-Robots-Tag:noindex
X-PUBLISHED-TTL:PT1H
BEGIN:VTIMEZONE
TZID:America/Los_Angeles
BEGIN:DAYLIGHT
TZOFFSETFROM:-0800
TZOFFSETTO:-0700
TZNAME:PDT
DTSTART:20250309T100000
END:DAYLIGHT
BEGIN:STANDARD
TZOFFSETFROM:-0700
TZOFFSETTO:-0800
TZNAME:PST
DTSTART:20251102T090000
END:STANDARD
BEGIN:DAYLIGHT
TZOFFSETFROM:-0800
TZOFFSETTO:-0700
TZNAME:PDT
DTSTART:20260308T100000
END:DAYLIGHT
BEGIN:STANDARD
TZOFFSETFROM:-0700
TZOFFSETTO:-0800
TZNAME:PST
DTSTART:20261101T090000
END:STANDARD
BEGIN:DAYLIGHT
TZOFFSETFROM:-0800
TZOFFSETTO:-0700
TZNAME:PDT
DTSTART:20270314T100000
END:DAYLIGHT
BEGIN:STANDARD
TZOFFSETFROM:-0700
TZOFFSETTO:-0800
TZNAME:PST
DTSTART:20271107T090000
END:STANDARD
BEGIN:DAYLIGHT
TZOFFSETFROM:-0800
TZOFFSETTO:-0700
TZNAME:PDT
DTSTART:20280312T100000
END:DAYLIGHT
BEGIN:STANDARD
TZOFFSETFROM:-0700
TZOFFSETTO:-0800
TZNAME:PST
DTSTART:20281105T090000
END:STANDARD
BEGIN:DAYLIGHT
TZOFFSETFROM:-0800
TZOFFSETTO:-0700
TZNAME:PDT
DTSTART:20290311T100000
END:DAYLIGHT
BEGIN:STANDARD
TZOFFSETFROM:-0700
TZOFFSETTO:-0800
TZNAME:PST
DTSTART:20291104T090000
END:STANDARD
BEGIN:DAYLIGHT
TZOFFSETFROM:-0800
TZOFFSETTO:-0700
TZNAME:PDT
DTSTART:20300310T100000
END:DAYLIGHT
BEGIN:STANDARD
TZOFFSETFROM:-0700
TZOFFSETTO:-0800
TZNAME:PST
DTSTART:20301103T090000
END:STANDARD
BEGIN:DAYLIGHT
TZOFFSETFROM:-0800
TZOFFSETTO:-0700
TZNAME:PDT
DTSTART:20310309T100000
END:DAYLIGHT
BEGIN:STANDARD
TZOFFSETFROM:-0700
TZOFFSETTO:-0800
TZNAME:PST
DTSTART:20311102T090000
END:STANDARD
END:VTIMEZONE
BEGIN:VEVENT
DTSTART;VALUE=DATE:20260619
DTEND;VALUE=DATE:20260620
DTSTAMP:20260420T015618
CREATED:20260119T050809Z
LAST-MODIFIED:20260119T050809Z
UID:10007518-1781827200-1781913599@wholewashington.org
SUMMARY:Holiday: Juneteenth
DESCRIPTION:Whole Washington observes Juneteenth. We encourage all volunteers and supporters to use the day as either a time to take action\, or as a day of rest and reflection. Whole Washington leadership\, organizers\, and staff should not be expected to hold meetings.
URL:https://wholewashington.org/event/holiday-juneteenth/2026-06-19/
END:VEVENT
BEGIN:VEVENT
DTSTART;VALUE=DATE:20270619
DTEND;VALUE=DATE:20270620
DTSTAMP:20260420T015618
CREATED:20260119T050809Z
LAST-MODIFIED:20260119T050809Z
UID:10007519-1813363200-1813449599@wholewashington.org
SUMMARY:Holiday: Juneteenth
DESCRIPTION:Whole Washington observes Juneteenth. We encourage all volunteers and supporters to use the day as either a time to take action\, or as a day of rest and reflection. Whole Washington leadership\, organizers\, and staff should not be expected to hold meetings.
URL:https://wholewashington.org/event/holiday-juneteenth/2027-06-19/
END:VEVENT
BEGIN:VEVENT
DTSTART;VALUE=DATE:20280619
DTEND;VALUE=DATE:20280620
DTSTAMP:20260420T015618
CREATED:20260119T050809Z
LAST-MODIFIED:20260119T050809Z
UID:10007520-1844985600-1845071999@wholewashington.org
SUMMARY:Holiday: Juneteenth
DESCRIPTION:Whole Washington observes Juneteenth. We encourage all volunteers and supporters to use the day as either a time to take action\, or as a day of rest and reflection. Whole Washington leadership\, organizers\, and staff should not be expected to hold meetings.
URL:https://wholewashington.org/event/holiday-juneteenth/2028-06-19/
END:VEVENT
BEGIN:VEVENT
DTSTART;VALUE=DATE:20290619
DTEND;VALUE=DATE:20290620
DTSTAMP:20260420T015618
CREATED:20260119T050809Z
LAST-MODIFIED:20260119T050809Z
UID:10007521-1876521600-1876607999@wholewashington.org
SUMMARY:Holiday: Juneteenth
DESCRIPTION:Whole Washington observes Juneteenth. We encourage all volunteers and supporters to use the day as either a time to take action\, or as a day of rest and reflection. Whole Washington leadership\, organizers\, and staff should not be expected to hold meetings.
URL:https://wholewashington.org/event/holiday-juneteenth/2029-06-19/
END:VEVENT
BEGIN:VEVENT
DTSTART;VALUE=DATE:20300619
DTEND;VALUE=DATE:20300620
DTSTAMP:20260420T015618
CREATED:20260119T050809Z
LAST-MODIFIED:20260119T050809Z
UID:10007522-1908057600-1908143999@wholewashington.org
SUMMARY:Holiday: Juneteenth
DESCRIPTION:Whole Washington observes Juneteenth. We encourage all volunteers and supporters to use the day as either a time to take action\, or as a day of rest and reflection. Whole Washington leadership\, organizers\, and staff should not be expected to hold meetings.
URL:https://wholewashington.org/event/holiday-juneteenth/2030-06-19/
END:VEVENT
END:VCALENDAR