BEGIN:VCALENDAR
VERSION:2.0
PRODID:-//Whole Washington - ECPv6.15.20//NONSGML v1.0//EN
CALSCALE:GREGORIAN
METHOD:PUBLISH
X-WR-CALNAME:Whole Washington
X-ORIGINAL-URL:https://wholewashington.org
X-WR-CALDESC:Events for Whole Washington
REFRESH-INTERVAL;VALUE=DURATION:PT1H
X-Robots-Tag:noindex
X-PUBLISHED-TTL:PT1H
BEGIN:VTIMEZONE
TZID:America/Los_Angeles
BEGIN:DAYLIGHT
TZOFFSETFROM:-0800
TZOFFSETTO:-0700
TZNAME:PDT
DTSTART:20250309T100000
END:DAYLIGHT
BEGIN:STANDARD
TZOFFSETFROM:-0700
TZOFFSETTO:-0800
TZNAME:PST
DTSTART:20251102T090000
END:STANDARD
BEGIN:DAYLIGHT
TZOFFSETFROM:-0800
TZOFFSETTO:-0700
TZNAME:PDT
DTSTART:20260308T100000
END:DAYLIGHT
BEGIN:STANDARD
TZOFFSETFROM:-0700
TZOFFSETTO:-0800
TZNAME:PST
DTSTART:20261101T090000
END:STANDARD
BEGIN:DAYLIGHT
TZOFFSETFROM:-0800
TZOFFSETTO:-0700
TZNAME:PDT
DTSTART:20270314T100000
END:DAYLIGHT
BEGIN:STANDARD
TZOFFSETFROM:-0700
TZOFFSETTO:-0800
TZNAME:PST
DTSTART:20271107T090000
END:STANDARD
BEGIN:DAYLIGHT
TZOFFSETFROM:-0800
TZOFFSETTO:-0700
TZNAME:PDT
DTSTART:20280312T100000
END:DAYLIGHT
BEGIN:STANDARD
TZOFFSETFROM:-0700
TZOFFSETTO:-0800
TZNAME:PST
DTSTART:20281105T090000
END:STANDARD
BEGIN:DAYLIGHT
TZOFFSETFROM:-0800
TZOFFSETTO:-0700
TZNAME:PDT
DTSTART:20290311T100000
END:DAYLIGHT
BEGIN:STANDARD
TZOFFSETFROM:-0700
TZOFFSETTO:-0800
TZNAME:PST
DTSTART:20291104T090000
END:STANDARD
BEGIN:DAYLIGHT
TZOFFSETFROM:-0800
TZOFFSETTO:-0700
TZNAME:PDT
DTSTART:20300310T100000
END:DAYLIGHT
BEGIN:STANDARD
TZOFFSETFROM:-0700
TZOFFSETTO:-0800
TZNAME:PST
DTSTART:20301103T090000
END:STANDARD
BEGIN:DAYLIGHT
TZOFFSETFROM:-0800
TZOFFSETTO:-0700
TZNAME:PDT
DTSTART:20310309T100000
END:DAYLIGHT
BEGIN:STANDARD
TZOFFSETFROM:-0700
TZOFFSETTO:-0800
TZNAME:PST
DTSTART:20311102T090000
END:STANDARD
END:VTIMEZONE
BEGIN:VEVENT
DTSTART;VALUE=DATE:20261123
DTEND;VALUE=DATE:20261128
DTSTAMP:20260420T043142
CREATED:20260119T052127Z
LAST-MODIFIED:20260119T052127Z
UID:10007550-1795392000-1795823999@wholewashington.org
SUMMARY:Holiday: Autumn Break
DESCRIPTION:Whole Washington Autumn Break. We encourage all volunteers and supporters to use the day as either a time to take action\, or as a day of rest and reflection. Whole Washington leadership\, organizers\, and staff should not be expected to hold meetings.
URL:https://wholewashington.org/event/holiday-autumn-break/2026-11-23/
END:VEVENT
BEGIN:VEVENT
DTSTART;VALUE=DATE:20271122
DTEND;VALUE=DATE:20271127
DTSTAMP:20260420T043142
CREATED:20260119T052127Z
LAST-MODIFIED:20260119T052127Z
UID:10007551-1826841600-1827273599@wholewashington.org
SUMMARY:Holiday: Autumn Break
DESCRIPTION:Whole Washington Autumn Break. We encourage all volunteers and supporters to use the day as either a time to take action\, or as a day of rest and reflection. Whole Washington leadership\, organizers\, and staff should not be expected to hold meetings.
URL:https://wholewashington.org/event/holiday-autumn-break/2027-11-22/
END:VEVENT
BEGIN:VEVENT
DTSTART;VALUE=DATE:20281127
DTEND;VALUE=DATE:20281202
DTSTAMP:20260420T043142
CREATED:20260119T052127Z
LAST-MODIFIED:20260119T052127Z
UID:10007552-1858896000-1859327999@wholewashington.org
SUMMARY:Holiday: Autumn Break
DESCRIPTION:Whole Washington Autumn Break. We encourage all volunteers and supporters to use the day as either a time to take action\, or as a day of rest and reflection. Whole Washington leadership\, organizers\, and staff should not be expected to hold meetings.
URL:https://wholewashington.org/event/holiday-autumn-break/2028-11-27/
END:VEVENT
BEGIN:VEVENT
DTSTART;VALUE=DATE:20291126
DTEND;VALUE=DATE:20291201
DTSTAMP:20260420T043142
CREATED:20260119T052127Z
LAST-MODIFIED:20260119T052127Z
UID:10007553-1890345600-1890777599@wholewashington.org
SUMMARY:Holiday: Autumn Break
DESCRIPTION:Whole Washington Autumn Break. We encourage all volunteers and supporters to use the day as either a time to take action\, or as a day of rest and reflection. Whole Washington leadership\, organizers\, and staff should not be expected to hold meetings.
URL:https://wholewashington.org/event/holiday-autumn-break/2029-11-26/
END:VEVENT
BEGIN:VEVENT
DTSTART;VALUE=DATE:20301125
DTEND;VALUE=DATE:20301130
DTSTAMP:20260420T043142
CREATED:20260119T052127Z
LAST-MODIFIED:20260119T052127Z
UID:10007554-1921795200-1922227199@wholewashington.org
SUMMARY:Holiday: Autumn Break
DESCRIPTION:Whole Washington Autumn Break. We encourage all volunteers and supporters to use the day as either a time to take action\, or as a day of rest and reflection. Whole Washington leadership\, organizers\, and staff should not be expected to hold meetings.
URL:https://wholewashington.org/event/holiday-autumn-break/2030-11-25/
END:VEVENT
END:VCALENDAR