BEGIN:VCALENDAR
VERSION:2.0
PRODID:-//Whole Washington - ECPv6.15.20//NONSGML v1.0//EN
CALSCALE:GREGORIAN
METHOD:PUBLISH
X-WR-CALNAME:Whole Washington
X-ORIGINAL-URL:https://wholewashington.org
X-WR-CALDESC:Events for Whole Washington
REFRESH-INTERVAL;VALUE=DURATION:PT1H
X-Robots-Tag:noindex
X-PUBLISHED-TTL:PT1H
BEGIN:VTIMEZONE
TZID:America/Los_Angeles
BEGIN:DAYLIGHT
TZOFFSETFROM:-0800
TZOFFSETTO:-0700
TZNAME:PDT
DTSTART:20250309T100000
END:DAYLIGHT
BEGIN:STANDARD
TZOFFSETFROM:-0700
TZOFFSETTO:-0800
TZNAME:PST
DTSTART:20251102T090000
END:STANDARD
BEGIN:DAYLIGHT
TZOFFSETFROM:-0800
TZOFFSETTO:-0700
TZNAME:PDT
DTSTART:20260308T100000
END:DAYLIGHT
BEGIN:STANDARD
TZOFFSETFROM:-0700
TZOFFSETTO:-0800
TZNAME:PST
DTSTART:20261101T090000
END:STANDARD
BEGIN:DAYLIGHT
TZOFFSETFROM:-0800
TZOFFSETTO:-0700
TZNAME:PDT
DTSTART:20270314T100000
END:DAYLIGHT
BEGIN:STANDARD
TZOFFSETFROM:-0700
TZOFFSETTO:-0800
TZNAME:PST
DTSTART:20271107T090000
END:STANDARD
BEGIN:DAYLIGHT
TZOFFSETFROM:-0800
TZOFFSETTO:-0700
TZNAME:PDT
DTSTART:20280312T100000
END:DAYLIGHT
BEGIN:STANDARD
TZOFFSETFROM:-0700
TZOFFSETTO:-0800
TZNAME:PST
DTSTART:20281105T090000
END:STANDARD
BEGIN:DAYLIGHT
TZOFFSETFROM:-0800
TZOFFSETTO:-0700
TZNAME:PDT
DTSTART:20290311T100000
END:DAYLIGHT
BEGIN:STANDARD
TZOFFSETFROM:-0700
TZOFFSETTO:-0800
TZNAME:PST
DTSTART:20291104T090000
END:STANDARD
BEGIN:DAYLIGHT
TZOFFSETFROM:-0800
TZOFFSETTO:-0700
TZNAME:PDT
DTSTART:20300310T100000
END:DAYLIGHT
BEGIN:STANDARD
TZOFFSETFROM:-0700
TZOFFSETTO:-0800
TZNAME:PST
DTSTART:20301103T090000
END:STANDARD
BEGIN:DAYLIGHT
TZOFFSETFROM:-0800
TZOFFSETTO:-0700
TZNAME:PDT
DTSTART:20310309T100000
END:DAYLIGHT
BEGIN:STANDARD
TZOFFSETFROM:-0700
TZOFFSETTO:-0800
TZNAME:PST
DTSTART:20311102T090000
END:STANDARD
BEGIN:DAYLIGHT
TZOFFSETFROM:-0800
TZOFFSETTO:-0700
TZNAME:PDT
DTSTART:20320314T100000
END:DAYLIGHT
BEGIN:STANDARD
TZOFFSETFROM:-0700
TZOFFSETTO:-0800
TZNAME:PST
DTSTART:20321107T090000
END:STANDARD
END:VTIMEZONE
BEGIN:VEVENT
DTSTART;VALUE=DATE:20261218
DTEND;VALUE=DATE:20270102
DTSTAMP:20260420T055930
CREATED:20260119T052249Z
LAST-MODIFIED:20260119T052249Z
UID:10007555-1797552000-1798847999@wholewashington.org
SUMMARY:Holiday: Winter Break
DESCRIPTION:Whole Washington Winter Break! We encourage all volunteers and supporters to use the day as either a time to take action\, or as a day of rest and reflection. Whole Washington leadership\, organizers\, and staff should not be expected to hold meetings.
URL:https://wholewashington.org/event/holiday-winter-break/2026-12-18/
END:VEVENT
BEGIN:VEVENT
DTSTART;VALUE=DATE:20271218
DTEND;VALUE=DATE:20280102
DTSTAMP:20260420T055930
CREATED:20260119T052249Z
LAST-MODIFIED:20260119T052249Z
UID:10007556-1829088000-1830383999@wholewashington.org
SUMMARY:Holiday: Winter Break
DESCRIPTION:Whole Washington Winter Break! We encourage all volunteers and supporters to use the day as either a time to take action\, or as a day of rest and reflection. Whole Washington leadership\, organizers\, and staff should not be expected to hold meetings.
URL:https://wholewashington.org/event/holiday-winter-break/2027-12-18/
END:VEVENT
BEGIN:VEVENT
DTSTART;VALUE=DATE:20281218
DTEND;VALUE=DATE:20290102
DTSTAMP:20260420T055930
CREATED:20260119T052249Z
LAST-MODIFIED:20260119T052249Z
UID:10007557-1860710400-1862006399@wholewashington.org
SUMMARY:Holiday: Winter Break
DESCRIPTION:Whole Washington Winter Break! We encourage all volunteers and supporters to use the day as either a time to take action\, or as a day of rest and reflection. Whole Washington leadership\, organizers\, and staff should not be expected to hold meetings.
URL:https://wholewashington.org/event/holiday-winter-break/2028-12-18/
END:VEVENT
BEGIN:VEVENT
DTSTART;VALUE=DATE:20291218
DTEND;VALUE=DATE:20300102
DTSTAMP:20260420T055930
CREATED:20260119T052249Z
LAST-MODIFIED:20260119T052249Z
UID:10007558-1892246400-1893542399@wholewashington.org
SUMMARY:Holiday: Winter Break
DESCRIPTION:Whole Washington Winter Break! We encourage all volunteers and supporters to use the day as either a time to take action\, or as a day of rest and reflection. Whole Washington leadership\, organizers\, and staff should not be expected to hold meetings.
URL:https://wholewashington.org/event/holiday-winter-break/2029-12-18/
END:VEVENT
BEGIN:VEVENT
DTSTART;VALUE=DATE:20301218
DTEND;VALUE=DATE:20310102
DTSTAMP:20260420T055930
CREATED:20260119T052249Z
LAST-MODIFIED:20260119T052249Z
UID:10007559-1923782400-1925078399@wholewashington.org
SUMMARY:Holiday: Winter Break
DESCRIPTION:Whole Washington Winter Break! We encourage all volunteers and supporters to use the day as either a time to take action\, or as a day of rest and reflection. Whole Washington leadership\, organizers\, and staff should not be expected to hold meetings.
URL:https://wholewashington.org/event/holiday-winter-break/2030-12-18/
END:VEVENT
END:VCALENDAR