BEGIN:VCALENDAR
VERSION:2.0
PRODID:-//Whole Washington - ECPv6.15.20//NONSGML v1.0//EN
CALSCALE:GREGORIAN
METHOD:PUBLISH
X-WR-CALNAME:Whole Washington
X-ORIGINAL-URL:https://wholewashington.org
X-WR-CALDESC:Events for Whole Washington
REFRESH-INTERVAL;VALUE=DURATION:PT1H
X-Robots-Tag:noindex
X-PUBLISHED-TTL:PT1H
BEGIN:VTIMEZONE
TZID:America/Los_Angeles
BEGIN:DAYLIGHT
TZOFFSETFROM:-0800
TZOFFSETTO:-0700
TZNAME:PDT
DTSTART:20250309T100000
END:DAYLIGHT
BEGIN:STANDARD
TZOFFSETFROM:-0700
TZOFFSETTO:-0800
TZNAME:PST
DTSTART:20251102T090000
END:STANDARD
BEGIN:DAYLIGHT
TZOFFSETFROM:-0800
TZOFFSETTO:-0700
TZNAME:PDT
DTSTART:20260308T100000
END:DAYLIGHT
BEGIN:STANDARD
TZOFFSETFROM:-0700
TZOFFSETTO:-0800
TZNAME:PST
DTSTART:20261101T090000
END:STANDARD
BEGIN:DAYLIGHT
TZOFFSETFROM:-0800
TZOFFSETTO:-0700
TZNAME:PDT
DTSTART:20270314T100000
END:DAYLIGHT
BEGIN:STANDARD
TZOFFSETFROM:-0700
TZOFFSETTO:-0800
TZNAME:PST
DTSTART:20271107T090000
END:STANDARD
BEGIN:DAYLIGHT
TZOFFSETFROM:-0800
TZOFFSETTO:-0700
TZNAME:PDT
DTSTART:20280312T100000
END:DAYLIGHT
BEGIN:STANDARD
TZOFFSETFROM:-0700
TZOFFSETTO:-0800
TZNAME:PST
DTSTART:20281105T090000
END:STANDARD
BEGIN:DAYLIGHT
TZOFFSETFROM:-0800
TZOFFSETTO:-0700
TZNAME:PDT
DTSTART:20290311T100000
END:DAYLIGHT
BEGIN:STANDARD
TZOFFSETFROM:-0700
TZOFFSETTO:-0800
TZNAME:PST
DTSTART:20291104T090000
END:STANDARD
BEGIN:DAYLIGHT
TZOFFSETFROM:-0800
TZOFFSETTO:-0700
TZNAME:PDT
DTSTART:20300310T100000
END:DAYLIGHT
BEGIN:STANDARD
TZOFFSETFROM:-0700
TZOFFSETTO:-0800
TZNAME:PST
DTSTART:20301103T090000
END:STANDARD
BEGIN:DAYLIGHT
TZOFFSETFROM:-0800
TZOFFSETTO:-0700
TZNAME:PDT
DTSTART:20310309T100000
END:DAYLIGHT
BEGIN:STANDARD
TZOFFSETFROM:-0700
TZOFFSETTO:-0800
TZNAME:PST
DTSTART:20311102T090000
END:STANDARD
END:VTIMEZONE
BEGIN:VEVENT
DTSTART;VALUE=DATE:20261103
DTEND;VALUE=DATE:20261104
DTSTAMP:20260420T061833
CREATED:20260119T052828Z
LAST-MODIFIED:20260119T052828Z
UID:10007560-1793664000-1793750399@wholewashington.org
SUMMARY:Holiday: Election Day
DESCRIPTION:Whole Washington observes Election Day! We encourage all volunteers and supporters to use the day as either a time to take action\, or as a day of rest and reflection. Whole Washington leadership\, organizers\, and staff should not be expected to hold meetings.
URL:https://wholewashington.org/event/holiday-election-day/2026-11-03/
END:VEVENT
BEGIN:VEVENT
DTSTART;VALUE=DATE:20271102
DTEND;VALUE=DATE:20271103
DTSTAMP:20260420T061833
CREATED:20260119T052828Z
LAST-MODIFIED:20260119T052828Z
UID:10007561-1825113600-1825199999@wholewashington.org
SUMMARY:Holiday: Election Day
DESCRIPTION:Whole Washington observes Election Day! We encourage all volunteers and supporters to use the day as either a time to take action\, or as a day of rest and reflection. Whole Washington leadership\, organizers\, and staff should not be expected to hold meetings.
URL:https://wholewashington.org/event/holiday-election-day/2027-11-02/
END:VEVENT
BEGIN:VEVENT
DTSTART;VALUE=DATE:20281107
DTEND;VALUE=DATE:20281108
DTSTAMP:20260420T061833
CREATED:20260119T052828Z
LAST-MODIFIED:20260119T052828Z
UID:10007562-1857168000-1857254399@wholewashington.org
SUMMARY:Holiday: Election Day
DESCRIPTION:Whole Washington observes Election Day! We encourage all volunteers and supporters to use the day as either a time to take action\, or as a day of rest and reflection. Whole Washington leadership\, organizers\, and staff should not be expected to hold meetings.
URL:https://wholewashington.org/event/holiday-election-day/2028-11-07/
END:VEVENT
BEGIN:VEVENT
DTSTART;VALUE=DATE:20291106
DTEND;VALUE=DATE:20291107
DTSTAMP:20260420T061833
CREATED:20260119T052828Z
LAST-MODIFIED:20260119T052828Z
UID:10007563-1888617600-1888703999@wholewashington.org
SUMMARY:Holiday: Election Day
DESCRIPTION:Whole Washington observes Election Day! We encourage all volunteers and supporters to use the day as either a time to take action\, or as a day of rest and reflection. Whole Washington leadership\, organizers\, and staff should not be expected to hold meetings.
URL:https://wholewashington.org/event/holiday-election-day/2029-11-06/
END:VEVENT
BEGIN:VEVENT
DTSTART;VALUE=DATE:20301105
DTEND;VALUE=DATE:20301106
DTSTAMP:20260420T061833
CREATED:20260119T052828Z
LAST-MODIFIED:20260119T052828Z
UID:10007564-1920067200-1920153599@wholewashington.org
SUMMARY:Holiday: Election Day
DESCRIPTION:Whole Washington observes Election Day! We encourage all volunteers and supporters to use the day as either a time to take action\, or as a day of rest and reflection. Whole Washington leadership\, organizers\, and staff should not be expected to hold meetings.
URL:https://wholewashington.org/event/holiday-election-day/2030-11-05/
END:VEVENT
END:VCALENDAR