BEGIN:VCALENDAR
VERSION:2.0
PRODID:-//Whole Washington - ECPv6.15.20//NONSGML v1.0//EN
CALSCALE:GREGORIAN
METHOD:PUBLISH
X-ORIGINAL-URL:https://wholewashington.org
X-WR-CALDESC:Events for Whole Washington
REFRESH-INTERVAL;VALUE=DURATION:PT1H
X-Robots-Tag:noindex
X-PUBLISHED-TTL:PT1H
BEGIN:VTIMEZONE
TZID:America/Los_Angeles
BEGIN:DAYLIGHT
TZOFFSETFROM:-0800
TZOFFSETTO:-0700
TZNAME:PDT
DTSTART:20250309T100000
END:DAYLIGHT
BEGIN:STANDARD
TZOFFSETFROM:-0700
TZOFFSETTO:-0800
TZNAME:PST
DTSTART:20251102T090000
END:STANDARD
BEGIN:DAYLIGHT
TZOFFSETFROM:-0800
TZOFFSETTO:-0700
TZNAME:PDT
DTSTART:20260308T100000
END:DAYLIGHT
BEGIN:STANDARD
TZOFFSETFROM:-0700
TZOFFSETTO:-0800
TZNAME:PST
DTSTART:20261101T090000
END:STANDARD
BEGIN:DAYLIGHT
TZOFFSETFROM:-0800
TZOFFSETTO:-0700
TZNAME:PDT
DTSTART:20270314T100000
END:DAYLIGHT
BEGIN:STANDARD
TZOFFSETFROM:-0700
TZOFFSETTO:-0800
TZNAME:PST
DTSTART:20271107T090000
END:STANDARD
END:VTIMEZONE
BEGIN:VEVENT
DTSTART;TZID=America/Los_Angeles:20260202T190000
DTEND;TZID=America/Los_Angeles:20260202T201500
DTSTAMP:20260420T101904
CREATED:20260104T234233Z
LAST-MODIFIED:20260104T234233Z
UID:10006890-1770058800-1770063300@wholewashington.org
SUMMARY:Monthly All Hands
DESCRIPTION:Whole Washington meets on the first Monday of every month to join all volunteers\, teams\, strategies\, and people into one meeting to advance our goals towards universal healthcare. These meetings are open to the public and a great starting point for new people looking to see all of the ways to be involved with Whole Washington. \nPlease RSVP below for the Zoom link: \n \n\nIf the embedded form does not load or work for any reason try this direct link:\nhttps://actionnetwork.org/forms/all-hands-meeting?source=direct_link& \nMissed a meeting? Catch up on with our All Hands YouTube playlist!
URL:https://wholewashington.org/event/monthly-all-hands/2026-02-02/
CATEGORIES:Online
ATTACH;FMTTYPE=image/png:https://wholewashington.org/wp-content/uploads/2023/12/All-Hands.png
END:VEVENT
END:VCALENDAR