BEGIN:VCALENDAR
VERSION:2.0
PRODID:-//Whole Washington - ECPv6.15.20//NONSGML v1.0//EN
CALSCALE:GREGORIAN
METHOD:PUBLISH
X-WR-CALNAME:Whole Washington
X-ORIGINAL-URL:https://wholewashington.org
X-WR-CALDESC:Events for Whole Washington
REFRESH-INTERVAL;VALUE=DURATION:PT1H
X-Robots-Tag:noindex
X-PUBLISHED-TTL:PT1H
BEGIN:VTIMEZONE
TZID:America/Los_Angeles
BEGIN:DAYLIGHT
TZOFFSETFROM:-0800
TZOFFSETTO:-0700
TZNAME:PDT
DTSTART:20240310T100000
END:DAYLIGHT
BEGIN:STANDARD
TZOFFSETFROM:-0700
TZOFFSETTO:-0800
TZNAME:PST
DTSTART:20241103T090000
END:STANDARD
BEGIN:DAYLIGHT
TZOFFSETFROM:-0800
TZOFFSETTO:-0700
TZNAME:PDT
DTSTART:20250309T100000
END:DAYLIGHT
BEGIN:STANDARD
TZOFFSETFROM:-0700
TZOFFSETTO:-0800
TZNAME:PST
DTSTART:20251102T090000
END:STANDARD
BEGIN:DAYLIGHT
TZOFFSETFROM:-0800
TZOFFSETTO:-0700
TZNAME:PDT
DTSTART:20260308T100000
END:DAYLIGHT
BEGIN:STANDARD
TZOFFSETFROM:-0700
TZOFFSETTO:-0800
TZNAME:PST
DTSTART:20261101T090000
END:STANDARD
BEGIN:DAYLIGHT
TZOFFSETFROM:-0800
TZOFFSETTO:-0700
TZNAME:PDT
DTSTART:20270314T100000
END:DAYLIGHT
BEGIN:STANDARD
TZOFFSETFROM:-0700
TZOFFSETTO:-0800
TZNAME:PST
DTSTART:20271107T090000
END:STANDARD
END:VTIMEZONE
BEGIN:VEVENT
DTSTART;TZID=America/Los_Angeles:20251008T160000
DTEND;TZID=America/Los_Angeles:20251008T170000
DTSTAMP:20260420T070629
CREATED:20251005T210354Z
LAST-MODIFIED:20251005T210355Z
UID:10003655-1759939200-1759942800@wholewashington.org
SUMMARY:Fundraising Meeting
DESCRIPTION:Political movements are sustained by grassroots donations! In order to put universal healthcare on the ballot we need money to print petition sheets\, pay for website hosting\, and much more. Join us for our fundraising meeting where we get into how much money we have\, how much we’re bringing in\, how much we need to succeed\, and where we’re going to get it! \nFundraising meetings are open to anyone and are a great way to get involved with Whole Washington. \nPlease RSVP below for the Zoom link: \n \nIf the embedded form does not load or work for any reason try this direct link:\nhttps://actionnetwork.org/forms/fundraising-meeting?source=direct_link&
URL:https://wholewashington.org/event/fundraising-meeting-3-2/2025-10-08/
CATEGORIES:Team Meeting
ATTACH;FMTTYPE=image/png:https://wholewashington.org/wp-content/uploads/2024/12/Fundraising.png
END:VEVENT
BEGIN:VEVENT
DTSTART;TZID=America/Los_Angeles:20251022T160000
DTEND;TZID=America/Los_Angeles:20251022T170000
DTSTAMP:20260420T070629
CREATED:20251005T210354Z
LAST-MODIFIED:20251005T210355Z
UID:10003656-1761148800-1761152400@wholewashington.org
SUMMARY:Fundraising Meeting
DESCRIPTION:Political movements are sustained by grassroots donations! In order to put universal healthcare on the ballot we need money to print petition sheets\, pay for website hosting\, and much more. Join us for our fundraising meeting where we get into how much money we have\, how much we’re bringing in\, how much we need to succeed\, and where we’re going to get it! \nFundraising meetings are open to anyone and are a great way to get involved with Whole Washington. \nPlease RSVP below for the Zoom link: \n \nIf the embedded form does not load or work for any reason try this direct link:\nhttps://actionnetwork.org/forms/fundraising-meeting?source=direct_link&
URL:https://wholewashington.org/event/fundraising-meeting-3-2/2025-10-22/
CATEGORIES:Team Meeting
ATTACH;FMTTYPE=image/png:https://wholewashington.org/wp-content/uploads/2024/12/Fundraising.png
END:VEVENT
BEGIN:VEVENT
DTSTART;TZID=America/Los_Angeles:20251105T160000
DTEND;TZID=America/Los_Angeles:20251105T170000
DTSTAMP:20260420T070629
CREATED:20251005T210354Z
LAST-MODIFIED:20251005T210355Z
UID:10003657-1762358400-1762362000@wholewashington.org
SUMMARY:Fundraising Meeting
DESCRIPTION:Political movements are sustained by grassroots donations! In order to put universal healthcare on the ballot we need money to print petition sheets\, pay for website hosting\, and much more. Join us for our fundraising meeting where we get into how much money we have\, how much we’re bringing in\, how much we need to succeed\, and where we’re going to get it! \nFundraising meetings are open to anyone and are a great way to get involved with Whole Washington. \nPlease RSVP below for the Zoom link: \n \nIf the embedded form does not load or work for any reason try this direct link:\nhttps://actionnetwork.org/forms/fundraising-meeting?source=direct_link&
URL:https://wholewashington.org/event/fundraising-meeting-3-2/2025-11-05/
CATEGORIES:Team Meeting
ATTACH;FMTTYPE=image/png:https://wholewashington.org/wp-content/uploads/2024/12/Fundraising.png
END:VEVENT
BEGIN:VEVENT
DTSTART;TZID=America/Los_Angeles:20251119T160000
DTEND;TZID=America/Los_Angeles:20251119T170000
DTSTAMP:20260420T070629
CREATED:20251005T210354Z
LAST-MODIFIED:20251005T210355Z
UID:10003658-1763568000-1763571600@wholewashington.org
SUMMARY:Fundraising Meeting
DESCRIPTION:Political movements are sustained by grassroots donations! In order to put universal healthcare on the ballot we need money to print petition sheets\, pay for website hosting\, and much more. Join us for our fundraising meeting where we get into how much money we have\, how much we’re bringing in\, how much we need to succeed\, and where we’re going to get it! \nFundraising meetings are open to anyone and are a great way to get involved with Whole Washington. \nPlease RSVP below for the Zoom link: \n \nIf the embedded form does not load or work for any reason try this direct link:\nhttps://actionnetwork.org/forms/fundraising-meeting?source=direct_link&
URL:https://wholewashington.org/event/fundraising-meeting-3-2/2025-11-19/
CATEGORIES:Team Meeting
ATTACH;FMTTYPE=image/png:https://wholewashington.org/wp-content/uploads/2024/12/Fundraising.png
END:VEVENT
BEGIN:VEVENT
DTSTART;TZID=America/Los_Angeles:20251203T160000
DTEND;TZID=America/Los_Angeles:20251203T170000
DTSTAMP:20260420T070629
CREATED:20251005T210354Z
LAST-MODIFIED:20251005T210355Z
UID:10003659-1764777600-1764781200@wholewashington.org
SUMMARY:Fundraising Meeting
DESCRIPTION:Political movements are sustained by grassroots donations! In order to put universal healthcare on the ballot we need money to print petition sheets\, pay for website hosting\, and much more. Join us for our fundraising meeting where we get into how much money we have\, how much we’re bringing in\, how much we need to succeed\, and where we’re going to get it! \nFundraising meetings are open to anyone and are a great way to get involved with Whole Washington. \nPlease RSVP below for the Zoom link: \n \nIf the embedded form does not load or work for any reason try this direct link:\nhttps://actionnetwork.org/forms/fundraising-meeting?source=direct_link&
URL:https://wholewashington.org/event/fundraising-meeting-3-2/2025-12-03/
CATEGORIES:Team Meeting
ATTACH;FMTTYPE=image/png:https://wholewashington.org/wp-content/uploads/2024/12/Fundraising.png
END:VEVENT
BEGIN:VEVENT
DTSTART;TZID=America/Los_Angeles:20251217T160000
DTEND;TZID=America/Los_Angeles:20251217T170000
DTSTAMP:20260420T070629
CREATED:20251005T210354Z
LAST-MODIFIED:20251005T210355Z
UID:10003660-1765987200-1765990800@wholewashington.org
SUMMARY:Fundraising Meeting
DESCRIPTION:Political movements are sustained by grassroots donations! In order to put universal healthcare on the ballot we need money to print petition sheets\, pay for website hosting\, and much more. Join us for our fundraising meeting where we get into how much money we have\, how much we’re bringing in\, how much we need to succeed\, and where we’re going to get it! \nFundraising meetings are open to anyone and are a great way to get involved with Whole Washington. \nPlease RSVP below for the Zoom link: \n \nIf the embedded form does not load or work for any reason try this direct link:\nhttps://actionnetwork.org/forms/fundraising-meeting?source=direct_link&
URL:https://wholewashington.org/event/fundraising-meeting-3-2/2025-12-17/
CATEGORIES:Team Meeting
ATTACH;FMTTYPE=image/png:https://wholewashington.org/wp-content/uploads/2024/12/Fundraising.png
END:VEVENT
BEGIN:VEVENT
DTSTART;TZID=America/Los_Angeles:20251231T160000
DTEND;TZID=America/Los_Angeles:20251231T170000
DTSTAMP:20260420T070629
CREATED:20251005T210354Z
LAST-MODIFIED:20251005T210355Z
UID:10008055-1767196800-1767200400@wholewashington.org
SUMMARY:Fundraising Meeting
DESCRIPTION:Political movements are sustained by grassroots donations! In order to put universal healthcare on the ballot we need money to print petition sheets\, pay for website hosting\, and much more. Join us for our fundraising meeting where we get into how much money we have\, how much we’re bringing in\, how much we need to succeed\, and where we’re going to get it! \nFundraising meetings are open to anyone and are a great way to get involved with Whole Washington. \nPlease RSVP below for the Zoom link: \n \nIf the embedded form does not load or work for any reason try this direct link:\nhttps://actionnetwork.org/forms/fundraising-meeting?source=direct_link&
URL:https://wholewashington.org/event/fundraising-meeting-3-2/2025-12-31/
CATEGORIES:Team Meeting
ATTACH;FMTTYPE=image/png:https://wholewashington.org/wp-content/uploads/2024/12/Fundraising.png
END:VEVENT
BEGIN:VEVENT
DTSTART;TZID=America/Los_Angeles:20260114T160000
DTEND;TZID=America/Los_Angeles:20260114T170000
DTSTAMP:20260420T070629
CREATED:20251005T210354Z
LAST-MODIFIED:20251005T210355Z
UID:10003662-1768406400-1768410000@wholewashington.org
SUMMARY:Fundraising Meeting
DESCRIPTION:Political movements are sustained by grassroots donations! In order to put universal healthcare on the ballot we need money to print petition sheets\, pay for website hosting\, and much more. Join us for our fundraising meeting where we get into how much money we have\, how much we’re bringing in\, how much we need to succeed\, and where we’re going to get it! \nFundraising meetings are open to anyone and are a great way to get involved with Whole Washington. \nPlease RSVP below for the Zoom link: \n \nIf the embedded form does not load or work for any reason try this direct link:\nhttps://actionnetwork.org/forms/fundraising-meeting?source=direct_link&
URL:https://wholewashington.org/event/fundraising-meeting-3-2/2026-01-14/
CATEGORIES:Team Meeting
ATTACH;FMTTYPE=image/png:https://wholewashington.org/wp-content/uploads/2024/12/Fundraising.png
END:VEVENT
BEGIN:VEVENT
DTSTART;TZID=America/Los_Angeles:20260128T160000
DTEND;TZID=America/Los_Angeles:20260128T170000
DTSTAMP:20260420T070629
CREATED:20251005T210354Z
LAST-MODIFIED:20251005T210355Z
UID:10003663-1769616000-1769619600@wholewashington.org
SUMMARY:Fundraising Meeting
DESCRIPTION:Political movements are sustained by grassroots donations! In order to put universal healthcare on the ballot we need money to print petition sheets\, pay for website hosting\, and much more. Join us for our fundraising meeting where we get into how much money we have\, how much we’re bringing in\, how much we need to succeed\, and where we’re going to get it! \nFundraising meetings are open to anyone and are a great way to get involved with Whole Washington. \nPlease RSVP below for the Zoom link: \n \nIf the embedded form does not load or work for any reason try this direct link:\nhttps://actionnetwork.org/forms/fundraising-meeting?source=direct_link&
URL:https://wholewashington.org/event/fundraising-meeting-3-2/2026-01-28/
CATEGORIES:Team Meeting
ATTACH;FMTTYPE=image/png:https://wholewashington.org/wp-content/uploads/2024/12/Fundraising.png
END:VEVENT
BEGIN:VEVENT
DTSTART;TZID=America/Los_Angeles:20260211T160000
DTEND;TZID=America/Los_Angeles:20260211T170000
DTSTAMP:20260420T070629
CREATED:20251005T210354Z
LAST-MODIFIED:20251005T210355Z
UID:10003664-1770825600-1770829200@wholewashington.org
SUMMARY:Fundraising Meeting
DESCRIPTION:Political movements are sustained by grassroots donations! In order to put universal healthcare on the ballot we need money to print petition sheets\, pay for website hosting\, and much more. Join us for our fundraising meeting where we get into how much money we have\, how much we’re bringing in\, how much we need to succeed\, and where we’re going to get it! \nFundraising meetings are open to anyone and are a great way to get involved with Whole Washington. \nPlease RSVP below for the Zoom link: \n \nIf the embedded form does not load or work for any reason try this direct link:\nhttps://actionnetwork.org/forms/fundraising-meeting?source=direct_link&
URL:https://wholewashington.org/event/fundraising-meeting-3-2/2026-02-11/
CATEGORIES:Team Meeting
ATTACH;FMTTYPE=image/png:https://wholewashington.org/wp-content/uploads/2024/12/Fundraising.png
END:VEVENT
BEGIN:VEVENT
DTSTART;TZID=America/Los_Angeles:20260225T160000
DTEND;TZID=America/Los_Angeles:20260225T170000
DTSTAMP:20260420T070629
CREATED:20251005T210354Z
LAST-MODIFIED:20251005T210355Z
UID:10003665-1772035200-1772038800@wholewashington.org
SUMMARY:Fundraising Meeting
DESCRIPTION:Political movements are sustained by grassroots donations! In order to put universal healthcare on the ballot we need money to print petition sheets\, pay for website hosting\, and much more. Join us for our fundraising meeting where we get into how much money we have\, how much we’re bringing in\, how much we need to succeed\, and where we’re going to get it! \nFundraising meetings are open to anyone and are a great way to get involved with Whole Washington. \nPlease RSVP below for the Zoom link: \n \nIf the embedded form does not load or work for any reason try this direct link:\nhttps://actionnetwork.org/forms/fundraising-meeting?source=direct_link&
URL:https://wholewashington.org/event/fundraising-meeting-3-2/2026-02-25/
CATEGORIES:Team Meeting
ATTACH;FMTTYPE=image/png:https://wholewashington.org/wp-content/uploads/2024/12/Fundraising.png
END:VEVENT
BEGIN:VEVENT
DTSTART;TZID=America/Los_Angeles:20260311T160000
DTEND;TZID=America/Los_Angeles:20260311T170000
DTSTAMP:20260420T070629
CREATED:20251005T210354Z
LAST-MODIFIED:20251005T210355Z
UID:10003666-1773244800-1773248400@wholewashington.org
SUMMARY:Fundraising Meeting
DESCRIPTION:Political movements are sustained by grassroots donations! In order to put universal healthcare on the ballot we need money to print petition sheets\, pay for website hosting\, and much more. Join us for our fundraising meeting where we get into how much money we have\, how much we’re bringing in\, how much we need to succeed\, and where we’re going to get it! \nFundraising meetings are open to anyone and are a great way to get involved with Whole Washington. \nPlease RSVP below for the Zoom link: \n \nIf the embedded form does not load or work for any reason try this direct link:\nhttps://actionnetwork.org/forms/fundraising-meeting?source=direct_link&
URL:https://wholewashington.org/event/fundraising-meeting-3-2/2026-03-11/
CATEGORIES:Team Meeting
ATTACH;FMTTYPE=image/png:https://wholewashington.org/wp-content/uploads/2024/12/Fundraising.png
END:VEVENT
END:VCALENDAR