BEGIN:VCALENDAR
VERSION:2.0
PRODID:-//Whole Washington - ECPv6.15.20//NONSGML v1.0//EN
CALSCALE:GREGORIAN
METHOD:PUBLISH
X-WR-CALNAME:Whole Washington
X-ORIGINAL-URL:https://wholewashington.org
X-WR-CALDESC:Events for Whole Washington
REFRESH-INTERVAL;VALUE=DURATION:PT1H
X-Robots-Tag:noindex
X-PUBLISHED-TTL:PT1H
BEGIN:VTIMEZONE
TZID:America/Los_Angeles
BEGIN:DAYLIGHT
TZOFFSETFROM:-0800
TZOFFSETTO:-0700
TZNAME:PDT
DTSTART:20240310T100000
END:DAYLIGHT
BEGIN:STANDARD
TZOFFSETFROM:-0700
TZOFFSETTO:-0800
TZNAME:PST
DTSTART:20241103T090000
END:STANDARD
BEGIN:DAYLIGHT
TZOFFSETFROM:-0800
TZOFFSETTO:-0700
TZNAME:PDT
DTSTART:20250309T100000
END:DAYLIGHT
BEGIN:STANDARD
TZOFFSETFROM:-0700
TZOFFSETTO:-0800
TZNAME:PST
DTSTART:20251102T090000
END:STANDARD
BEGIN:DAYLIGHT
TZOFFSETFROM:-0800
TZOFFSETTO:-0700
TZNAME:PDT
DTSTART:20260308T100000
END:DAYLIGHT
BEGIN:STANDARD
TZOFFSETFROM:-0700
TZOFFSETTO:-0800
TZNAME:PST
DTSTART:20261101T090000
END:STANDARD
BEGIN:DAYLIGHT
TZOFFSETFROM:-0800
TZOFFSETTO:-0700
TZNAME:PDT
DTSTART:20270314T100000
END:DAYLIGHT
BEGIN:STANDARD
TZOFFSETFROM:-0700
TZOFFSETTO:-0800
TZNAME:PST
DTSTART:20271107T090000
END:STANDARD
END:VTIMEZONE
BEGIN:VEVENT
DTSTART;TZID=America/Los_Angeles:20260201T100000
DTEND;TZID=America/Los_Angeles:20260201T120000
DTSTAMP:20260423T052326
CREATED:20260127T195659Z
LAST-MODIFIED:20260127T212008Z
UID:10007569-1769940000-1769947200@wholewashington.org
SUMMARY:VANCOUVER\, Clark County Team Meeting
DESCRIPTION:Whole Washington volunteers in Clark County/Vancouver area are meeting monthly on the first Sunday of every month at 10am. \nJoin us to discuss how we can win comprehensive universal healthcare here in Washington State by doing our part in this community to organize\, advertise\, support legislation\, collect pledges to sign the next initiative\, and otherwise show up for the cause. \nFebruary meeting is: \nSunday February 1st @ Latte Da Coffee House
URL:https://wholewashington.org/event/vancouver-in-person-meeting/
LOCATION:Latte Da Coffee House\, 205 E 39th St\, Vancouver\, WA\, 98663\, United States
CATEGORIES:Clark,Volunteer local meet up
ATTACH;FMTTYPE=image/png:https://wholewashington.org/wp-content/uploads/2026/01/Clark-County-2-1.png
ORGANIZER;CN="Leah Perkel":MAILTO:Leahperkel@gmail.com
END:VEVENT
BEGIN:VEVENT
DTSTART;TZID=America/Los_Angeles:20251207T100000
DTEND;TZID=America/Los_Angeles:20251207T120000
DTSTAMP:20260423T052326
CREATED:20251114T214455Z
LAST-MODIFIED:20251121T025842Z
UID:10006668-1765101600-1765108800@wholewashington.org
SUMMARY:Clark County Team Meeting
DESCRIPTION:Clark County is meeting on the first Sunday of the month at 10 AM!\nJoin Leah and Allana for team meetings with actions to get us in position to win Universal Healthcare! \nLooking forward to another great meeting. \n 
URL:https://wholewashington.org/event/clark-county-team-meeting/
LOCATION:New Seasons Market -Fisher’s Landing (East Vancouver)\, 2100 SE 164th Ave\, Vancouver\, WA\, 98683
CATEGORIES:Clark,Team Meeting
ATTACH;FMTTYPE=image/png:https://wholewashington.org/wp-content/uploads/2025/11/Clark-County-Meeting-2-1.png
END:VEVENT
END:VCALENDAR