BEGIN:VCALENDAR
VERSION:2.0
PRODID:-//Whole Washington - ECPv6.15.20//NONSGML v1.0//EN
CALSCALE:GREGORIAN
METHOD:PUBLISH
X-WR-CALNAME:Whole Washington
X-ORIGINAL-URL:https://wholewashington.org
X-WR-CALDESC:Events for Whole Washington
REFRESH-INTERVAL;VALUE=DURATION:PT1H
X-Robots-Tag:noindex
X-PUBLISHED-TTL:PT1H
BEGIN:VTIMEZONE
TZID:America/Los_Angeles
BEGIN:DAYLIGHT
TZOFFSETFROM:-0800
TZOFFSETTO:-0700
TZNAME:PDT
DTSTART:20250309T100000
END:DAYLIGHT
BEGIN:STANDARD
TZOFFSETFROM:-0700
TZOFFSETTO:-0800
TZNAME:PST
DTSTART:20251102T090000
END:STANDARD
BEGIN:DAYLIGHT
TZOFFSETFROM:-0800
TZOFFSETTO:-0700
TZNAME:PDT
DTSTART:20260308T100000
END:DAYLIGHT
BEGIN:STANDARD
TZOFFSETFROM:-0700
TZOFFSETTO:-0800
TZNAME:PST
DTSTART:20261101T090000
END:STANDARD
BEGIN:DAYLIGHT
TZOFFSETFROM:-0800
TZOFFSETTO:-0700
TZNAME:PDT
DTSTART:20270314T100000
END:DAYLIGHT
BEGIN:STANDARD
TZOFFSETFROM:-0700
TZOFFSETTO:-0800
TZNAME:PST
DTSTART:20271107T090000
END:STANDARD
END:VTIMEZONE
BEGIN:VEVENT
DTSTART;TZID=America/Los_Angeles:20260426T183000
DTEND;TZID=America/Los_Angeles:20260426T203000
DTSTAMP:20260423T085453
CREATED:20260421T223518Z
LAST-MODIFIED:20260421T233956Z
UID:10009024-1777228200-1777235400@wholewashington.org
SUMMARY:WENATCHEE Universal Healthcare Workshop #1
DESCRIPTION:Join Whole Washington\, Faith Action Network\, and Interfaith Justice Coalition for this amazing opportunity to learn and act. \nUniversal Healthcare Workshop\n\n\n\nWhat to Expect \n\n\nA breakdown of the Washington Health Trust (WHT).\n\nThe WHT is a policy designed to provide comprehensive\, public health insurance to every resident in our state.\n\n\nInsights into how universal care benefits small businesses\, patients\, and providers.\nConcrete ways to support upcoming legislation and a ballot initiative.\n\n\nWorking together\, we will win Universal Healthcare! \n\nWe want to make sure we cover what YOU want to know. \nSubmit your questions ahead of time here!\n\nRSVP for Sunday below\n \n\n\nRSVP for Monday below
URL:https://wholewashington.org/event/wenatchee-universal-healthcare-workshop-1/
LOCATION:Host Wenatchee\, 10 S Columbian St.\, Wenatchee\, WA\, 98801
CATEGORIES:Collaborative Organization Event
ATTACH;FMTTYPE=image/png:https://wholewashington.org/wp-content/uploads/2026/04/Wenatchee-Project-e1776814885884.png
END:VEVENT
BEGIN:VEVENT
DTSTART;TZID=America/Los_Angeles:20260427T183000
DTEND;TZID=America/Los_Angeles:20260427T203000
DTSTAMP:20260423T085453
CREATED:20260421T224738Z
LAST-MODIFIED:20260421T224738Z
UID:10009025-1777314600-1777321800@wholewashington.org
SUMMARY:WENATCHEE Universal Healthcare Workshop #2
DESCRIPTION:Join Whole Washington\, Faith Action Network\, and Interfaith Justice Coalition for this amazing opportunity to learn and act. \nUniversal Healthcare Workshop\n\n\nWhat to Expect \n\n\nA breakdown of the Washington Health Trust (WHT).\n\nThe WHT is a policy designed to provide comprehensive\, public health insurance to every resident in our state.\n\n\nInsights into how universal care benefits small businesses\, patients\, and providers.\nConcrete ways to support upcoming legislation and a ballot initiative.\n\n\nWorking together\, we will win Universal Healthcare! \n\nPlease RSVP below
URL:https://wholewashington.org/event/wenatchee-universal-healthcare-workshop-2/
LOCATION:Host Wenatchee\, 10 S Columbian St.\, Wenatchee\, WA\, 98801
CATEGORIES:Collaborative Organization Event
ATTACH;FMTTYPE=image/png:https://wholewashington.org/wp-content/uploads/2026/04/Wenatchee-Project-e1776814885884.png
END:VEVENT
END:VCALENDAR