BEGIN:VCALENDAR
VERSION:2.0
PRODID:-//Whole Washington - ECPv6.15.20//NONSGML v1.0//EN
CALSCALE:GREGORIAN
METHOD:PUBLISH
X-ORIGINAL-URL:https://wholewashington.org
X-WR-CALDESC:Events for Whole Washington
REFRESH-INTERVAL;VALUE=DURATION:PT1H
X-Robots-Tag:noindex
X-PUBLISHED-TTL:PT1H
BEGIN:VTIMEZONE
TZID:America/Los_Angeles
BEGIN:DAYLIGHT
TZOFFSETFROM:-0800
TZOFFSETTO:-0700
TZNAME:PDT
DTSTART:20250309T100000
END:DAYLIGHT
BEGIN:STANDARD
TZOFFSETFROM:-0700
TZOFFSETTO:-0800
TZNAME:PST
DTSTART:20251102T090000
END:STANDARD
BEGIN:DAYLIGHT
TZOFFSETFROM:-0800
TZOFFSETTO:-0700
TZNAME:PDT
DTSTART:20260308T100000
END:DAYLIGHT
BEGIN:STANDARD
TZOFFSETFROM:-0700
TZOFFSETTO:-0800
TZNAME:PST
DTSTART:20261101T090000
END:STANDARD
BEGIN:DAYLIGHT
TZOFFSETFROM:-0800
TZOFFSETTO:-0700
TZNAME:PDT
DTSTART:20270314T100000
END:DAYLIGHT
BEGIN:STANDARD
TZOFFSETFROM:-0700
TZOFFSETTO:-0800
TZNAME:PST
DTSTART:20271107T090000
END:STANDARD
END:VTIMEZONE
BEGIN:VEVENT
DTSTART;TZID=America/Los_Angeles:20260228T080000
DTEND;TZID=America/Los_Angeles:20260228T170000
DTSTAMP:20260420T045557
CREATED:20260228T202242Z
LAST-MODIFIED:20260228T202244Z
UID:10007764-1772265600-1772298000@wholewashington.org
SUMMARY:Kitsap County In-Person Meet Up
DESCRIPTION:Join Kitsap County volunteers for our next in-person meeting! Let’s make healthcare happen!
URL:https://wholewashington.org/event/kitsap-county-in-person-meet-up/
LOCATION:Port Orchard Regional Library\, 87 Sidney Ave\, Port Orchard\, Washington\, 98366
CATEGORIES:Kitsap,Volunteer local meet up
ATTACH;FMTTYPE=image/png:https://wholewashington.org/wp-content/uploads/2026/02/Kitsap-Meet-Greet-Calendar.png
END:VEVENT
END:VCALENDAR