BEGIN:VCALENDAR
VERSION:2.0
PRODID:-//Whole Washington - ECPv6.15.20//NONSGML v1.0//EN
CALSCALE:GREGORIAN
METHOD:PUBLISH
X-WR-CALNAME:Whole Washington
X-ORIGINAL-URL:https://wholewashington.org
X-WR-CALDESC:Events for Whole Washington
REFRESH-INTERVAL;VALUE=DURATION:PT1H
X-Robots-Tag:noindex
X-PUBLISHED-TTL:PT1H
BEGIN:VTIMEZONE
TZID:America/Los_Angeles
BEGIN:DAYLIGHT
TZOFFSETFROM:-0800
TZOFFSETTO:-0700
TZNAME:PDT
DTSTART:20250309T100000
END:DAYLIGHT
BEGIN:STANDARD
TZOFFSETFROM:-0700
TZOFFSETTO:-0800
TZNAME:PST
DTSTART:20251102T090000
END:STANDARD
BEGIN:DAYLIGHT
TZOFFSETFROM:-0800
TZOFFSETTO:-0700
TZNAME:PDT
DTSTART:20260308T100000
END:DAYLIGHT
BEGIN:STANDARD
TZOFFSETFROM:-0700
TZOFFSETTO:-0800
TZNAME:PST
DTSTART:20261101T090000
END:STANDARD
BEGIN:DAYLIGHT
TZOFFSETFROM:-0800
TZOFFSETTO:-0700
TZNAME:PDT
DTSTART:20270314T100000
END:DAYLIGHT
BEGIN:STANDARD
TZOFFSETFROM:-0700
TZOFFSETTO:-0800
TZNAME:PST
DTSTART:20271107T090000
END:STANDARD
END:VTIMEZONE
BEGIN:VEVENT
DTSTART;TZID=America/Los_Angeles:20260412T140000
DTEND;TZID=America/Los_Angeles:20260412T153000
DTSTAMP:20260420T015848
CREATED:20260404T001302Z
LAST-MODIFIED:20260405T221936Z
UID:10007431-1776002400-1776007800@wholewashington.org
SUMMARY:Whatcom County Monthly Meetup
DESCRIPTION:Join your fellow Whatcom County Whole Washington volunteers for our monthly in-person meet-up. Let’s talk policy\, action\, and how to get universal healthcare to Washington state.
URL:https://wholewashington.org/event/whatcom-county-monthly-meetup-04-12-26/
LOCATION:Stone’s Throw Brewery\, 1009 Larrabee Ave\, Bellingham\, WA\, 98225\, United States
CATEGORIES:Volunteer local meet up,Whatcom
ATTACH;FMTTYPE=image/png:https://wholewashington.org/wp-content/uploads/2026/01/Whatcom-County-1.png
END:VEVENT
BEGIN:VEVENT
DTSTART;TZID=America/Los_Angeles:20260301T140000
DTEND;TZID=America/Los_Angeles:20260301T153000
DTSTAMP:20260420T015848
CREATED:20260228T192253Z
LAST-MODIFIED:20260228T192256Z
UID:10007430-1772373600-1772379000@wholewashington.org
SUMMARY:Whatcom County Monthly Meeting
DESCRIPTION:Join your fellow Whatcom County Whole Washington volunteers for our monthly in-person meet-up. Let’s talk policy\, action\, and how to get universal healthcare to Washington state. \nRSVP Here! \n<link href=’https://actionnetwork.org/css/style-embed-v3.css’ rel=’stylesheet’ type=’text/css’ /><script src=’https://actionnetwork.org/widgets/v6/event/whatcom-county-meetup-3?format=js&source=widget’></script><div id=’can-event-area-whatcom-county-meetup-3′ style=’width: 100%’><!– this div is the target for our HTML insertion –></div>
URL:https://wholewashington.org/event/whatcom-county-monthly-meeting-2-2/
LOCATION:Stone’s Throw Brewery\, 1009 Larrabee Ave\, Bellingham\, WA\, 98225\, United States
CATEGORIES:Volunteer local meet up,Whatcom
ATTACH;FMTTYPE=image/png:https://wholewashington.org/wp-content/uploads/2026/01/Whatcom-County-1.png
END:VEVENT
BEGIN:VEVENT
DTSTART;TZID=America/Los_Angeles:20260208T140000
DTEND;TZID=America/Los_Angeles:20260208T153000
DTSTAMP:20260420T015848
CREATED:20260113T200745Z
LAST-MODIFIED:20260207T194726Z
UID:10007428-1770559200-1770564600@wholewashington.org
SUMMARY:BELLINGHAM Whatcom County Monthly Meetup
DESCRIPTION:Join your fellow Whatcom County Whole Washington volunteers for our monthly in-person meet-up. Let’s talk policy\, action\, and how to get universal healthcare to Washington state. \nRSVP HERE
URL:https://wholewashington.org/event/whatcom-county-monthly-meeting/
LOCATION:Stone’s Throw Brewery\, 1009 Larrabee Ave\, Bellingham\, WA\, 98225\, United States
CATEGORIES:Volunteer local meet up,Whatcom
ATTACH;FMTTYPE=image/png:https://wholewashington.org/wp-content/uploads/2026/01/Whatcom-County.png
END:VEVENT
END:VCALENDAR