BEGIN:VCALENDAR
VERSION:2.0
PRODID:-//Whole Washington - ECPv6.15.20//NONSGML v1.0//EN
CALSCALE:GREGORIAN
METHOD:PUBLISH
X-WR-CALNAME:Whole Washington
X-ORIGINAL-URL:https://wholewashington.org
X-WR-CALDESC:Events for Whole Washington
REFRESH-INTERVAL;VALUE=DURATION:PT1H
X-Robots-Tag:noindex
X-PUBLISHED-TTL:PT1H
BEGIN:VTIMEZONE
TZID:America/Los_Angeles
BEGIN:DAYLIGHT
TZOFFSETFROM:-0800
TZOFFSETTO:-0700
TZNAME:PDT
DTSTART:20270314T100000
END:DAYLIGHT
BEGIN:STANDARD
TZOFFSETFROM:-0700
TZOFFSETTO:-0800
TZNAME:PST
DTSTART:20271107T090000
END:STANDARD
BEGIN:DAYLIGHT
TZOFFSETFROM:-0800
TZOFFSETTO:-0700
TZNAME:PDT
DTSTART:20280312T100000
END:DAYLIGHT
BEGIN:STANDARD
TZOFFSETFROM:-0700
TZOFFSETTO:-0800
TZNAME:PST
DTSTART:20281105T090000
END:STANDARD
BEGIN:DAYLIGHT
TZOFFSETFROM:-0800
TZOFFSETTO:-0700
TZNAME:PDT
DTSTART:20290311T100000
END:DAYLIGHT
BEGIN:STANDARD
TZOFFSETFROM:-0700
TZOFFSETTO:-0800
TZNAME:PST
DTSTART:20291104T090000
END:STANDARD
BEGIN:DAYLIGHT
TZOFFSETFROM:-0800
TZOFFSETTO:-0700
TZNAME:PDT
DTSTART:20300310T100000
END:DAYLIGHT
BEGIN:STANDARD
TZOFFSETFROM:-0700
TZOFFSETTO:-0800
TZNAME:PST
DTSTART:20301103T090000
END:STANDARD
BEGIN:DAYLIGHT
TZOFFSETFROM:-0800
TZOFFSETTO:-0700
TZNAME:PDT
DTSTART:20310309T100000
END:DAYLIGHT
BEGIN:STANDARD
TZOFFSETFROM:-0700
TZOFFSETTO:-0800
TZNAME:PST
DTSTART:20311102T090000
END:STANDARD
END:VTIMEZONE
BEGIN:VEVENT
DTSTART;TZID=America/Los_Angeles:20280507T140000
DTEND;TZID=America/Los_Angeles:20280507T153000
DTSTAMP:20260420T032858
CREATED:20260113T200950Z
LAST-MODIFIED:20260405T221629Z
UID:10007456-1841320800-1841326200@wholewashington.org
SUMMARY:Whatcom County Monthly Meetup
DESCRIPTION:Join your fellow Whatcom County Whole Washington volunteers for our monthly in-person meet-up. Let’s talk policy\, action\, and how to get universal healthcare to Washington state.
URL:https://wholewashington.org/event/whatcom-county-monthly-meeting-2/2028-05-07/
LOCATION:Stone’s Throw Brewery\, 1009 Larrabee Ave\, Bellingham\, WA\, 98225\, United States
CATEGORIES:Volunteer local meet up,Whatcom
ATTACH;FMTTYPE=image/png:https://wholewashington.org/wp-content/uploads/2026/01/Whatcom-County-1.png
END:VEVENT
BEGIN:VEVENT
DTSTART;TZID=America/Los_Angeles:20280604T140000
DTEND;TZID=America/Los_Angeles:20280604T153000
DTSTAMP:20260420T032858
CREATED:20260113T200950Z
LAST-MODIFIED:20260405T221629Z
UID:10007457-1843740000-1843745400@wholewashington.org
SUMMARY:Whatcom County Monthly Meetup
DESCRIPTION:Join your fellow Whatcom County Whole Washington volunteers for our monthly in-person meet-up. Let’s talk policy\, action\, and how to get universal healthcare to Washington state.
URL:https://wholewashington.org/event/whatcom-county-monthly-meeting-2/2028-06-04/
LOCATION:Stone’s Throw Brewery\, 1009 Larrabee Ave\, Bellingham\, WA\, 98225\, United States
CATEGORIES:Volunteer local meet up,Whatcom
ATTACH;FMTTYPE=image/png:https://wholewashington.org/wp-content/uploads/2026/01/Whatcom-County-1.png
END:VEVENT
BEGIN:VEVENT
DTSTART;TZID=America/Los_Angeles:20280702T140000
DTEND;TZID=America/Los_Angeles:20280702T153000
DTSTAMP:20260420T032858
CREATED:20260113T200950Z
LAST-MODIFIED:20260405T221629Z
UID:10007458-1846159200-1846164600@wholewashington.org
SUMMARY:Whatcom County Monthly Meetup
DESCRIPTION:Join your fellow Whatcom County Whole Washington volunteers for our monthly in-person meet-up. Let’s talk policy\, action\, and how to get universal healthcare to Washington state.
URL:https://wholewashington.org/event/whatcom-county-monthly-meeting-2/2028-07-02/
LOCATION:Stone’s Throw Brewery\, 1009 Larrabee Ave\, Bellingham\, WA\, 98225\, United States
CATEGORIES:Volunteer local meet up,Whatcom
ATTACH;FMTTYPE=image/png:https://wholewashington.org/wp-content/uploads/2026/01/Whatcom-County-1.png
END:VEVENT
BEGIN:VEVENT
DTSTART;TZID=America/Los_Angeles:20280806T140000
DTEND;TZID=America/Los_Angeles:20280806T153000
DTSTAMP:20260420T032858
CREATED:20260113T200950Z
LAST-MODIFIED:20260405T221629Z
UID:10007459-1849183200-1849188600@wholewashington.org
SUMMARY:Whatcom County Monthly Meetup
DESCRIPTION:Join your fellow Whatcom County Whole Washington volunteers for our monthly in-person meet-up. Let’s talk policy\, action\, and how to get universal healthcare to Washington state.
URL:https://wholewashington.org/event/whatcom-county-monthly-meeting-2/2028-08-06/
LOCATION:Stone’s Throw Brewery\, 1009 Larrabee Ave\, Bellingham\, WA\, 98225\, United States
CATEGORIES:Volunteer local meet up,Whatcom
ATTACH;FMTTYPE=image/png:https://wholewashington.org/wp-content/uploads/2026/01/Whatcom-County-1.png
END:VEVENT
BEGIN:VEVENT
DTSTART;TZID=America/Los_Angeles:20280903T140000
DTEND;TZID=America/Los_Angeles:20280903T153000
DTSTAMP:20260420T032858
CREATED:20260113T200950Z
LAST-MODIFIED:20260405T221629Z
UID:10007460-1851602400-1851607800@wholewashington.org
SUMMARY:Whatcom County Monthly Meetup
DESCRIPTION:Join your fellow Whatcom County Whole Washington volunteers for our monthly in-person meet-up. Let’s talk policy\, action\, and how to get universal healthcare to Washington state.
URL:https://wholewashington.org/event/whatcom-county-monthly-meeting-2/2028-09-03/
LOCATION:Stone’s Throw Brewery\, 1009 Larrabee Ave\, Bellingham\, WA\, 98225\, United States
CATEGORIES:Volunteer local meet up,Whatcom
ATTACH;FMTTYPE=image/png:https://wholewashington.org/wp-content/uploads/2026/01/Whatcom-County-1.png
END:VEVENT
BEGIN:VEVENT
DTSTART;TZID=America/Los_Angeles:20281001T140000
DTEND;TZID=America/Los_Angeles:20281001T153000
DTSTAMP:20260420T032858
CREATED:20260113T200950Z
LAST-MODIFIED:20260405T221629Z
UID:10007461-1854021600-1854027000@wholewashington.org
SUMMARY:Whatcom County Monthly Meetup
DESCRIPTION:Join your fellow Whatcom County Whole Washington volunteers for our monthly in-person meet-up. Let’s talk policy\, action\, and how to get universal healthcare to Washington state.
URL:https://wholewashington.org/event/whatcom-county-monthly-meeting-2/2028-10-01/
LOCATION:Stone’s Throw Brewery\, 1009 Larrabee Ave\, Bellingham\, WA\, 98225\, United States
CATEGORIES:Volunteer local meet up,Whatcom
ATTACH;FMTTYPE=image/png:https://wholewashington.org/wp-content/uploads/2026/01/Whatcom-County-1.png
END:VEVENT
BEGIN:VEVENT
DTSTART;TZID=America/Los_Angeles:20281105T140000
DTEND;TZID=America/Los_Angeles:20281105T153000
DTSTAMP:20260420T032858
CREATED:20260113T200950Z
LAST-MODIFIED:20260405T221629Z
UID:10007462-1857045600-1857051000@wholewashington.org
SUMMARY:Whatcom County Monthly Meetup
DESCRIPTION:Join your fellow Whatcom County Whole Washington volunteers for our monthly in-person meet-up. Let’s talk policy\, action\, and how to get universal healthcare to Washington state.
URL:https://wholewashington.org/event/whatcom-county-monthly-meeting-2/2028-11-05/
LOCATION:Stone’s Throw Brewery\, 1009 Larrabee Ave\, Bellingham\, WA\, 98225\, United States
CATEGORIES:Volunteer local meet up,Whatcom
ATTACH;FMTTYPE=image/png:https://wholewashington.org/wp-content/uploads/2026/01/Whatcom-County-1.png
END:VEVENT
BEGIN:VEVENT
DTSTART;TZID=America/Los_Angeles:20281203T140000
DTEND;TZID=America/Los_Angeles:20281203T153000
DTSTAMP:20260420T032858
CREATED:20260113T200950Z
LAST-MODIFIED:20260405T221629Z
UID:10007463-1859464800-1859470200@wholewashington.org
SUMMARY:Whatcom County Monthly Meetup
DESCRIPTION:Join your fellow Whatcom County Whole Washington volunteers for our monthly in-person meet-up. Let’s talk policy\, action\, and how to get universal healthcare to Washington state.
URL:https://wholewashington.org/event/whatcom-county-monthly-meeting-2/2028-12-03/
LOCATION:Stone’s Throw Brewery\, 1009 Larrabee Ave\, Bellingham\, WA\, 98225\, United States
CATEGORIES:Volunteer local meet up,Whatcom
ATTACH;FMTTYPE=image/png:https://wholewashington.org/wp-content/uploads/2026/01/Whatcom-County-1.png
END:VEVENT
BEGIN:VEVENT
DTSTART;TZID=America/Los_Angeles:20290107T140000
DTEND;TZID=America/Los_Angeles:20290107T153000
DTSTAMP:20260420T032858
CREATED:20260113T200950Z
LAST-MODIFIED:20260405T221629Z
UID:10007464-1862488800-1862494200@wholewashington.org
SUMMARY:Whatcom County Monthly Meetup
DESCRIPTION:Join your fellow Whatcom County Whole Washington volunteers for our monthly in-person meet-up. Let’s talk policy\, action\, and how to get universal healthcare to Washington state.
URL:https://wholewashington.org/event/whatcom-county-monthly-meeting-2/2029-01-07/
LOCATION:Stone’s Throw Brewery\, 1009 Larrabee Ave\, Bellingham\, WA\, 98225\, United States
CATEGORIES:Volunteer local meet up,Whatcom
ATTACH;FMTTYPE=image/png:https://wholewashington.org/wp-content/uploads/2026/01/Whatcom-County-1.png
END:VEVENT
BEGIN:VEVENT
DTSTART;TZID=America/Los_Angeles:20290204T140000
DTEND;TZID=America/Los_Angeles:20290204T153000
DTSTAMP:20260420T032858
CREATED:20260113T200950Z
LAST-MODIFIED:20260405T221629Z
UID:10007465-1864908000-1864913400@wholewashington.org
SUMMARY:Whatcom County Monthly Meetup
DESCRIPTION:Join your fellow Whatcom County Whole Washington volunteers for our monthly in-person meet-up. Let’s talk policy\, action\, and how to get universal healthcare to Washington state.
URL:https://wholewashington.org/event/whatcom-county-monthly-meeting-2/2029-02-04/
LOCATION:Stone’s Throw Brewery\, 1009 Larrabee Ave\, Bellingham\, WA\, 98225\, United States
CATEGORIES:Volunteer local meet up,Whatcom
ATTACH;FMTTYPE=image/png:https://wholewashington.org/wp-content/uploads/2026/01/Whatcom-County-1.png
END:VEVENT
BEGIN:VEVENT
DTSTART;TZID=America/Los_Angeles:20290304T140000
DTEND;TZID=America/Los_Angeles:20290304T153000
DTSTAMP:20260420T032858
CREATED:20260113T200950Z
LAST-MODIFIED:20260405T221629Z
UID:10007466-1867327200-1867332600@wholewashington.org
SUMMARY:Whatcom County Monthly Meetup
DESCRIPTION:Join your fellow Whatcom County Whole Washington volunteers for our monthly in-person meet-up. Let’s talk policy\, action\, and how to get universal healthcare to Washington state.
URL:https://wholewashington.org/event/whatcom-county-monthly-meeting-2/2029-03-04/
LOCATION:Stone’s Throw Brewery\, 1009 Larrabee Ave\, Bellingham\, WA\, 98225\, United States
CATEGORIES:Volunteer local meet up,Whatcom
ATTACH;FMTTYPE=image/png:https://wholewashington.org/wp-content/uploads/2026/01/Whatcom-County-1.png
END:VEVENT
BEGIN:VEVENT
DTSTART;TZID=America/Los_Angeles:20290401T140000
DTEND;TZID=America/Los_Angeles:20290401T153000
DTSTAMP:20260420T032858
CREATED:20260113T200950Z
LAST-MODIFIED:20260405T221629Z
UID:10007467-1869746400-1869751800@wholewashington.org
SUMMARY:Whatcom County Monthly Meetup
DESCRIPTION:Join your fellow Whatcom County Whole Washington volunteers for our monthly in-person meet-up. Let’s talk policy\, action\, and how to get universal healthcare to Washington state.
URL:https://wholewashington.org/event/whatcom-county-monthly-meeting-2/2029-04-01/
LOCATION:Stone’s Throw Brewery\, 1009 Larrabee Ave\, Bellingham\, WA\, 98225\, United States
CATEGORIES:Volunteer local meet up,Whatcom
ATTACH;FMTTYPE=image/png:https://wholewashington.org/wp-content/uploads/2026/01/Whatcom-County-1.png
END:VEVENT
BEGIN:VEVENT
DTSTART;TZID=America/Los_Angeles:20290506T140000
DTEND;TZID=America/Los_Angeles:20290506T153000
DTSTAMP:20260420T032858
CREATED:20260113T200950Z
LAST-MODIFIED:20260405T221629Z
UID:10007468-1872770400-1872775800@wholewashington.org
SUMMARY:Whatcom County Monthly Meetup
DESCRIPTION:Join your fellow Whatcom County Whole Washington volunteers for our monthly in-person meet-up. Let’s talk policy\, action\, and how to get universal healthcare to Washington state.
URL:https://wholewashington.org/event/whatcom-county-monthly-meeting-2/2029-05-06/
LOCATION:Stone’s Throw Brewery\, 1009 Larrabee Ave\, Bellingham\, WA\, 98225\, United States
CATEGORIES:Volunteer local meet up,Whatcom
ATTACH;FMTTYPE=image/png:https://wholewashington.org/wp-content/uploads/2026/01/Whatcom-County-1.png
END:VEVENT
BEGIN:VEVENT
DTSTART;TZID=America/Los_Angeles:20290603T140000
DTEND;TZID=America/Los_Angeles:20290603T153000
DTSTAMP:20260420T032858
CREATED:20260113T200950Z
LAST-MODIFIED:20260405T221629Z
UID:10007469-1875189600-1875195000@wholewashington.org
SUMMARY:Whatcom County Monthly Meetup
DESCRIPTION:Join your fellow Whatcom County Whole Washington volunteers for our monthly in-person meet-up. Let’s talk policy\, action\, and how to get universal healthcare to Washington state.
URL:https://wholewashington.org/event/whatcom-county-monthly-meeting-2/2029-06-03/
LOCATION:Stone’s Throw Brewery\, 1009 Larrabee Ave\, Bellingham\, WA\, 98225\, United States
CATEGORIES:Volunteer local meet up,Whatcom
ATTACH;FMTTYPE=image/png:https://wholewashington.org/wp-content/uploads/2026/01/Whatcom-County-1.png
END:VEVENT
BEGIN:VEVENT
DTSTART;TZID=America/Los_Angeles:20290701T140000
DTEND;TZID=America/Los_Angeles:20290701T153000
DTSTAMP:20260420T032858
CREATED:20260113T200950Z
LAST-MODIFIED:20260405T221629Z
UID:10007470-1877608800-1877614200@wholewashington.org
SUMMARY:Whatcom County Monthly Meetup
DESCRIPTION:Join your fellow Whatcom County Whole Washington volunteers for our monthly in-person meet-up. Let’s talk policy\, action\, and how to get universal healthcare to Washington state.
URL:https://wholewashington.org/event/whatcom-county-monthly-meeting-2/2029-07-01/
LOCATION:Stone’s Throw Brewery\, 1009 Larrabee Ave\, Bellingham\, WA\, 98225\, United States
CATEGORIES:Volunteer local meet up,Whatcom
ATTACH;FMTTYPE=image/png:https://wholewashington.org/wp-content/uploads/2026/01/Whatcom-County-1.png
END:VEVENT
BEGIN:VEVENT
DTSTART;TZID=America/Los_Angeles:20290805T140000
DTEND;TZID=America/Los_Angeles:20290805T153000
DTSTAMP:20260420T032858
CREATED:20260113T200950Z
LAST-MODIFIED:20260405T221629Z
UID:10007471-1880632800-1880638200@wholewashington.org
SUMMARY:Whatcom County Monthly Meetup
DESCRIPTION:Join your fellow Whatcom County Whole Washington volunteers for our monthly in-person meet-up. Let’s talk policy\, action\, and how to get universal healthcare to Washington state.
URL:https://wholewashington.org/event/whatcom-county-monthly-meeting-2/2029-08-05/
LOCATION:Stone’s Throw Brewery\, 1009 Larrabee Ave\, Bellingham\, WA\, 98225\, United States
CATEGORIES:Volunteer local meet up,Whatcom
ATTACH;FMTTYPE=image/png:https://wholewashington.org/wp-content/uploads/2026/01/Whatcom-County-1.png
END:VEVENT
BEGIN:VEVENT
DTSTART;TZID=America/Los_Angeles:20290902T140000
DTEND;TZID=America/Los_Angeles:20290902T153000
DTSTAMP:20260420T032858
CREATED:20260113T200950Z
LAST-MODIFIED:20260405T221629Z
UID:10007472-1883052000-1883057400@wholewashington.org
SUMMARY:Whatcom County Monthly Meetup
DESCRIPTION:Join your fellow Whatcom County Whole Washington volunteers for our monthly in-person meet-up. Let’s talk policy\, action\, and how to get universal healthcare to Washington state.
URL:https://wholewashington.org/event/whatcom-county-monthly-meeting-2/2029-09-02/
LOCATION:Stone’s Throw Brewery\, 1009 Larrabee Ave\, Bellingham\, WA\, 98225\, United States
CATEGORIES:Volunteer local meet up,Whatcom
ATTACH;FMTTYPE=image/png:https://wholewashington.org/wp-content/uploads/2026/01/Whatcom-County-1.png
END:VEVENT
BEGIN:VEVENT
DTSTART;TZID=America/Los_Angeles:20291007T140000
DTEND;TZID=America/Los_Angeles:20291007T153000
DTSTAMP:20260420T032858
CREATED:20260113T200950Z
LAST-MODIFIED:20260405T221629Z
UID:10007473-1886076000-1886081400@wholewashington.org
SUMMARY:Whatcom County Monthly Meetup
DESCRIPTION:Join your fellow Whatcom County Whole Washington volunteers for our monthly in-person meet-up. Let’s talk policy\, action\, and how to get universal healthcare to Washington state.
URL:https://wholewashington.org/event/whatcom-county-monthly-meeting-2/2029-10-07/
LOCATION:Stone’s Throw Brewery\, 1009 Larrabee Ave\, Bellingham\, WA\, 98225\, United States
CATEGORIES:Volunteer local meet up,Whatcom
ATTACH;FMTTYPE=image/png:https://wholewashington.org/wp-content/uploads/2026/01/Whatcom-County-1.png
END:VEVENT
BEGIN:VEVENT
DTSTART;TZID=America/Los_Angeles:20291104T140000
DTEND;TZID=America/Los_Angeles:20291104T153000
DTSTAMP:20260420T032858
CREATED:20260113T200950Z
LAST-MODIFIED:20260405T221629Z
UID:10007474-1888495200-1888500600@wholewashington.org
SUMMARY:Whatcom County Monthly Meetup
DESCRIPTION:Join your fellow Whatcom County Whole Washington volunteers for our monthly in-person meet-up. Let’s talk policy\, action\, and how to get universal healthcare to Washington state.
URL:https://wholewashington.org/event/whatcom-county-monthly-meeting-2/2029-11-04/
LOCATION:Stone’s Throw Brewery\, 1009 Larrabee Ave\, Bellingham\, WA\, 98225\, United States
CATEGORIES:Volunteer local meet up,Whatcom
ATTACH;FMTTYPE=image/png:https://wholewashington.org/wp-content/uploads/2026/01/Whatcom-County-1.png
END:VEVENT
BEGIN:VEVENT
DTSTART;TZID=America/Los_Angeles:20291202T140000
DTEND;TZID=America/Los_Angeles:20291202T153000
DTSTAMP:20260420T032858
CREATED:20260113T200950Z
LAST-MODIFIED:20260405T221629Z
UID:10007475-1890914400-1890919800@wholewashington.org
SUMMARY:Whatcom County Monthly Meetup
DESCRIPTION:Join your fellow Whatcom County Whole Washington volunteers for our monthly in-person meet-up. Let’s talk policy\, action\, and how to get universal healthcare to Washington state.
URL:https://wholewashington.org/event/whatcom-county-monthly-meeting-2/2029-12-02/
LOCATION:Stone’s Throw Brewery\, 1009 Larrabee Ave\, Bellingham\, WA\, 98225\, United States
CATEGORIES:Volunteer local meet up,Whatcom
ATTACH;FMTTYPE=image/png:https://wholewashington.org/wp-content/uploads/2026/01/Whatcom-County-1.png
END:VEVENT
BEGIN:VEVENT
DTSTART;TZID=America/Los_Angeles:20300106T140000
DTEND;TZID=America/Los_Angeles:20300106T153000
DTSTAMP:20260420T032858
CREATED:20260113T200950Z
LAST-MODIFIED:20260405T221629Z
UID:10007476-1893938400-1893943800@wholewashington.org
SUMMARY:Whatcom County Monthly Meetup
DESCRIPTION:Join your fellow Whatcom County Whole Washington volunteers for our monthly in-person meet-up. Let’s talk policy\, action\, and how to get universal healthcare to Washington state.
URL:https://wholewashington.org/event/whatcom-county-monthly-meeting-2/2030-01-06/
LOCATION:Stone’s Throw Brewery\, 1009 Larrabee Ave\, Bellingham\, WA\, 98225\, United States
CATEGORIES:Volunteer local meet up,Whatcom
ATTACH;FMTTYPE=image/png:https://wholewashington.org/wp-content/uploads/2026/01/Whatcom-County-1.png
END:VEVENT
BEGIN:VEVENT
DTSTART;TZID=America/Los_Angeles:20300203T140000
DTEND;TZID=America/Los_Angeles:20300203T153000
DTSTAMP:20260420T032858
CREATED:20260113T200950Z
LAST-MODIFIED:20260405T221629Z
UID:10007477-1896357600-1896363000@wholewashington.org
SUMMARY:Whatcom County Monthly Meetup
DESCRIPTION:Join your fellow Whatcom County Whole Washington volunteers for our monthly in-person meet-up. Let’s talk policy\, action\, and how to get universal healthcare to Washington state.
URL:https://wholewashington.org/event/whatcom-county-monthly-meeting-2/2030-02-03/
LOCATION:Stone’s Throw Brewery\, 1009 Larrabee Ave\, Bellingham\, WA\, 98225\, United States
CATEGORIES:Volunteer local meet up,Whatcom
ATTACH;FMTTYPE=image/png:https://wholewashington.org/wp-content/uploads/2026/01/Whatcom-County-1.png
END:VEVENT
BEGIN:VEVENT
DTSTART;TZID=America/Los_Angeles:20300303T140000
DTEND;TZID=America/Los_Angeles:20300303T153000
DTSTAMP:20260420T032858
CREATED:20260113T200950Z
LAST-MODIFIED:20260405T221629Z
UID:10007478-1898776800-1898782200@wholewashington.org
SUMMARY:Whatcom County Monthly Meetup
DESCRIPTION:Join your fellow Whatcom County Whole Washington volunteers for our monthly in-person meet-up. Let’s talk policy\, action\, and how to get universal healthcare to Washington state.
URL:https://wholewashington.org/event/whatcom-county-monthly-meeting-2/2030-03-03/
LOCATION:Stone’s Throw Brewery\, 1009 Larrabee Ave\, Bellingham\, WA\, 98225\, United States
CATEGORIES:Volunteer local meet up,Whatcom
ATTACH;FMTTYPE=image/png:https://wholewashington.org/wp-content/uploads/2026/01/Whatcom-County-1.png
END:VEVENT
BEGIN:VEVENT
DTSTART;TZID=America/Los_Angeles:20300407T140000
DTEND;TZID=America/Los_Angeles:20300407T153000
DTSTAMP:20260420T032858
CREATED:20260113T200950Z
LAST-MODIFIED:20260405T221629Z
UID:10007479-1901800800-1901806200@wholewashington.org
SUMMARY:Whatcom County Monthly Meetup
DESCRIPTION:Join your fellow Whatcom County Whole Washington volunteers for our monthly in-person meet-up. Let’s talk policy\, action\, and how to get universal healthcare to Washington state.
URL:https://wholewashington.org/event/whatcom-county-monthly-meeting-2/2030-04-07/
LOCATION:Stone’s Throw Brewery\, 1009 Larrabee Ave\, Bellingham\, WA\, 98225\, United States
CATEGORIES:Volunteer local meet up,Whatcom
ATTACH;FMTTYPE=image/png:https://wholewashington.org/wp-content/uploads/2026/01/Whatcom-County-1.png
END:VEVENT
BEGIN:VEVENT
DTSTART;TZID=America/Los_Angeles:20300505T140000
DTEND;TZID=America/Los_Angeles:20300505T153000
DTSTAMP:20260420T032858
CREATED:20260113T200950Z
LAST-MODIFIED:20260405T221629Z
UID:10007480-1904220000-1904225400@wholewashington.org
SUMMARY:Whatcom County Monthly Meetup
DESCRIPTION:Join your fellow Whatcom County Whole Washington volunteers for our monthly in-person meet-up. Let’s talk policy\, action\, and how to get universal healthcare to Washington state.
URL:https://wholewashington.org/event/whatcom-county-monthly-meeting-2/2030-05-05/
LOCATION:Stone’s Throw Brewery\, 1009 Larrabee Ave\, Bellingham\, WA\, 98225\, United States
CATEGORIES:Volunteer local meet up,Whatcom
ATTACH;FMTTYPE=image/png:https://wholewashington.org/wp-content/uploads/2026/01/Whatcom-County-1.png
END:VEVENT
BEGIN:VEVENT
DTSTART;TZID=America/Los_Angeles:20300602T140000
DTEND;TZID=America/Los_Angeles:20300602T153000
DTSTAMP:20260420T032858
CREATED:20260113T200950Z
LAST-MODIFIED:20260405T221629Z
UID:10007481-1906639200-1906644600@wholewashington.org
SUMMARY:Whatcom County Monthly Meetup
DESCRIPTION:Join your fellow Whatcom County Whole Washington volunteers for our monthly in-person meet-up. Let’s talk policy\, action\, and how to get universal healthcare to Washington state.
URL:https://wholewashington.org/event/whatcom-county-monthly-meeting-2/2030-06-02/
LOCATION:Stone’s Throw Brewery\, 1009 Larrabee Ave\, Bellingham\, WA\, 98225\, United States
CATEGORIES:Volunteer local meet up,Whatcom
ATTACH;FMTTYPE=image/png:https://wholewashington.org/wp-content/uploads/2026/01/Whatcom-County-1.png
END:VEVENT
BEGIN:VEVENT
DTSTART;TZID=America/Los_Angeles:20300707T140000
DTEND;TZID=America/Los_Angeles:20300707T153000
DTSTAMP:20260420T032858
CREATED:20260113T200950Z
LAST-MODIFIED:20260405T221629Z
UID:10007482-1909663200-1909668600@wholewashington.org
SUMMARY:Whatcom County Monthly Meetup
DESCRIPTION:Join your fellow Whatcom County Whole Washington volunteers for our monthly in-person meet-up. Let’s talk policy\, action\, and how to get universal healthcare to Washington state.
URL:https://wholewashington.org/event/whatcom-county-monthly-meeting-2/2030-07-07/
LOCATION:Stone’s Throw Brewery\, 1009 Larrabee Ave\, Bellingham\, WA\, 98225\, United States
CATEGORIES:Volunteer local meet up,Whatcom
ATTACH;FMTTYPE=image/png:https://wholewashington.org/wp-content/uploads/2026/01/Whatcom-County-1.png
END:VEVENT
BEGIN:VEVENT
DTSTART;TZID=America/Los_Angeles:20300804T140000
DTEND;TZID=America/Los_Angeles:20300804T153000
DTSTAMP:20260420T032858
CREATED:20260113T200950Z
LAST-MODIFIED:20260405T221629Z
UID:10007483-1912082400-1912087800@wholewashington.org
SUMMARY:Whatcom County Monthly Meetup
DESCRIPTION:Join your fellow Whatcom County Whole Washington volunteers for our monthly in-person meet-up. Let’s talk policy\, action\, and how to get universal healthcare to Washington state.
URL:https://wholewashington.org/event/whatcom-county-monthly-meeting-2/2030-08-04/
LOCATION:Stone’s Throw Brewery\, 1009 Larrabee Ave\, Bellingham\, WA\, 98225\, United States
CATEGORIES:Volunteer local meet up,Whatcom
ATTACH;FMTTYPE=image/png:https://wholewashington.org/wp-content/uploads/2026/01/Whatcom-County-1.png
END:VEVENT
BEGIN:VEVENT
DTSTART;TZID=America/Los_Angeles:20300901T140000
DTEND;TZID=America/Los_Angeles:20300901T153000
DTSTAMP:20260420T032858
CREATED:20260113T200950Z
LAST-MODIFIED:20260405T221629Z
UID:10007484-1914501600-1914507000@wholewashington.org
SUMMARY:Whatcom County Monthly Meetup
DESCRIPTION:Join your fellow Whatcom County Whole Washington volunteers for our monthly in-person meet-up. Let’s talk policy\, action\, and how to get universal healthcare to Washington state.
URL:https://wholewashington.org/event/whatcom-county-monthly-meeting-2/2030-09-01/
LOCATION:Stone’s Throw Brewery\, 1009 Larrabee Ave\, Bellingham\, WA\, 98225\, United States
CATEGORIES:Volunteer local meet up,Whatcom
ATTACH;FMTTYPE=image/png:https://wholewashington.org/wp-content/uploads/2026/01/Whatcom-County-1.png
END:VEVENT
BEGIN:VEVENT
DTSTART;TZID=America/Los_Angeles:20301006T140000
DTEND;TZID=America/Los_Angeles:20301006T153000
DTSTAMP:20260420T032858
CREATED:20260113T200950Z
LAST-MODIFIED:20260405T221629Z
UID:10007485-1917525600-1917531000@wholewashington.org
SUMMARY:Whatcom County Monthly Meetup
DESCRIPTION:Join your fellow Whatcom County Whole Washington volunteers for our monthly in-person meet-up. Let’s talk policy\, action\, and how to get universal healthcare to Washington state.
URL:https://wholewashington.org/event/whatcom-county-monthly-meeting-2/2030-10-06/
LOCATION:Stone’s Throw Brewery\, 1009 Larrabee Ave\, Bellingham\, WA\, 98225\, United States
CATEGORIES:Volunteer local meet up,Whatcom
ATTACH;FMTTYPE=image/png:https://wholewashington.org/wp-content/uploads/2026/01/Whatcom-County-1.png
END:VEVENT
END:VCALENDAR